BEGIN:VCALENDAR
VERSION:2.0
PRODID:-//Marvin Memorial Library - ECPv6.15.18//NONSGML v1.0//EN
CALSCALE:GREGORIAN
METHOD:PUBLISH
X-WR-CALNAME:Marvin Memorial Library
X-ORIGINAL-URL:https://marvinlibrary.org
X-WR-CALDESC:Events for Marvin Memorial Library
REFRESH-INTERVAL;VALUE=DURATION:PT1H
X-Robots-Tag:noindex
X-PUBLISHED-TTL:PT1H
BEGIN:VTIMEZONE
TZID:America/New_York
BEGIN:DAYLIGHT
TZOFFSETFROM:-0500
TZOFFSETTO:-0400
TZNAME:EDT
DTSTART:20250309T070000
END:DAYLIGHT
BEGIN:STANDARD
TZOFFSETFROM:-0400
TZOFFSETTO:-0500
TZNAME:EST
DTSTART:20251102T060000
END:STANDARD
BEGIN:DAYLIGHT
TZOFFSETFROM:-0500
TZOFFSETTO:-0400
TZNAME:EDT
DTSTART:20260308T070000
END:DAYLIGHT
BEGIN:STANDARD
TZOFFSETFROM:-0400
TZOFFSETTO:-0500
TZNAME:EST
DTSTART:20261101T060000
END:STANDARD
BEGIN:DAYLIGHT
TZOFFSETFROM:-0500
TZOFFSETTO:-0400
TZNAME:EDT
DTSTART:20270314T070000
END:DAYLIGHT
BEGIN:STANDARD
TZOFFSETFROM:-0400
TZOFFSETTO:-0500
TZNAME:EST
DTSTART:20271107T060000
END:STANDARD
END:VTIMEZONE
BEGIN:VEVENT
DTSTART;TZID=America/New_York:20260428T160000
DTEND;TZID=America/New_York:20260428T170000
DTSTAMP:20260420T044630
CREATED:20250812T183203Z
LAST-MODIFIED:20250812T183931Z
UID:10007829-1777392000-1777395600@marvinlibrary.org
SUMMARY:Artists' Club CD
DESCRIPTION:Every Other Tuesday at 4:00\nChildren’s Department\n\n2025-2026 Themes:\nSept. 9 & 23 – Colors\nOct. 14 & 28 – Lines\nNov. 11 & 25 – Shapes\nDec. 9 – Patterns\nJan. 13 & 27 – Textures\nFeb. 10 & 24 – Painting\nMar. 10 & 24 – Drawing\nApr. 14 & 28 – Collage\nMay12 & 26 – Free Art
URL:https://marvinlibrary.org/event-2/artists-club-cd-2/2026-04-28/
LOCATION:Marvin Memorial Library\, 29 W. Whitney Ave.\, Shelby\, OH\, 44875
CATEGORIES:Family
END:VEVENT
BEGIN:VEVENT
DTSTART;TZID=America/New_York:20260526T160000
DTEND;TZID=America/New_York:20260526T170000
DTSTAMP:20260420T044630
CREATED:20250812T183203Z
LAST-MODIFIED:20250812T183931Z
UID:10007830-1779811200-1779814800@marvinlibrary.org
SUMMARY:Artists' Club CD
DESCRIPTION:Every Other Tuesday at 4:00\nChildren’s Department\n\n2025-2026 Themes:\nSept. 9 & 23 – Colors\nOct. 14 & 28 – Lines\nNov. 11 & 25 – Shapes\nDec. 9 – Patterns\nJan. 13 & 27 – Textures\nFeb. 10 & 24 – Painting\nMar. 10 & 24 – Drawing\nApr. 14 & 28 – Collage\nMay12 & 26 – Free Art
URL:https://marvinlibrary.org/event-2/artists-club-cd-2/2026-05-26/
LOCATION:Marvin Memorial Library\, 29 W. Whitney Ave.\, Shelby\, OH\, 44875
CATEGORIES:Family
END:VEVENT
END:VCALENDAR