BEGIN:VCALENDAR
VERSION:2.0
PRODID:-//Marvin Memorial Library - ECPv6.15.18//NONSGML v1.0//EN
CALSCALE:GREGORIAN
METHOD:PUBLISH
X-WR-CALNAME:Marvin Memorial Library
X-ORIGINAL-URL:https://marvinlibrary.org
X-WR-CALDESC:Events for Marvin Memorial Library
REFRESH-INTERVAL;VALUE=DURATION:PT1H
X-Robots-Tag:noindex
X-PUBLISHED-TTL:PT1H
BEGIN:VTIMEZONE
TZID:America/New_York
BEGIN:DAYLIGHT
TZOFFSETFROM:-0500
TZOFFSETTO:-0400
TZNAME:EDT
DTSTART:20240310T070000
END:DAYLIGHT
BEGIN:STANDARD
TZOFFSETFROM:-0400
TZOFFSETTO:-0500
TZNAME:EST
DTSTART:20241103T060000
END:STANDARD
BEGIN:DAYLIGHT
TZOFFSETFROM:-0500
TZOFFSETTO:-0400
TZNAME:EDT
DTSTART:20250309T070000
END:DAYLIGHT
BEGIN:STANDARD
TZOFFSETFROM:-0400
TZOFFSETTO:-0500
TZNAME:EST
DTSTART:20251102T060000
END:STANDARD
BEGIN:DAYLIGHT
TZOFFSETFROM:-0500
TZOFFSETTO:-0400
TZNAME:EDT
DTSTART:20260308T070000
END:DAYLIGHT
BEGIN:STANDARD
TZOFFSETFROM:-0400
TZOFFSETTO:-0500
TZNAME:EST
DTSTART:20261101T060000
END:STANDARD
END:VTIMEZONE
BEGIN:VEVENT
DTSTART;TZID=America/New_York:20250430T160000
DTEND;TZID=America/New_York:20250430T170000
DTSTAMP:20260421T224642
CREATED:20240809T150136Z
LAST-MODIFIED:20240809T150136Z
UID:10006834-1746028800-1746032400@marvinlibrary.org
SUMMARY:Study Buddies
DESCRIPTION:Get free peer tutoring in the Children’s Department every Wednesday at 4:00 PM.
URL:https://marvinlibrary.org/event-2/study-buddies-5/2025-04-30/
LOCATION:Marvin Memorial Library\, 29 W. Whitney Ave.\, Shelby\, OH\, 44875
CATEGORIES:Children
END:VEVENT
BEGIN:VEVENT
DTSTART;TZID=America/New_York:20250430T133000
DTEND;TZID=America/New_York:20250430T153000
DTSTAMP:20260421T224642
CREATED:20250430T155904Z
LAST-MODIFIED:20250430T155904Z
UID:10007272-1746019800-1746027000@marvinlibrary.org
SUMMARY:BAVIN in Use
DESCRIPTION:
URL:https://marvinlibrary.org/event-2/bavin-in-use-106/
LOCATION:Marvin Memorial Library\, 29 W. Whitney Ave.\, Shelby\, OH\, 44875
CATEGORIES:Community
END:VEVENT
BEGIN:VEVENT
DTSTART;TZID=America/New_York:20250429T180000
DTEND;TZID=America/New_York:20250429T190000
DTSTAMP:20260421T224642
CREATED:20250219T161056Z
LAST-MODIFIED:20250219T161056Z
UID:10007182-1745949600-1745953200@marvinlibrary.org
SUMMARY:Let's Talk Money with Directions Credit Union *RR MPR
DESCRIPTION:Kids in grades 5 & 6 are welcome to join us for a fun night of learning about money management. “Directions believes that a smarter financial community is a better community. That’s why we encourage our members to include their children in conversations about finances from a young age. Teaching them to budget\, save\, and spend responsibly will set them up for financial success as they grow.”
URL:https://marvinlibrary.org/event-2/lets-talk-money-with-directions-credit-union-rr-mpr/
LOCATION:Marvin Memorial Library\, 29 W. Whitney Ave.\, Shelby\, OH\, 44875
CATEGORIES:Children
END:VEVENT
BEGIN:VEVENT
DTSTART;TZID=America/New_York:20250429T103000
DTEND;TZID=America/New_York:20250429T113000
DTSTAMP:20260421T224642
CREATED:20240809T144538Z
LAST-MODIFIED:20240809T201751Z
UID:10005624-1745922600-1745926200@marvinlibrary.org
SUMMARY:Story Time  for Ages 2-5
DESCRIPTION:
URL:https://marvinlibrary.org/event-2/story-time-for-ages-2-5-3/2025-04-29/
LOCATION:Marvin Memorial Library\, 29 W. Whitney Ave.\, Shelby\, OH\, 44875
CATEGORIES:Children
END:VEVENT
BEGIN:VEVENT
DTSTART;TZID=America/New_York:20250429T090000
DTEND;TZID=America/New_York:20250429T120000
DTSTAMP:20260421T224642
CREATED:20241112T175218Z
LAST-MODIFIED:20250128T194545Z
UID:10007039-1745917200-1745928000@marvinlibrary.org
SUMMARY:MPR in Use
DESCRIPTION:
URL:https://marvinlibrary.org/event-2/bavin-in-use-75/2025-04-29/
LOCATION:Marvin Memorial Library\, 29 W. Whitney Ave.\, Shelby\, OH\, 44875
CATEGORIES:Community
END:VEVENT
BEGIN:VEVENT
DTSTART;TZID=America/New_York:20250428T180000
DTEND;TZID=America/New_York:20250428T190000
DTSTAMP:20260421T224642
CREATED:20240809T204018Z
LAST-MODIFIED:20240809T204634Z
UID:10006942-1745863200-1745866800@marvinlibrary.org
SUMMARY:Family Story Time
DESCRIPTION:Bring all of the kids and join us for stories\, games\, crafts\, and snacks.
URL:https://marvinlibrary.org/event-2/family-story-time-37/2025-04-28/
LOCATION:Marvin Memorial Library\, 29 W. Whitney Ave.\, Shelby\, OH\, 44875
CATEGORIES:Family
END:VEVENT
BEGIN:VEVENT
DTSTART;TZID=America/New_York:20250428T153000
DTEND;TZID=America/New_York:20250428T173000
DTSTAMP:20260421T224642
CREATED:20240809T153044Z
LAST-MODIFIED:20250219T194112Z
UID:10006903-1745854200-1745861400@marvinlibrary.org
SUMMARY:Teen Studio KERR
DESCRIPTION:Teens in 7th – 12th grade are welcome to come in after school to work on homework\, play games\, get creative and crafty\, or just hang out with friends.
URL:https://marvinlibrary.org/event-2/teen-studio-2-2025-04-28/
LOCATION:Marvin Memorial Library\, 29 W. Whitney Ave.\, Shelby\, OH\, 44875
CATEGORIES:Teens
END:VEVENT
BEGIN:VEVENT
DTSTART;TZID=America/New_York:20250428T120000
DTEND;TZID=America/New_York:20250428T130000
DTSTAMP:20260421T224642
CREATED:20250219T194522Z
LAST-MODIFIED:20250219T194541Z
UID:10007195-1745841600-1745845200@marvinlibrary.org
SUMMARY:Brown Bag Lunch History Program: Shelby Tornadoes MPR
DESCRIPTION:Bring a brown bag lunch we’ll provide the drinks. Join us for a presentation about the Shelby Tornadoes.  Bring your own stories and photos to share!
URL:https://marvinlibrary.org/event-2/brown-bag-lunch-history-program-shelby-tornadoes/
LOCATION:Marvin Memorial Library\, 29 W. Whitney Ave.\, Shelby\, OH\, 44875
CATEGORIES:Adults
END:VEVENT
BEGIN:VEVENT
DTSTART;TZID=America/New_York:20250426T103000
DTEND;TZID=America/New_York:20250426T123000
DTSTAMP:20260421T224642
CREATED:20250219T193703Z
LAST-MODIFIED:20250314T134648Z
UID:10007194-1745663400-1745670600@marvinlibrary.org
SUMMARY:Children's Bluey Party KERR
DESCRIPTION:We’ll be playing games\, doing crafts\, dancing\, and snacking. We’ll also have a photo op and door prizes!
URL:https://marvinlibrary.org/event-2/childrens-bluey-party-mpr/
LOCATION:Marvin Memorial Library\, 29 W. Whitney Ave.\, Shelby\, OH\, 44875
CATEGORIES:Children
END:VEVENT
BEGIN:VEVENT
DTSTART;TZID=America/New_York:20250426T090000
DTEND;TZID=America/New_York:20250426T140000
DTSTAMP:20260421T224642
CREATED:20250314T134516Z
LAST-MODIFIED:20250314T134546Z
UID:10007238-1745658000-1745676000@marvinlibrary.org
SUMMARY:MPR in Use
DESCRIPTION:
URL:https://marvinlibrary.org/event-2/kerr-in-use-44/
LOCATION:Marvin Memorial Library\, 29 W. Whitney Ave.\, Shelby\, OH\, 44875
CATEGORIES:Community
END:VEVENT
BEGIN:VEVENT
DTSTART;TZID=America/New_York:20250425T150000
DTEND;TZID=America/New_York:20250425T170000
DTSTAMP:20260421T224642
CREATED:20250418T130708Z
LAST-MODIFIED:20250418T130708Z
UID:10007262-1745593200-1745600400@marvinlibrary.org
SUMMARY:MPR in Use
DESCRIPTION:
URL:https://marvinlibrary.org/event-2/mpr-in-use-68/
LOCATION:Marvin Memorial Library\, 29 W. Whitney Ave.\, Shelby\, OH\, 44875
CATEGORIES:Community
END:VEVENT
BEGIN:VEVENT
DTSTART;TZID=America/New_York:20250425T150000
DTEND;TZID=America/New_York:20250425T160000
DTSTAMP:20260421T224642
CREATED:20250414T131529Z
LAST-MODIFIED:20250414T131529Z
UID:10007256-1745593200-1745596800@marvinlibrary.org
SUMMARY:BAVIN in Use
DESCRIPTION:
URL:https://marvinlibrary.org/event-2/bavin-in-use-101/2025-04-25/
LOCATION:Marvin Memorial Library\, 29 W. Whitney Ave.\, Shelby\, OH\, 44875
CATEGORIES:Community
END:VEVENT
BEGIN:VEVENT
DTSTART;TZID=America/New_York:20250425T110000
DTEND;TZID=America/New_York:20250425T130000
DTSTAMP:20260421T224642
CREATED:20250428T155912Z
LAST-MODIFIED:20250428T155912Z
UID:10007270-1745578800-1745586000@marvinlibrary.org
SUMMARY:BAVIN in Use
DESCRIPTION:
URL:https://marvinlibrary.org/event-2/bavin-in-use-104/
LOCATION:Marvin Memorial Library\, 29 W. Whitney Ave.\, Shelby\, OH\, 44875
CATEGORIES:Community
END:VEVENT
BEGIN:VEVENT
DTSTART;TZID=America/New_York:20250424T170000
DTEND;TZID=America/New_York:20250424T200000
DTSTAMP:20260421T224642
CREATED:20250401T163047Z
LAST-MODIFIED:20250401T163728Z
UID:10007250-1745514000-1745524800@marvinlibrary.org
SUMMARY:MPR in Use
DESCRIPTION:
URL:https://marvinlibrary.org/event-2/mpr-in-use-67/2025-04-24/
LOCATION:Marvin Memorial Library\, 29 W. Whitney Ave.\, Shelby\, OH\, 44875
CATEGORIES:Community
END:VEVENT
BEGIN:VEVENT
DTSTART;TZID=America/New_York:20250424T153000
DTEND;TZID=America/New_York:20250424T173000
DTSTAMP:20260421T224642
CREATED:20240809T151915Z
LAST-MODIFIED:20240809T151915Z
UID:10006857-1745508600-1745515800@marvinlibrary.org
SUMMARY:Teen Studio KERR
DESCRIPTION:Teens in 7th – 12th grade are welcome to come in after school to work on homework\, play games\, get creative and crafty\, or just hang out with friends.
URL:https://marvinlibrary.org/event-2/teen-studio-kerr-3/2025-04-24/
LOCATION:Marvin Memorial Library\, 29 W. Whitney Ave.\, Shelby\, OH\, 44875
CATEGORIES:Teens
END:VEVENT
BEGIN:VEVENT
DTSTART;TZID=America/New_York:20250424T130000
DTEND;TZID=America/New_York:20250424T140000
DTSTAMP:20260421T224642
CREATED:20250731T135538Z
LAST-MODIFIED:20250910T201338Z
UID:10007095-1745499600-1745503200@marvinlibrary.org
SUMMARY:Knotty Knitters BAVIN
DESCRIPTION:Knotty Knitters meet on the 2nd & 4th Thursday of each month at 1:00PM.  Beginners are always welcome! Join the club anytime!
URL:https://marvinlibrary.org/event-2/knotty-knitters-mpr-3-2/2025-04-24/
LOCATION:Marvin Memorial Library\, 29 W. Whitney Ave.\, Shelby\, OH\, 44875
CATEGORIES:Community
END:VEVENT
BEGIN:VEVENT
DTSTART;TZID=America/New_York:20250424T103000
DTEND;TZID=America/New_York:20250424T113000
DTSTAMP:20260421T224642
CREATED:20240809T144538Z
LAST-MODIFIED:20240809T201751Z
UID:10005623-1745490600-1745494200@marvinlibrary.org
SUMMARY:Story Time  for Ages 2-5
DESCRIPTION:
URL:https://marvinlibrary.org/event-2/story-time-for-ages-2-5-3/2025-04-24/
LOCATION:Marvin Memorial Library\, 29 W. Whitney Ave.\, Shelby\, OH\, 44875
CATEGORIES:Children
END:VEVENT
BEGIN:VEVENT
DTSTART;TZID=America/New_York:20250423T173000
DTEND;TZID=America/New_York:20250423T190000
DTSTAMP:20260421T224642
CREATED:20250219T193347Z
LAST-MODIFIED:20250219T193844Z
UID:10007193-1745429400-1745434800@marvinlibrary.org
SUMMARY:Teen Cosplay Tea Party KERR
DESCRIPTION:Cosplay from your favorite fandom. We’ll have tea and cookies while crafting cosplay rubber ducks and playing fandom games.
URL:https://marvinlibrary.org/event-2/teen-cosplay-tea-party-kerr/
LOCATION:Marvin Memorial Library\, 29 W. Whitney Ave.\, Shelby\, OH\, 44875
CATEGORIES:Teens
END:VEVENT
BEGIN:VEVENT
DTSTART;TZID=America/New_York:20250423T170000
DTEND;TZID=America/New_York:20250423T200000
DTSTAMP:20260421T224642
CREATED:20241118T202333Z
LAST-MODIFIED:20241118T204242Z
UID:10007063-1745427600-1745438400@marvinlibrary.org
SUMMARY:MPR in Use
DESCRIPTION:
URL:https://marvinlibrary.org/event-2/mpr-in-use-48/2025-04-23/
LOCATION:Marvin Memorial Library\, 29 W. Whitney Ave.\, Shelby\, OH\, 44875
CATEGORIES:Community
END:VEVENT
BEGIN:VEVENT
DTSTART;TZID=America/New_York:20250423T160000
DTEND;TZID=America/New_York:20250423T170000
DTSTAMP:20260421T224642
CREATED:20240809T150136Z
LAST-MODIFIED:20240809T150136Z
UID:10006833-1745424000-1745427600@marvinlibrary.org
SUMMARY:Study Buddies
DESCRIPTION:Get free peer tutoring in the Children’s Department every Wednesday at 4:00 PM.
URL:https://marvinlibrary.org/event-2/study-buddies-5/2025-04-23/
LOCATION:Marvin Memorial Library\, 29 W. Whitney Ave.\, Shelby\, OH\, 44875
CATEGORIES:Children
END:VEVENT
BEGIN:VEVENT
DTSTART;TZID=America/New_York:20250422T180000
DTEND;TZID=America/New_York:20250422T190000
DTSTAMP:20260421T224642
CREATED:20250219T192727Z
LAST-MODIFIED:20250219T192750Z
UID:10007192-1745344800-1745348400@marvinlibrary.org
SUMMARY:Family Game Night: Penny Pinchers' Party MPR
DESCRIPTION:Bring all the kids and join us for a fun game night of Penny Pinchers’ Party which teaches children budgeting and financial literacy skills. Players act as party planners and work within a budget to create a memorable event. 
URL:https://marvinlibrary.org/event-2/family-game-night-penny-pinchers-party-mpr/
LOCATION:Marvin Memorial Library\, 29 W. Whitney Ave.\, Shelby\, OH\, 44875
CATEGORIES:Family
END:VEVENT
BEGIN:VEVENT
DTSTART;TZID=America/New_York:20250422T103000
DTEND;TZID=America/New_York:20250422T113000
DTSTAMP:20260421T224642
CREATED:20240809T144538Z
LAST-MODIFIED:20240809T201751Z
UID:10005622-1745317800-1745321400@marvinlibrary.org
SUMMARY:Story Time  for Ages 2-5
DESCRIPTION:
URL:https://marvinlibrary.org/event-2/story-time-for-ages-2-5-3/2025-04-22/
LOCATION:Marvin Memorial Library\, 29 W. Whitney Ave.\, Shelby\, OH\, 44875
CATEGORIES:Children
END:VEVENT
BEGIN:VEVENT
DTSTART;TZID=America/New_York:20250422T090000
DTEND;TZID=America/New_York:20250422T123000
DTSTAMP:20260421T224642
CREATED:20250421T135634Z
LAST-MODIFIED:20250421T135634Z
UID:10007264-1745312400-1745325000@marvinlibrary.org
SUMMARY:BAVIN in Use
DESCRIPTION:
URL:https://marvinlibrary.org/event-2/bavin-in-use-102/
LOCATION:Marvin Memorial Library\, 29 W. Whitney Ave.\, Shelby\, OH\, 44875
CATEGORIES:Community
END:VEVENT
BEGIN:VEVENT
DTSTART;TZID=America/New_York:20250422T090000
DTEND;TZID=America/New_York:20250422T120000
DTSTAMP:20260421T224642
CREATED:20241112T175218Z
LAST-MODIFIED:20250128T194545Z
UID:10007038-1745312400-1745323200@marvinlibrary.org
SUMMARY:MPR in Use
DESCRIPTION:
URL:https://marvinlibrary.org/event-2/bavin-in-use-75/2025-04-22/
LOCATION:Marvin Memorial Library\, 29 W. Whitney Ave.\, Shelby\, OH\, 44875
CATEGORIES:Community
END:VEVENT
BEGIN:VEVENT
DTSTART;TZID=America/New_York:20250421T180000
DTEND;TZID=America/New_York:20250421T190000
DTSTAMP:20260421T224642
CREATED:20240809T204018Z
LAST-MODIFIED:20240809T204634Z
UID:10006941-1745258400-1745262000@marvinlibrary.org
SUMMARY:Family Story Time
DESCRIPTION:Bring all of the kids and join us for stories\, games\, crafts\, and snacks.
URL:https://marvinlibrary.org/event-2/family-story-time-37/2025-04-21/
LOCATION:Marvin Memorial Library\, 29 W. Whitney Ave.\, Shelby\, OH\, 44875
CATEGORIES:Family
END:VEVENT
BEGIN:VEVENT
DTSTART;TZID=America/New_York:20250421T173000
DTEND;TZID=America/New_York:20250421T190000
DTSTAMP:20260421T224642
CREATED:20201110T170625Z
LAST-MODIFIED:20201110T170625Z
UID:10004810-1745256600-1745262000@marvinlibrary.org
SUMMARY:Teen Writers & Artists Club - Virtual
DESCRIPTION:Teens 7th-12th Grade are invited to join us via Zoom for this year’s Writers/Artists Club. We’ll share ideas\, beat writers’ block\, play Pictionary\, and have fun! Email Jami at childrens@marvinlibrary.org for all the Zoom Login information.
URL:https://marvinlibrary.org/event-2/teen-writers-artists-club-virtual/2025-04-21/
LOCATION:Marvin Memorial Library\, 29 W. Whitney Ave.\, Shelby\, OH\, 44875
CATEGORIES:Teens
END:VEVENT
BEGIN:VEVENT
DTSTART;TZID=America/New_York:20250421T153000
DTEND;TZID=America/New_York:20250421T173000
DTSTAMP:20260421T224642
CREATED:20240809T153044Z
LAST-MODIFIED:20250219T192129Z
UID:10006902-1745249400-1745256600@marvinlibrary.org
SUMMARY:Teen Studio KERR
DESCRIPTION:Teens in 7th – 12th grade are welcome to come in after school to work on homework\, play games\, get creative and crafty\, or just hang out with friends.
URL:https://marvinlibrary.org/event-2/teen-studio-2-2025-04-21/
LOCATION:Marvin Memorial Library\, 29 W. Whitney Ave.\, Shelby\, OH\, 44875
CATEGORIES:Teens
END:VEVENT
BEGIN:VEVENT
DTSTART;TZID=America/New_York:20250421T100000
DTEND;TZID=America/New_York:20250421T110000
DTSTAMP:20260421T224642
CREATED:20250731T135348Z
LAST-MODIFIED:20250731T135348Z
UID:10006973-1745229600-1745233200@marvinlibrary.org
SUMMARY:Rompin' Stompin' Book Club BAVIN
DESCRIPTION:Meets the 3rd Mon. each month. Bestseller assigned titles provided to borrow. Join any time. \n 
URL:https://marvinlibrary.org/event-2/rompin-stompin-book-club/2025-04-21/
LOCATION:Marvin Memorial Library\, 29 W. Whitney Ave.\, Shelby\, OH\, 44875
CATEGORIES:Adults
END:VEVENT
BEGIN:VEVENT
DTSTART;TZID=America/New_York:20250421T100000
DTEND;TZID=America/New_York:20250421T110000
DTSTAMP:20260421T224642
CREATED:20250327T201909Z
LAST-MODIFIED:20250701T193343Z
UID:10007244-1745229600-1745233200@marvinlibrary.org
SUMMARY:Rompin' Stompin' Book Club BAVIN
DESCRIPTION:Rompin’ Stompin’ Book Club meets on the 3rd Monday of each month at 10:00 AM. Join any time! \nThe following are 2025 selections.\nApril 21 The Frozen River\nMay 19 The Pull of the Stars\nJune 16 Meet Me in Monaco\nJuly 21 The Girl Behind the Gates\nAug 18 The Water Keeper\nSept 15 Dear Edward
URL:https://marvinlibrary.org/event-2/rompin-stompin-book-club-bavin/2025-04-21/
LOCATION:Marvin Memorial Library\, 29 W. Whitney Ave.\, Shelby\, OH\, 44875
CATEGORIES:Adults
END:VEVENT
BEGIN:VEVENT
DTSTART;TZID=America/New_York:20250421T100000
DTEND;TZID=America/New_York:20250421T110000
DTSTAMP:20260421T224642
CREATED:20240814T142621Z
LAST-MODIFIED:20250305T185200Z
UID:10006962-1745229600-1745233200@marvinlibrary.org
SUMMARY:Rompin' Stompin' Book Club BAVIN
DESCRIPTION:Meets the 3rd Mon. each month. Bestseller assigned titles provided to borrow. Join any time. \n 
URL:https://marvinlibrary.org/event-2/rompin-stompin-book-club/2025-04-21/
LOCATION:Marvin Memorial Library\, 29 W. Whitney Ave.\, Shelby\, OH\, 44875
CATEGORIES:Adults
END:VEVENT
END:VCALENDAR