BEGIN:VCALENDAR
VERSION:2.0
PRODID:-//Marvin Memorial Library - ECPv6.15.18//NONSGML v1.0//EN
CALSCALE:GREGORIAN
METHOD:PUBLISH
X-WR-CALNAME:Marvin Memorial Library
X-ORIGINAL-URL:https://marvinlibrary.org
X-WR-CALDESC:Events for Marvin Memorial Library
REFRESH-INTERVAL;VALUE=DURATION:PT1H
X-Robots-Tag:noindex
X-PUBLISHED-TTL:PT1H
BEGIN:VTIMEZONE
TZID:America/New_York
BEGIN:DAYLIGHT
TZOFFSETFROM:-0500
TZOFFSETTO:-0400
TZNAME:EDT
DTSTART:20240310T070000
END:DAYLIGHT
BEGIN:STANDARD
TZOFFSETFROM:-0400
TZOFFSETTO:-0500
TZNAME:EST
DTSTART:20241103T060000
END:STANDARD
BEGIN:DAYLIGHT
TZOFFSETFROM:-0500
TZOFFSETTO:-0400
TZNAME:EDT
DTSTART:20250309T070000
END:DAYLIGHT
BEGIN:STANDARD
TZOFFSETFROM:-0400
TZOFFSETTO:-0500
TZNAME:EST
DTSTART:20251102T060000
END:STANDARD
BEGIN:DAYLIGHT
TZOFFSETFROM:-0500
TZOFFSETTO:-0400
TZNAME:EDT
DTSTART:20260308T070000
END:DAYLIGHT
BEGIN:STANDARD
TZOFFSETFROM:-0400
TZOFFSETTO:-0500
TZNAME:EST
DTSTART:20261101T060000
END:STANDARD
END:VTIMEZONE
BEGIN:VEVENT
DTSTART;TZID=America/New_York:20250714T173000
DTEND;TZID=America/New_York:20250714T183000
DTSTAMP:20260421T153255
CREATED:20250513T202336Z
LAST-MODIFIED:20250516T160923Z
UID:10007285-1752514200-1752517800@marvinlibrary.org
SUMMARY:Science Nights KERR
DESCRIPTION:Calling all kids in K-6th grade! Join us in the Kerr Garden Room each Monday at 5:30 for fun\, hands-on\, science based activities on the following topics: \nJune 2 Bugs\nJune 9 Flowers\nJune 16 Bees\nJune 23 Tornadoes\nJune 30 Trees\nJuly 7 Birds\nJuly 14 Animals \nRemember to get your 5 prize slips for attending this event!
URL:https://marvinlibrary.org/event-2/science-nights/2025-07-14/
LOCATION:Marvin Memorial Library\, 29 W. Whitney Ave.\, Shelby\, OH\, 44875
CATEGORIES:Children
END:VEVENT
BEGIN:VEVENT
DTSTART;TZID=America/New_York:20250715T103000
DTEND;TZID=America/New_York:20250715T113000
DTSTAMP:20260421T153255
CREATED:20250513T220422Z
LAST-MODIFIED:20250515T201724Z
UID:10007292-1752575400-1752579000@marvinlibrary.org
SUMMARY:Story Time Ages 2-5 KERR
DESCRIPTION:Story Times are in the Kerr Garden Room\, unless otherwise stated.  The following times are effective during Summer Reading June 1 – July 18.\nLap Sit  Ages 0-2 Wednesdays at 10:00 AM Theme: Colors of the Rainbow\nStory Time Ages 2-5 Tuesdays and Thursdays at 10:30 AM Theme: Our Colorful World\nBook & Craft Grades 1-3 Wednesdays at 1:00 PM Theme: Animal Colors\nFarmers’ Market Story Time (Meet at Blackfork Commons) Saturday 6/7\, 7/21 & 7/5 at 10:30 AM Theme: Art in Nature \n 
URL:https://marvinlibrary.org/event-2/story-time-ages-2-5-6/2025-07-15/
LOCATION:Marvin Memorial Library\, 29 W. Whitney Ave.\, Shelby\, OH\, 44875
CATEGORIES:Pre-school
END:VEVENT
BEGIN:VEVENT
DTSTART;TZID=America/New_York:20250715T130000
DTEND;TZID=America/New_York:20250715T140000
DTSTAMP:20260421T153255
CREATED:20250515T150415Z
LAST-MODIFIED:20250515T150634Z
UID:10007324-1752584400-1752588000@marvinlibrary.org
SUMMARY:Tween Group KERR
DESCRIPTION:Tweens in 4th – 6th grade are welcome to join us for Summer Reading Tuesdays at 1:00 for fun hands-on activities focused on the following art topics: \nJune 3 What is Art?\nJune 10 Vincent Van Gogh\nJune 16th Henri Matisse\nJune 24 Messy Painting\nJuly 1 Collages and Mixed Media\nJuly 8 Children’s Books and Animation\nJuly 15 That’s Art!?! \n 
URL:https://marvinlibrary.org/event-2/tween-group-kerr/2025-07-15/
LOCATION:Marvin Memorial Library\, 29 W. Whitney Ave.\, Shelby\, OH\, 44875
CATEGORIES:Tweens
END:VEVENT
BEGIN:VEVENT
DTSTART;TZID=America/New_York:20250715T153000
DTEND;TZID=America/New_York:20250715T163000
DTSTAMP:20260421T153255
CREATED:20250515T153136Z
LAST-MODIFIED:20250515T153136Z
UID:10007330-1752593400-1752597000@marvinlibrary.org
SUMMARY:Crafternoon KERR
DESCRIPTION:Teens in 7th – 12th grade will have fun hands-on learning activities focused on the following: \nJune 3 Photography – Photo comic Club and Collages\nJune 10 Fabric Arts – Woven Bookmarks/Bracelets and String Art\nJune 16 Painting – Rock Painting and Thrift Store Painting\nJune 24 Crayon Art – Candle Making\, Drip Paintings and Making New Crayons\nJuly 1 Drawing – Reimagined Book Covers and Shadow Bouquet Drawings\nJuly 8 Tie-Dye – Spray Tie-Dye and Alcohol Ink Marbling on Mugs and Coasters\nJuly 15 Jewelry – Fiddle Key Rings\, Friendship Bracelets\, and Perler Beads \nRemember to get your 5 prize slips when you attend!
URL:https://marvinlibrary.org/event-2/crafternoon-kerr/2025-07-15/
LOCATION:Marvin Memorial Library\, 29 W. Whitney Ave.\, Shelby\, OH\, 44875
CATEGORIES:Teens
END:VEVENT
BEGIN:VEVENT
DTSTART;TZID=America/New_York:20250715T180000
DTEND;TZID=America/New_York:20250715T190000
DTSTAMP:20260421T153255
CREATED:20250603T170009Z
LAST-MODIFIED:20250603T181012Z
UID:10007376-1752602400-1752606000@marvinlibrary.org
SUMMARY:Family Game Night MPR
DESCRIPTION:In this twist on the classic storytime\, audience\nmembers learn how three young characters—\nKenji\, Grace\, and Emma—build their childhood\ninterests into successful careers\, making financial\nchoices along the way.
URL:https://marvinlibrary.org/event-2/family-game-night-mpr-2/
LOCATION:Marvin Memorial Library\, 29 W. Whitney Ave.\, Shelby\, OH\, 44875
CATEGORIES:Family
END:VEVENT
BEGIN:VEVENT
DTSTART;TZID=America/New_York:20250716T100000
DTEND;TZID=America/New_York:20250716T110000
DTSTAMP:20260421T153255
CREATED:20250508T145318Z
LAST-MODIFIED:20250905T161457Z
UID:10006103-1752660000-1752663600@marvinlibrary.org
SUMMARY:Walking Club
DESCRIPTION:We’ll meet in the lobby every Wednesday at 10:00 AM for Walking Club.\nWear comfortable clothes/walking shoes and we’ll walk for approximately one hour. Feel free to wear wrist or ankle weights and bring a water bottle. If we have bad weather\, or it is cold\, we will follow an indoor walking video.
URL:https://marvinlibrary.org/event-2/walking-club/2025-07-16/
LOCATION:Marvin Memorial Library\, 29 W. Whitney Ave.\, Shelby\, OH\, 44875
CATEGORIES:Adults
END:VEVENT
BEGIN:VEVENT
DTSTART;TZID=America/New_York:20250716T100000
DTEND;TZID=America/New_York:20250716T110000
DTSTAMP:20260421T153255
CREATED:20250513T225505Z
LAST-MODIFIED:20250515T154604Z
UID:10007306-1752660000-1752663600@marvinlibrary.org
SUMMARY:Lap Sit Story Time KERR
DESCRIPTION:Story Times are in the Kerr Garden Room\, unless otherwise stated.  The following times are effective during Summer Reading June 1 – July 18.\nLap Sit  Ages 0-2 Wednesdays at 10:00 AM Theme: Colors of the Rainbow\nStory Time Ages 2-5 Tuesdays and Thursdays at 10:30 AM Theme: Our Colorful World\nBook & Craft Grades 1-3 Wednesdays at 1:00 PM Theme: Animal Colors\nFarmers’ Market Story Time (Meet at Blackfork Commons) Saturday 6/7\, 7/21 & 7/5 at 10:30 AM Theme: Art in Nature \n 
URL:https://marvinlibrary.org/event-2/lap-sit-story-time-kerr/2025-07-16/
LOCATION:Marvin Memorial Library\, 29 W. Whitney Ave.\, Shelby\, OH\, 44875
CATEGORIES:Pre-school
END:VEVENT
BEGIN:VEVENT
DTSTART;TZID=America/New_York:20250716T130000
DTEND;TZID=America/New_York:20250716T140000
DTSTAMP:20260421T153255
CREATED:20250513T225652Z
LAST-MODIFIED:20250516T160208Z
UID:10007313-1752670800-1752674400@marvinlibrary.org
SUMMARY:Book & Craft KERR
DESCRIPTION:Story Times are in the Kerr Garden Room\, unless otherwise stated.  The following times are effective during Summer Reading June 1 – July 18.\nLap Sit  Ages 0-2 Wednesdays at 10:00 AM Theme: Colors of the Rainbow\nStory Time Ages 2-5 Tuesdays and Thursdays at 10:30 AM Theme: Our Colorful World\nBook & Craft Grades 1-3 Wednesdays at 1:00 PM Theme: Animal Colors\nFarmers’ Market Story Time (Meet at Blackfork Commons) Saturday 6/7\, 7/21 & 7/5 at 10:30 AM Theme: Art in Nature \n 
URL:https://marvinlibrary.org/event-2/book-craft/2025-07-16/
LOCATION:Marvin Memorial Library\, 29 W. Whitney Ave.\, Shelby\, OH\, 44875
CATEGORIES:Children
END:VEVENT
BEGIN:VEVENT
DTSTART;TZID=America/New_York:20250716T133000
DTEND;TZID=America/New_York:20250716T143000
DTSTAMP:20260421T153255
CREATED:20250711T184747Z
LAST-MODIFIED:20250711T184747Z
UID:10006374-1752672600-1752676200@marvinlibrary.org
SUMMARY:BAVIN in Use
DESCRIPTION:
URL:https://marvinlibrary.org/event-2/bavin-in-use-125/
LOCATION:Marvin Memorial Library\, 29 W. Whitney Ave.\, Shelby\, OH\, 44875
CATEGORIES:Community
END:VEVENT
BEGIN:VEVENT
DTSTART;TZID=America/New_York:20250716T173000
DTEND;TZID=America/New_York:20250716T183000
DTSTAMP:20260421T153255
CREATED:20250603T181214Z
LAST-MODIFIED:20250603T181214Z
UID:10007377-1752687000-1752690600@marvinlibrary.org
SUMMARY:Art Trivia Night KERR
DESCRIPTION:Teens in 7t – 12th grade will compete in teams for prizes.  Remember to collect your 5 Summer Reading weekly prize slips for attending this event!
URL:https://marvinlibrary.org/event-2/art-trivia-night-kerr/
LOCATION:Marvin Memorial Library\, 29 W. Whitney Ave.\, Shelby\, OH\, 44875
CATEGORIES:Teens
END:VEVENT
BEGIN:VEVENT
DTSTART;TZID=America/New_York:20250717T090000
DTEND;TZID=America/New_York:20250717T120000
DTSTAMP:20260421T153255
CREATED:20250609T155258Z
LAST-MODIFIED:20250609T155258Z
UID:10006352-1752742800-1752753600@marvinlibrary.org
SUMMARY:MPR in Use
DESCRIPTION:
URL:https://marvinlibrary.org/event-2/mpr-in-use-78/
LOCATION:Marvin Memorial Library\, 29 W. Whitney Ave.\, Shelby\, OH\, 44875
CATEGORIES:Community
END:VEVENT
BEGIN:VEVENT
DTSTART;TZID=America/New_York:20250717T103000
DTEND;TZID=America/New_York:20250717T113000
DTSTAMP:20260421T153255
CREATED:20250513T220542Z
LAST-MODIFIED:20250515T194712Z
UID:10007299-1752748200-1752751800@marvinlibrary.org
SUMMARY:Story Time Ages 2-5 KERR
DESCRIPTION:Story Times are in the Kerr Garden Room\, unless otherwise stated.  The following times are effective during Summer Reading June 1 – July 18.\nLap Sit  Ages 0-2 Wednesdays at 10:00 AM Theme: Colors of the Rainbow\nStory Time Ages 2-5 Tuesdays and Thursdays at 10:30 AM Theme: Our Colorful World\nBook & Craft Grades 1-3 Wednesdays at 1:00 PM Theme: Animal Colors\nFarmers’ Market Story Time (Meet at Blackfork Commons) Saturday 6/7\, 7/21 & 7/5 at 10:30 AM Theme: Art in Nature \n 
URL:https://marvinlibrary.org/event-2/story-time-ages-2-5-7/2025-07-17/
LOCATION:Marvin Memorial Library\, 29 W. Whitney Ave.\, Shelby\, OH\, 44875
CATEGORIES:Pre-school
END:VEVENT
BEGIN:VEVENT
DTSTART;TZID=America/New_York:20250717T130000
DTEND;TZID=America/New_York:20250717T140000
DTSTAMP:20260421T153255
CREATED:20250624T174428Z
LAST-MODIFIED:20250624T174428Z
UID:10007399-1752757200-1752760800@marvinlibrary.org
SUMMARY:BAVIN in Use
DESCRIPTION:
URL:https://marvinlibrary.org/event-2/bavin-in-use-121/2025-07-17/
LOCATION:Marvin Memorial Library\, 29 W. Whitney Ave.\, Shelby\, OH\, 44875
CATEGORIES:Community
END:VEVENT
BEGIN:VEVENT
DTSTART;TZID=America/New_York:20250717T180000
DTEND;TZID=America/New_York:20250717T200000
DTSTAMP:20260421T153255
CREATED:20250603T181516Z
LAST-MODIFIED:20250603T181516Z
UID:10007378-1752775200-1752782400@marvinlibrary.org
SUMMARY:Buckeye Imagination Museum
DESCRIPTION:For kids and teens: Must have ticket to attend. Each tickets admits one child or teen and one adult.
URL:https://marvinlibrary.org/event-2/buckeye-imagination-museum/
LOCATION:Marvin Memorial Library\, 29 W. Whitney Ave.\, Shelby\, OH\, 44875
CATEGORIES:Family
END:VEVENT
BEGIN:VEVENT
DTSTART;TZID=America/New_York:20250718T090000
DTEND;TZID=America/New_York:20250718T170000
DTSTAMP:20260421T153255
CREATED:20250611T162014Z
LAST-MODIFIED:20250611T163040Z
UID:10007379-1752829200-1752858000@marvinlibrary.org
SUMMARY:KERR in Use
DESCRIPTION:
URL:https://marvinlibrary.org/event-2/kerr-in-use-52/
LOCATION:Marvin Memorial Library\, 29 W. Whitney Ave.\, Shelby\, OH\, 44875
CATEGORIES:Community
END:VEVENT
BEGIN:VEVENT
DTSTART;TZID=America/New_York:20250718T100000
DTEND;TZID=America/New_York:20250718T120000
DTSTAMP:20260421T153255
CREATED:20250521T190558Z
LAST-MODIFIED:20250910T172513Z
UID:10006248-1752832800-1752840000@marvinlibrary.org
SUMMARY:Free Blood Pressure & Blood Glucose Testing
DESCRIPTION:Stop by the library every Friday morning from 10:00AM to 12:00 PM for a free blood pressure and/or blood glucose check with the Shelby Health Department’s Director of Nursing. Get health tips and free information.
URL:https://marvinlibrary.org/event-2/free-blood-pressure-blood-glucose-testing/2025-07-18/
LOCATION:Marvin Memorial Library\, 29 W. Whitney Ave.\, Shelby\, OH\, 44875
CATEGORIES:Community
END:VEVENT
BEGIN:VEVENT
DTSTART;TZID=America/New_York:20250718T110000
DTEND;TZID=America/New_York:20250718T150000
DTSTAMP:20260421T153255
CREATED:20250630T164557Z
LAST-MODIFIED:20250630T164557Z
UID:10007448-1752836400-1752850800@marvinlibrary.org
SUMMARY:BAVIN in Use
DESCRIPTION:
URL:https://marvinlibrary.org/event-2/bavin-in-use-122/
LOCATION:Marvin Memorial Library\, 29 W. Whitney Ave.\, Shelby\, OH\, 44875
CATEGORIES:Community
END:VEVENT
BEGIN:VEVENT
DTSTART;TZID=America/New_York:20250718T130000
DTEND;TZID=America/New_York:20250718T150000
DTSTAMP:20260421T153255
CREATED:20250516T155709Z
LAST-MODIFIED:20250516T160005Z
UID:10007342-1752843600-1752850800@marvinlibrary.org
SUMMARY:Teen Movie Day MPR
DESCRIPTION:Teens in 7th – 12th Grade meet in the Multipurpose Room on Fridays at 1:00 for a movie and snacks! \nJune 6 The Wild Robot\nJune 13 Dear Evan Hansen\nJune 20 Twisters Double Feature\nJune 27 Wicked\nJuly 14 Cruella\nJuly 18 Dead Poets Society
URL:https://marvinlibrary.org/event-2/teen-movie-day/2025-07-18/
LOCATION:Marvin Memorial Library\, 29 W. Whitney Ave.\, Shelby\, OH\, 44875
CATEGORIES:Teens
END:VEVENT
BEGIN:VEVENT
DTSTART;TZID=America/New_York:20250718T170000
DTEND;TZID=America/New_York:20250718T190000
DTSTAMP:20260421T153255
CREATED:20250603T182109Z
LAST-MODIFIED:20250606T203645Z
UID:10006275-1752858000-1752865200@marvinlibrary.org
SUMMARY:End of Summer Reading Block Party and Cruise-In
DESCRIPTION:The Community is welcome to join us for our End of Summer Reading Block Party and Cruise-In\, Friday July 18th\, 5-7 PM.  We’ll have cars\, music\, street music\, games\, door prizes! We’ll also have coupons for Paul’s and Roselawn’s portable mini golf where you win a free game if you get a hole-in-one!
URL:https://marvinlibrary.org/event-2/end-of-summer-reading-block-party-and-cruise-in/
LOCATION:Marvin Memorial Library\, 29 W. Whitney Ave.\, Shelby\, OH\, 44875
CATEGORIES:Community
END:VEVENT
BEGIN:VEVENT
DTSTART;TZID=America/New_York:20250721T100000
DTEND;TZID=America/New_York:20250721T110000
DTSTAMP:20260421T153255
CREATED:20240814T142621Z
LAST-MODIFIED:20250305T185200Z
UID:10006964-1753092000-1753095600@marvinlibrary.org
SUMMARY:Rompin' Stompin' Book Club BAVIN
DESCRIPTION:Meets the 3rd Mon. each month. Bestseller assigned titles provided to borrow. Join any time. \n 
URL:https://marvinlibrary.org/event-2/rompin-stompin-book-club/2025-07-21/
LOCATION:Marvin Memorial Library\, 29 W. Whitney Ave.\, Shelby\, OH\, 44875
CATEGORIES:Adults
END:VEVENT
BEGIN:VEVENT
DTSTART;TZID=America/New_York:20250721T100000
DTEND;TZID=America/New_York:20250721T110000
DTSTAMP:20260421T153255
CREATED:20250327T201909Z
LAST-MODIFIED:20250701T193343Z
UID:10007247-1753092000-1753095600@marvinlibrary.org
SUMMARY:Rompin' Stompin' Book Club BAVIN
DESCRIPTION:Rompin’ Stompin’ Book Club meets on the 3rd Monday of each month at 10:00 AM. Join any time! \nThe following are 2025 selections.\nApril 21 The Frozen River\nMay 19 The Pull of the Stars\nJune 16 Meet Me in Monaco\nJuly 21 The Girl Behind the Gates\nAug 18 The Water Keeper\nSept 15 Dear Edward
URL:https://marvinlibrary.org/event-2/rompin-stompin-book-club-bavin/2025-07-21/
LOCATION:Marvin Memorial Library\, 29 W. Whitney Ave.\, Shelby\, OH\, 44875
CATEGORIES:Adults
END:VEVENT
BEGIN:VEVENT
DTSTART;TZID=America/New_York:20250721T173000
DTEND;TZID=America/New_York:20250721T190000
DTSTAMP:20260421T153255
CREATED:20201110T170625Z
LAST-MODIFIED:20201110T170625Z
UID:10004813-1753119000-1753124400@marvinlibrary.org
SUMMARY:Teen Writers & Artists Club - Virtual
DESCRIPTION:Teens 7th-12th Grade are invited to join us via Zoom for this year’s Writers/Artists Club. We’ll share ideas\, beat writers’ block\, play Pictionary\, and have fun! Email Jami at childrens@marvinlibrary.org for all the Zoom Login information.
URL:https://marvinlibrary.org/event-2/teen-writers-artists-club-virtual/2025-07-21/
LOCATION:Marvin Memorial Library\, 29 W. Whitney Ave.\, Shelby\, OH\, 44875
CATEGORIES:Teens
END:VEVENT
BEGIN:VEVENT
DTSTART;TZID=America/New_York:20250721T180000
DTEND;TZID=America/New_York:20250721T190000
DTSTAMP:20260421T153255
CREATED:20250603T184422Z
LAST-MODIFIED:20250603T184422Z
UID:10006277-1753120800-1753124400@marvinlibrary.org
SUMMARY:Modern Art...Cars...in Popular Culture MPR
DESCRIPTION:Join Matthew Donahue from The Ohio Humanities for a night of car talk\, highlighting the modern art and outsider art movement of the art car and how the art car is intrinsically linked to popular culture.  An art car is a modern art movement in which artists use the automobile as a canvas for artistic expression.  The art car is associated with the 1960s during the rise of the pop art movement and since then the art car has developed into a modern art force with exhibitions taking place all across the United States and in galleries and museums. \nPresenter\, Dr. Matthew Donahue\, artist\, musician\, filmmaker and teaching professor from the Department of Popular Culture at Bowling Green State University is a long time art car artist\, creating over 20 different art cars and exhibiting his art cars at exhibitions and museums all across the country. \nThis program is made possible\, in part\, by Ohio Humanities and the National Endowment for the Humanities. Any views\, findings\, conclusions or recommendations expressed in this (publication/program/exhibition/website) do not necessarily represent those of Ohio Humanities or the National Endowment for the Humanities.”
URL:https://marvinlibrary.org/event-2/modern-art-cars-in-popular-culture-mpr/
LOCATION:Marvin Memorial Library\, 29 W. Whitney Ave.\, Shelby\, OH\, 44875
CATEGORIES:Adults
END:VEVENT
BEGIN:VEVENT
DTSTART;TZID=America/New_York:20250723T100000
DTEND;TZID=America/New_York:20250723T110000
DTSTAMP:20260421T153255
CREATED:20250508T145318Z
LAST-MODIFIED:20250905T161457Z
UID:10006104-1753264800-1753268400@marvinlibrary.org
SUMMARY:Walking Club
DESCRIPTION:We’ll meet in the lobby every Wednesday at 10:00 AM for Walking Club.\nWear comfortable clothes/walking shoes and we’ll walk for approximately one hour. Feel free to wear wrist or ankle weights and bring a water bottle. If we have bad weather\, or it is cold\, we will follow an indoor walking video.
URL:https://marvinlibrary.org/event-2/walking-club/2025-07-23/
LOCATION:Marvin Memorial Library\, 29 W. Whitney Ave.\, Shelby\, OH\, 44875
CATEGORIES:Adults
END:VEVENT
BEGIN:VEVENT
DTSTART;TZID=America/New_York:20250723T140000
DTEND;TZID=America/New_York:20250723T160000
DTSTAMP:20260421T153255
CREATED:20250716T191113Z
LAST-MODIFIED:20250716T191113Z
UID:10006418-1753279200-1753286400@marvinlibrary.org
SUMMARY:BAVIN in Use
DESCRIPTION:
URL:https://marvinlibrary.org/event-2/bavin-in-use-126/
LOCATION:Marvin Memorial Library\, 29 W. Whitney Ave.\, Shelby\, OH\, 44875
CATEGORIES:Community
END:VEVENT
BEGIN:VEVENT
DTSTART;TZID=America/New_York:20250723T170000
DTEND;TZID=America/New_York:20250723T200000
DTSTAMP:20260421T153255
CREATED:20250731T135535Z
LAST-MODIFIED:20250731T135535Z
UID:10007074-1753290000-1753300800@marvinlibrary.org
SUMMARY:KERR in Use
DESCRIPTION:
URL:https://marvinlibrary.org/event-2/kerr-in-use-41/2025-07-23/
LOCATION:Marvin Memorial Library\, 29 W. Whitney Ave.\, Shelby\, OH\, 44875
CATEGORIES:Community
END:VEVENT
BEGIN:VEVENT
DTSTART;TZID=America/New_York:20250724T130000
DTEND;TZID=America/New_York:20250724T140000
DTSTAMP:20260421T153255
CREATED:20250731T135538Z
LAST-MODIFIED:20250910T201338Z
UID:10007098-1753362000-1753365600@marvinlibrary.org
SUMMARY:Knotty Knitters BAVIN
DESCRIPTION:Knotty Knitters meet on the 2nd & 4th Thursday of each month at 1:00PM.  Beginners are always welcome! Join the club anytime!
URL:https://marvinlibrary.org/event-2/knotty-knitters-mpr-3-2/2025-07-24/
LOCATION:Marvin Memorial Library\, 29 W. Whitney Ave.\, Shelby\, OH\, 44875
CATEGORIES:Community
END:VEVENT
BEGIN:VEVENT
DTSTART;TZID=America/New_York:20250724T160000
DTEND;TZID=America/New_York:20250724T180000
DTSTAMP:20260421T153255
CREATED:20250603T185054Z
LAST-MODIFIED:20250603T185054Z
UID:10006285-1753372800-1753380000@marvinlibrary.org
SUMMARY:MPR in Use
DESCRIPTION:
URL:https://marvinlibrary.org/event-2/mpr-in-use-76/
LOCATION:Marvin Memorial Library\, 29 W. Whitney Ave.\, Shelby\, OH\, 44875
CATEGORIES:Community
END:VEVENT
BEGIN:VEVENT
DTSTART;TZID=America/New_York:20250725T100000
DTEND;TZID=America/New_York:20250725T120000
DTSTAMP:20260421T153255
CREATED:20250521T190558Z
LAST-MODIFIED:20250910T172513Z
UID:10006249-1753437600-1753444800@marvinlibrary.org
SUMMARY:Free Blood Pressure & Blood Glucose Testing
DESCRIPTION:Stop by the library every Friday morning from 10:00AM to 12:00 PM for a free blood pressure and/or blood glucose check with the Shelby Health Department’s Director of Nursing. Get health tips and free information.
URL:https://marvinlibrary.org/event-2/free-blood-pressure-blood-glucose-testing/2025-07-25/
LOCATION:Marvin Memorial Library\, 29 W. Whitney Ave.\, Shelby\, OH\, 44875
CATEGORIES:Community
END:VEVENT
BEGIN:VEVENT
DTSTART;TZID=America/New_York:20250726T103000
DTEND;TZID=America/New_York:20250726T113000
DTSTAMP:20260421T153255
CREATED:20250711T191134Z
LAST-MODIFIED:20250731T184900Z
UID:10006376-1753525800-1753529400@marvinlibrary.org
SUMMARY:Story Time at The Farmers' Market
DESCRIPTION:Meet us at the Blackfork Commons for Story Time.
URL:https://marvinlibrary.org/event-2/story-time-at-the-farmers-market/2025-07-26/
LOCATION:Marvin Memorial Library\, 29 W. Whitney Ave.\, Shelby\, OH\, 44875
CATEGORIES:Children
END:VEVENT
END:VCALENDAR