BEGIN:VCALENDAR
VERSION:2.0
PRODID:-//Marvin Memorial Library - ECPv6.15.18//NONSGML v1.0//EN
CALSCALE:GREGORIAN
METHOD:PUBLISH
X-ORIGINAL-URL:https://marvinlibrary.org
X-WR-CALDESC:Events for Marvin Memorial Library
REFRESH-INTERVAL;VALUE=DURATION:PT1H
X-Robots-Tag:noindex
X-PUBLISHED-TTL:PT1H
BEGIN:VTIMEZONE
TZID:America/New_York
BEGIN:DAYLIGHT
TZOFFSETFROM:-0500
TZOFFSETTO:-0400
TZNAME:EDT
DTSTART:20240310T070000
END:DAYLIGHT
BEGIN:STANDARD
TZOFFSETFROM:-0400
TZOFFSETTO:-0500
TZNAME:EST
DTSTART:20241103T060000
END:STANDARD
BEGIN:DAYLIGHT
TZOFFSETFROM:-0500
TZOFFSETTO:-0400
TZNAME:EDT
DTSTART:20250309T070000
END:DAYLIGHT
BEGIN:STANDARD
TZOFFSETFROM:-0400
TZOFFSETTO:-0500
TZNAME:EST
DTSTART:20251102T060000
END:STANDARD
BEGIN:DAYLIGHT
TZOFFSETFROM:-0500
TZOFFSETTO:-0400
TZNAME:EDT
DTSTART:20260308T070000
END:DAYLIGHT
BEGIN:STANDARD
TZOFFSETFROM:-0400
TZOFFSETTO:-0500
TZNAME:EST
DTSTART:20261101T060000
END:STANDARD
END:VTIMEZONE
BEGIN:VEVENT
DTSTART;TZID=America/New_York:20250808T100000
DTEND;TZID=America/New_York:20250808T120000
DTSTAMP:20260423T235734
CREATED:20250521T190558Z
LAST-MODIFIED:20250910T172513Z
UID:10006251-1754647200-1754654400@marvinlibrary.org
SUMMARY:Free Blood Pressure & Blood Glucose Testing
DESCRIPTION:Stop by the library every Friday morning from 10:00AM to 12:00 PM for a free blood pressure and/or blood glucose check with the Shelby Health Department’s Director of Nursing. Get health tips and free information.
URL:https://marvinlibrary.org/event-2/free-blood-pressure-blood-glucose-testing/2025-08-08/
LOCATION:Marvin Memorial Library\, 29 W. Whitney Ave.\, Shelby\, OH\, 44875
CATEGORIES:Community
END:VEVENT
BEGIN:VEVENT
DTSTART;TZID=America/New_York:20250809T090000
DTEND;TZID=America/New_York:20250809T133000
DTSTAMP:20260423T235734
CREATED:20250617T181441Z
LAST-MODIFIED:20250617T181441Z
UID:10007385-1754730000-1754746200@marvinlibrary.org
SUMMARY:Friend of Library BOOK SALE
DESCRIPTION:The book sale will be open: \nThursday 4:30 – 7:30\nFriday 9:00 – 4:30\nSaturday 9:00 – 1:30
URL:https://marvinlibrary.org/event-2/friend-of-library-book-sale/2025-08-09/
LOCATION:Marvin Memorial Library\, 29 W. Whitney Ave.\, Shelby\, OH\, 44875
CATEGORIES:Friends of the Library
END:VEVENT
BEGIN:VEVENT
DTSTART;TZID=America/New_York:20250812T090000
DTEND;TZID=America/New_York:20250812T170000
DTSTAMP:20260423T235734
CREATED:20250624T175055Z
LAST-MODIFIED:20250624T175055Z
UID:10007405-1754989200-1755018000@marvinlibrary.org
SUMMARY:KERR in Use
DESCRIPTION:
URL:https://marvinlibrary.org/event-2/kerr-in-use-54/
LOCATION:Marvin Memorial Library\, 29 W. Whitney Ave.\, Shelby\, OH\, 44875
CATEGORIES:Community
END:VEVENT
BEGIN:VEVENT
DTSTART;TZID=America/New_York:20250812T150000
DTEND;TZID=America/New_York:20250812T170000
DTSTAMP:20260423T235734
CREATED:20250806T192603Z
LAST-MODIFIED:20250806T192603Z
UID:10007664-1755010800-1755018000@marvinlibrary.org
SUMMARY:BAVIN in Use
DESCRIPTION:
URL:https://marvinlibrary.org/event-2/bavin-in-use-130/
LOCATION:Marvin Memorial Library\, 29 W. Whitney Ave.\, Shelby\, OH\, 44875
CATEGORIES:Community
END:VEVENT
BEGIN:VEVENT
DTSTART;TZID=America/New_York:20250812T160000
DTEND;TZID=America/New_York:20250812T170000
DTSTAMP:20260423T235734
CREATED:20241226T210554Z
LAST-MODIFIED:20251015T182329Z
UID:10007133-1755014400-1755018000@marvinlibrary.org
SUMMARY:Board of Trustees Meeting BAVIN
DESCRIPTION:
URL:https://marvinlibrary.org/event-2/board-of-trustees-meeting-mpr-2/2025-08-12/
LOCATION:Marvin Memorial Library\, 29 W. Whitney Ave.\, Shelby\, OH\, 44875
CATEGORIES:Community
END:VEVENT
BEGIN:VEVENT
DTSTART;TZID=America/New_York:20250813T100000
DTEND;TZID=America/New_York:20250813T110000
DTSTAMP:20260423T235734
CREATED:20250508T145318Z
LAST-MODIFIED:20250905T161457Z
UID:10006107-1755079200-1755082800@marvinlibrary.org
SUMMARY:Walking Club
DESCRIPTION:We’ll meet in the lobby every Wednesday at 10:00 AM for Walking Club.\nWear comfortable clothes/walking shoes and we’ll walk for approximately one hour. Feel free to wear wrist or ankle weights and bring a water bottle. If we have bad weather\, or it is cold\, we will follow an indoor walking video.
URL:https://marvinlibrary.org/event-2/walking-club/2025-08-13/
LOCATION:Marvin Memorial Library\, 29 W. Whitney Ave.\, Shelby\, OH\, 44875
CATEGORIES:Adults
END:VEVENT
BEGIN:VEVENT
DTSTART;TZID=America/New_York:20250813T130000
DTEND;TZID=America/New_York:20250813T140000
DTSTAMP:20260423T235734
CREATED:20250611T155627Z
LAST-MODIFIED:20250611T161420Z
UID:10006357-1755090000-1755093600@marvinlibrary.org
SUMMARY:Cover to Cover Book Club MPR
DESCRIPTION:Cover to Cover meets on the 2nd Wednesday of each month at 1:00 PM. No need to register; join any time.
URL:https://marvinlibrary.org/event-2/cover-to-cover-book-club/2025-08-13/
LOCATION:Marvin Memorial Library\, 29 W. Whitney Ave.\, Shelby\, OH\, 44875
CATEGORIES:Adults
END:VEVENT
BEGIN:VEVENT
DTSTART;TZID=America/New_York:20250813T170000
DTEND;TZID=America/New_York:20250813T193000
DTSTAMP:20260423T235734
CREATED:20250617T181656Z
LAST-MODIFIED:20250617T181656Z
UID:10007386-1755104400-1755113400@marvinlibrary.org
SUMMARY:KERR in Use
DESCRIPTION:
URL:https://marvinlibrary.org/event-2/kerr-in-use-53/2025-08-13/
LOCATION:Marvin Memorial Library\, 29 W. Whitney Ave.\, Shelby\, OH\, 44875
CATEGORIES:Community
END:VEVENT
BEGIN:VEVENT
DTSTART;TZID=America/New_York:20250813T170000
DTEND;TZID=America/New_York:20250813T200000
DTSTAMP:20260423T235734
CREATED:20241118T203919Z
LAST-MODIFIED:20241118T203919Z
UID:10007069-1755104400-1755115200@marvinlibrary.org
SUMMARY:KERR in Use
DESCRIPTION:
URL:https://marvinlibrary.org/event-2/kerr-in-use-41/2025-08-13/
LOCATION:Marvin Memorial Library\, 29 W. Whitney Ave.\, Shelby\, OH\, 44875
CATEGORIES:Community
END:VEVENT
BEGIN:VEVENT
DTSTART;TZID=America/New_York:20250814T090000
DTEND;TZID=America/New_York:20250814T120000
DTSTAMP:20260423T235734
CREATED:20250716T202428Z
LAST-MODIFIED:20250716T210831Z
UID:10006420-1755162000-1755172800@marvinlibrary.org
SUMMARY:Library Closed 9:00AM - 12:00PM
DESCRIPTION:Due to maintenance the Library will not open until 12:00pm on Aug. 14th. We are sorry for any inconvenience and thank  you for your patience.
URL:https://marvinlibrary.org/event-2/library-closed-900am-1200pm/
LOCATION:Marvin Memorial Library\, 29 W. Whitney Ave.\, Shelby\, OH\, 44875
CATEGORIES:Community
END:VEVENT
BEGIN:VEVENT
DTSTART;TZID=America/New_York:20250814T130000
DTEND;TZID=America/New_York:20250814T140000
DTSTAMP:20260423T235734
CREATED:20241118T214427Z
LAST-MODIFIED:20250910T201918Z
UID:10007087-1755176400-1755180000@marvinlibrary.org
SUMMARY:Knotty Knitters BAVIN
DESCRIPTION:Knotty Knitters meet on the 2nd & 4th Thursday of each month at 1:00PM.  Beginners are always welcome! Join the club anytime!
URL:https://marvinlibrary.org/event-2/knotty-knitters-mpr-3/2025-08-14/
LOCATION:Marvin Memorial Library\, 29 W. Whitney Ave.\, Shelby\, OH\, 44875
CATEGORIES:Community
END:VEVENT
BEGIN:VEVENT
DTSTART;TZID=America/New_York:20250814T180000
DTEND;TZID=America/New_York:20250814T190000
DTSTAMP:20260423T235734
CREATED:20250806T203333Z
LAST-MODIFIED:20250811T172916Z
UID:10007665-1755194400-1755198000@marvinlibrary.org
SUMMARY:The Reading Room MPR
DESCRIPTION:Meets on the 2nd Thursday of even numbered months at 6:00pm. \n2025 Themes: \nFeb 13 Written by an African American Author\nApril 10 A Color in the Title\nJune 12 Published the Year You Graduated High School\nAug 14 A Beach Read\nOct 9 Haunted Ohio\nDec 11 Winter/Holidays in Other Cultures or Major Weather Events
URL:https://marvinlibrary.org/event-2/the-reading-room-mpr/2025-08-14/
LOCATION:Marvin Memorial Library\, 29 W. Whitney Ave.\, Shelby\, OH\, 44875
CATEGORIES:Adults
END:VEVENT
BEGIN:VEVENT
DTSTART;TZID=America/New_York:20250815T100000
DTEND;TZID=America/New_York:20250815T120000
DTSTAMP:20260423T235734
CREATED:20250521T190558Z
LAST-MODIFIED:20250910T172513Z
UID:10006252-1755252000-1755259200@marvinlibrary.org
SUMMARY:Free Blood Pressure & Blood Glucose Testing
DESCRIPTION:Stop by the library every Friday morning from 10:00AM to 12:00 PM for a free blood pressure and/or blood glucose check with the Shelby Health Department’s Director of Nursing. Get health tips and free information.
URL:https://marvinlibrary.org/event-2/free-blood-pressure-blood-glucose-testing/2025-08-15/
LOCATION:Marvin Memorial Library\, 29 W. Whitney Ave.\, Shelby\, OH\, 44875
CATEGORIES:Community
END:VEVENT
BEGIN:VEVENT
DTSTART;TZID=America/New_York:20250816T103000
DTEND;TZID=America/New_York:20250816T113000
DTSTAMP:20260423T235734
CREATED:20250711T191134Z
LAST-MODIFIED:20250731T184900Z
UID:10006377-1755340200-1755343800@marvinlibrary.org
SUMMARY:Story Time at The Farmers' Market
DESCRIPTION:Meet us at the Blackfork Commons for Story Time.
URL:https://marvinlibrary.org/event-2/story-time-at-the-farmers-market/2025-08-16/
LOCATION:Marvin Memorial Library\, 29 W. Whitney Ave.\, Shelby\, OH\, 44875
CATEGORIES:Children
END:VEVENT
BEGIN:VEVENT
DTSTART;TZID=America/New_York:20250818T100000
DTEND;TZID=America/New_York:20250818T110000
DTSTAMP:20260423T235734
CREATED:20250327T201909Z
LAST-MODIFIED:20250701T193343Z
UID:10007248-1755511200-1755514800@marvinlibrary.org
SUMMARY:Rompin' Stompin' Book Club BAVIN
DESCRIPTION:Rompin’ Stompin’ Book Club meets on the 3rd Monday of each month at 10:00 AM. Join any time! \nThe following are 2025 selections.\nApril 21 The Frozen River\nMay 19 The Pull of the Stars\nJune 16 Meet Me in Monaco\nJuly 21 The Girl Behind the Gates\nAug 18 The Water Keeper\nSept 15 Dear Edward
URL:https://marvinlibrary.org/event-2/rompin-stompin-book-club-bavin/2025-08-18/
LOCATION:Marvin Memorial Library\, 29 W. Whitney Ave.\, Shelby\, OH\, 44875
CATEGORIES:Adults
END:VEVENT
BEGIN:VEVENT
DTSTART;TZID=America/New_York:20250818T100000
DTEND;TZID=America/New_York:20250818T110000
DTSTAMP:20260423T235734
CREATED:20250711T202045Z
LAST-MODIFIED:20260407T142000Z
UID:10006381-1755511200-1755514800@marvinlibrary.org
SUMMARY:Lap Sit Story Time for Ages 0-2 STR
DESCRIPTION:Join us in the Story Time Room at 10:00 am every Monday for Lap Sit Story Time.  For children ages 0-2 and their caregivers\, Lap Sit will focus on connecting with baby through lap time\, books\, songs\, bubbles\, and more!
URL:https://marvinlibrary.org/event-2/lap-sit-story-time-for-ages-0-2/2025-08-18/
LOCATION:Marvin Memorial Library\, 29 W. Whitney Ave.\, Shelby\, OH\, 44875
CATEGORIES:Pre-school
END:VEVENT
BEGIN:VEVENT
DTSTART;TZID=America/New_York:20250818T130000
DTEND;TZID=America/New_York:20250818T150000
DTSTAMP:20260423T235734
CREATED:20250814T193134Z
LAST-MODIFIED:20250814T193134Z
UID:10007877-1755522000-1755529200@marvinlibrary.org
SUMMARY:BAVIN in Use
DESCRIPTION:
URL:https://marvinlibrary.org/event-2/bavin-in-use-132/
LOCATION:Marvin Memorial Library\, 29 W. Whitney Ave.\, Shelby\, OH\, 44875
CATEGORIES:Community
END:VEVENT
BEGIN:VEVENT
DTSTART;TZID=America/New_York:20250819T103000
DTEND;TZID=America/New_York:20250819T113000
DTSTAMP:20260423T235734
CREATED:20250721T221355Z
LAST-MODIFIED:20260407T142357Z
UID:10006427-1755599400-1755603000@marvinlibrary.org
SUMMARY:Story Time Ages 2-5 STR
DESCRIPTION:Story Times consist of books\, games\, toys\, crafts\, music\, and lots of fun!
URL:https://marvinlibrary.org/event-2/story-time-for-ages-2-5-4/2025-08-19/
LOCATION:Marvin Memorial Library\, 29 W. Whitney Ave.\, Shelby\, OH\, 44875
CATEGORIES:Pre-school
END:VEVENT
BEGIN:VEVENT
DTSTART;TZID=America/New_York:20250819T130000
DTEND;TZID=America/New_York:20250819T140000
DTSTAMP:20260423T235734
CREATED:20250721T221511Z
LAST-MODIFIED:20260123T193357Z
UID:10007454-1755608400-1755612000@marvinlibrary.org
SUMMARY:Story Time Ages 2-5 STR
DESCRIPTION:Story Times consist of books\, games\, toys\, crafts\, music\, and lots of fun!
URL:https://marvinlibrary.org/event-2/story-time-for-ages-2-5-5/2025-08-19/
LOCATION:Marvin Memorial Library\, 29 W. Whitney Ave.\, Shelby\, OH\, 44875
CATEGORIES:Pre-school
END:VEVENT
BEGIN:VEVENT
DTSTART;TZID=America/New_York:20250819T180000
DTEND;TZID=America/New_York:20250819T190000
DTSTAMP:20260423T235734
CREATED:20250617T182209Z
LAST-MODIFIED:20250619T142710Z
UID:10007388-1755626400-1755630000@marvinlibrary.org
SUMMARY:DIY Design Night MPR
DESCRIPTION:Join us on the 3rd Tuesday of each month at 6:00 PM for a fun craft project!
URL:https://marvinlibrary.org/event-2/diy-design-night-mpr/
LOCATION:Marvin Memorial Library\, 29 W. Whitney Ave.\, Shelby\, OH\, 44875
CATEGORIES:Adults
END:VEVENT
BEGIN:VEVENT
DTSTART;TZID=America/New_York:20250820T100000
DTEND;TZID=America/New_York:20250820T110000
DTSTAMP:20260423T235734
CREATED:20250508T145318Z
LAST-MODIFIED:20250905T161457Z
UID:10006108-1755684000-1755687600@marvinlibrary.org
SUMMARY:Walking Club
DESCRIPTION:We’ll meet in the lobby every Wednesday at 10:00 AM for Walking Club.\nWear comfortable clothes/walking shoes and we’ll walk for approximately one hour. Feel free to wear wrist or ankle weights and bring a water bottle. If we have bad weather\, or it is cold\, we will follow an indoor walking video.
URL:https://marvinlibrary.org/event-2/walking-club/2025-08-20/
LOCATION:Marvin Memorial Library\, 29 W. Whitney Ave.\, Shelby\, OH\, 44875
CATEGORIES:Adults
END:VEVENT
BEGIN:VEVENT
DTSTART;TZID=America/New_York:20250821T103000
DTEND;TZID=America/New_York:20250821T113000
DTSTAMP:20260423T235734
CREATED:20250721T223627Z
LAST-MODIFIED:20260407T142208Z
UID:10007495-1755772200-1755775800@marvinlibrary.org
SUMMARY:Story Time Ages 2-5 STR
DESCRIPTION:Story Times consist of books\, games\, crafts\, music and lots of fun!
URL:https://marvinlibrary.org/event-2/story-time-for-ages-2-5-6/2025-08-21/
LOCATION:Marvin Memorial Library\, 29 W. Whitney Ave.\, Shelby\, OH\, 44875
CATEGORIES:Pre-school
END:VEVENT
BEGIN:VEVENT
DTSTART;TZID=America/New_York:20250821T110000
DTEND;TZID=America/New_York:20250821T130000
DTSTAMP:20260423T235734
CREATED:20250813T202502Z
LAST-MODIFIED:20250813T202502Z
UID:10007866-1755774000-1755781200@marvinlibrary.org
SUMMARY:BAVIN in Use
DESCRIPTION:
URL:https://marvinlibrary.org/event-2/bavin-in-use-131/
LOCATION:Marvin Memorial Library\, 29 W. Whitney Ave.\, Shelby\, OH\, 44875
CATEGORIES:Community
END:VEVENT
BEGIN:VEVENT
DTSTART;TZID=America/New_York:20250822T100000
DTEND;TZID=America/New_York:20250822T120000
DTSTAMP:20260423T235734
CREATED:20250521T190558Z
LAST-MODIFIED:20250910T172513Z
UID:10006253-1755856800-1755864000@marvinlibrary.org
SUMMARY:Free Blood Pressure & Blood Glucose Testing
DESCRIPTION:Stop by the library every Friday morning from 10:00AM to 12:00 PM for a free blood pressure and/or blood glucose check with the Shelby Health Department’s Director of Nursing. Get health tips and free information.
URL:https://marvinlibrary.org/event-2/free-blood-pressure-blood-glucose-testing/2025-08-22/
LOCATION:Marvin Memorial Library\, 29 W. Whitney Ave.\, Shelby\, OH\, 44875
CATEGORIES:Community
END:VEVENT
BEGIN:VEVENT
DTSTART;TZID=America/New_York:20250822T103000
DTEND;TZID=America/New_York:20250822T113000
DTSTAMP:20260423T235734
CREATED:20250721T223900Z
LAST-MODIFIED:20260407T144335Z
UID:10007533-1755858600-1755862200@marvinlibrary.org
SUMMARY:Music & Movement for Ages 0-5 MPR
DESCRIPTION:Music & Movement is for children 0-5\, where they’ll engage in both physical activity and the creation of music while having interaction with their caregivers.
URL:https://marvinlibrary.org/event-2/music-movement-for-ages-0-5/2025-08-22/
LOCATION:Marvin Memorial Library\, 29 W. Whitney Ave.\, Shelby\, OH\, 44875
CATEGORIES:Pre-school
END:VEVENT
BEGIN:VEVENT
DTSTART;TZID=America/New_York:20250823T103000
DTEND;TZID=America/New_York:20250823T110000
DTSTAMP:20260423T235734
CREATED:20250707T200919Z
LAST-MODIFIED:20250707T200919Z
UID:10007452-1755945000-1755946800@marvinlibrary.org
SUMMARY:"Prepare with Pedro" Red Cross Home Fire Program - MPR
DESCRIPTION:Registration opens Aug. 4th for Prepare with Pedro – Home Fire.  The Red Cross will hold two sperate session.  You may register your PreK – 2nd grade child for either one.  One will be at 10:30 and the 2nd will be at 11:30.
URL:https://marvinlibrary.org/event-2/prepare-with-pedro-red-cross-home-fire-program-mpr/2025-08-23/1/
LOCATION:Marvin Memorial Library\, 29 W. Whitney Ave.\, Shelby\, OH\, 44875
CATEGORIES:Children
END:VEVENT
BEGIN:VEVENT
DTSTART;TZID=America/New_York:20250823T113000
DTEND;TZID=America/New_York:20250823T120000
DTSTAMP:20260423T235734
CREATED:20250707T200919Z
LAST-MODIFIED:20250707T200919Z
UID:10007453-1755948600-1755950400@marvinlibrary.org
SUMMARY:"Prepare with Pedro" Red Cross Home Fire Program - MPR
DESCRIPTION:Registration opens Aug. 4th for Prepare with Pedro – Home Fire.  The Red Cross will hold two sperate session.  You may register your PreK – 2nd grade child for either one.  One will be at 10:30 and the 2nd will be at 11:30.
URL:https://marvinlibrary.org/event-2/prepare-with-pedro-red-cross-home-fire-program-mpr/2025-08-23/2/
LOCATION:Marvin Memorial Library\, 29 W. Whitney Ave.\, Shelby\, OH\, 44875
CATEGORIES:Children
END:VEVENT
BEGIN:VEVENT
DTSTART;TZID=America/New_York:20250825T100000
DTEND;TZID=America/New_York:20250825T110000
DTSTAMP:20260423T235734
CREATED:20250711T202045Z
LAST-MODIFIED:20260407T142000Z
UID:10006382-1756116000-1756119600@marvinlibrary.org
SUMMARY:Lap Sit Story Time for Ages 0-2 STR
DESCRIPTION:Join us in the Story Time Room at 10:00 am every Monday for Lap Sit Story Time.  For children ages 0-2 and their caregivers\, Lap Sit will focus on connecting with baby through lap time\, books\, songs\, bubbles\, and more!
URL:https://marvinlibrary.org/event-2/lap-sit-story-time-for-ages-0-2/2025-08-25/
LOCATION:Marvin Memorial Library\, 29 W. Whitney Ave.\, Shelby\, OH\, 44875
CATEGORIES:Pre-school
END:VEVENT
BEGIN:VEVENT
DTSTART;TZID=America/New_York:20250826T103000
DTEND;TZID=America/New_York:20250826T113000
DTSTAMP:20260423T235734
CREATED:20250721T221355Z
LAST-MODIFIED:20260407T142357Z
UID:10006428-1756204200-1756207800@marvinlibrary.org
SUMMARY:Story Time Ages 2-5 STR
DESCRIPTION:Story Times consist of books\, games\, toys\, crafts\, music\, and lots of fun!
URL:https://marvinlibrary.org/event-2/story-time-for-ages-2-5-4/2025-08-26/
LOCATION:Marvin Memorial Library\, 29 W. Whitney Ave.\, Shelby\, OH\, 44875
CATEGORIES:Pre-school
END:VEVENT
BEGIN:VEVENT
DTSTART;TZID=America/New_York:20250826T130000
DTEND;TZID=America/New_York:20250826T140000
DTSTAMP:20260423T235734
CREATED:20250721T221511Z
LAST-MODIFIED:20260123T193357Z
UID:10007455-1756213200-1756216800@marvinlibrary.org
SUMMARY:Story Time Ages 2-5 STR
DESCRIPTION:Story Times consist of books\, games\, toys\, crafts\, music\, and lots of fun!
URL:https://marvinlibrary.org/event-2/story-time-for-ages-2-5-5/2025-08-26/
LOCATION:Marvin Memorial Library\, 29 W. Whitney Ave.\, Shelby\, OH\, 44875
CATEGORIES:Pre-school
END:VEVENT
END:VCALENDAR