BEGIN:VCALENDAR
VERSION:2.0
PRODID:-//Marvin Memorial Library - ECPv6.15.18//NONSGML v1.0//EN
CALSCALE:GREGORIAN
METHOD:PUBLISH
X-ORIGINAL-URL:https://marvinlibrary.org
X-WR-CALDESC:Events for Marvin Memorial Library
REFRESH-INTERVAL;VALUE=DURATION:PT1H
X-Robots-Tag:noindex
X-PUBLISHED-TTL:PT1H
BEGIN:VTIMEZONE
TZID:America/New_York
BEGIN:DAYLIGHT
TZOFFSETFROM:-0500
TZOFFSETTO:-0400
TZNAME:EDT
DTSTART:20240310T070000
END:DAYLIGHT
BEGIN:STANDARD
TZOFFSETFROM:-0400
TZOFFSETTO:-0500
TZNAME:EST
DTSTART:20241103T060000
END:STANDARD
BEGIN:DAYLIGHT
TZOFFSETFROM:-0500
TZOFFSETTO:-0400
TZNAME:EDT
DTSTART:20250309T070000
END:DAYLIGHT
BEGIN:STANDARD
TZOFFSETFROM:-0400
TZOFFSETTO:-0500
TZNAME:EST
DTSTART:20251102T060000
END:STANDARD
BEGIN:DAYLIGHT
TZOFFSETFROM:-0500
TZOFFSETTO:-0400
TZNAME:EDT
DTSTART:20260308T070000
END:DAYLIGHT
BEGIN:STANDARD
TZOFFSETFROM:-0400
TZOFFSETTO:-0500
TZNAME:EST
DTSTART:20261101T060000
END:STANDARD
END:VTIMEZONE
BEGIN:VEVENT
DTSTART;TZID=America/New_York:20250627T100000
DTEND;TZID=America/New_York:20250627T120000
DTSTAMP:20260421T055256
CREATED:20250521T190558Z
LAST-MODIFIED:20250910T172513Z
UID:10006246-1751018400-1751025600@marvinlibrary.org
SUMMARY:Free Blood Pressure & Blood Glucose Testing
DESCRIPTION:Stop by the library every Friday morning from 10:00AM to 12:00 PM for a free blood pressure and/or blood glucose check with the Shelby Health Department’s Director of Nursing. Get health tips and free information.
URL:https://marvinlibrary.org/event-2/free-blood-pressure-blood-glucose-testing/2025-06-27/
LOCATION:Marvin Memorial Library\, 29 W. Whitney Ave.\, Shelby\, OH\, 44875
CATEGORIES:Community
END:VEVENT
BEGIN:VEVENT
DTSTART;TZID=America/New_York:20250627T130000
DTEND;TZID=America/New_York:20250627T150000
DTSTAMP:20260421T055256
CREATED:20250516T155709Z
LAST-MODIFIED:20250516T160005Z
UID:10007340-1751029200-1751036400@marvinlibrary.org
SUMMARY:Teen Movie Day MPR
DESCRIPTION:Teens in 7th – 12th Grade meet in the Multipurpose Room on Fridays at 1:00 for a movie and snacks! \nJune 6 The Wild Robot\nJune 13 Dear Evan Hansen\nJune 20 Twisters Double Feature\nJune 27 Wicked\nJuly 14 Cruella\nJuly 18 Dead Poets Society
URL:https://marvinlibrary.org/event-2/teen-movie-day/2025-06-27/
LOCATION:Marvin Memorial Library\, 29 W. Whitney Ave.\, Shelby\, OH\, 44875
CATEGORIES:Teens
END:VEVENT
BEGIN:VEVENT
DTSTART;TZID=America/New_York:20250628T103000
DTEND;TZID=America/New_York:20250628T123000
DTSTAMP:20260421T055256
CREATED:20250527T175121Z
LAST-MODIFIED:20250527T202006Z
UID:10007362-1751106600-1751113800@marvinlibrary.org
SUMMARY:Wizard of Oz Interactive Movie *RR
DESCRIPTION:Join us in the Multipurpose Room downstairs for an Interactive viewing of The Wizard of Oz! Experience the sounds\, sites\, scents\, tastes and textures of Oz\, from the comfort of your library! The first 24 registrants will receive a Wizard of Oz goody bag! Forgot to register? That’s ok; you can still have a seat and enjoy the show along with the snacks! Remember to collect your 5 summer reading weekly prize slips for attending this event!
URL:https://marvinlibrary.org/event-2/wizard-of-oz-interactive-movie-rr/
LOCATION:Marvin Memorial Library\, 29 W. Whitney Ave.\, Shelby\, OH\, 44875
CATEGORIES:Community
END:VEVENT
BEGIN:VEVENT
DTSTART;TZID=America/New_York:20250630T090000
DTEND;TZID=America/New_York:20250630T120000
DTSTAMP:20260421T055256
CREATED:20250516T160448Z
LAST-MODIFIED:20250516T160448Z
UID:10007347-1751274000-1751284800@marvinlibrary.org
SUMMARY:MPR in Use
DESCRIPTION:
URL:https://marvinlibrary.org/event-2/mpr-in-use-72/2025-06-30/
LOCATION:Marvin Memorial Library\, 29 W. Whitney Ave.\, Shelby\, OH\, 44875
CATEGORIES:Community
END:VEVENT
BEGIN:VEVENT
DTSTART;TZID=America/New_York:20250630T090000
DTEND;TZID=America/New_York:20250630T120000
DTSTAMP:20260421T055256
CREATED:20250527T220632Z
LAST-MODIFIED:20250527T220632Z
UID:10007366-1751274000-1751284800@marvinlibrary.org
SUMMARY:KERR in Use
DESCRIPTION:
URL:https://marvinlibrary.org/event-2/kerr-in-use-50/
LOCATION:Marvin Memorial Library\, 29 W. Whitney Ave.\, Shelby\, OH\, 44875
CATEGORIES:Community
END:VEVENT
BEGIN:VEVENT
DTSTART;TZID=America/New_York:20250630T140000
DTEND;TZID=America/New_York:20250630T150000
DTSTAMP:20260421T055256
CREATED:20250521T174159Z
LAST-MODIFIED:20250522T133353Z
UID:10006235-1751292000-1751295600@marvinlibrary.org
SUMMARY:Aquatic Escape with the Greater Cleveland Aquarium MPR
DESCRIPTION:Register to join us in the Multipurpose Room downstairs to experience the pages of your books come to life as we explore Ohio lakes and faraway oceans and learn some amazing species along the way.  This program is a 45 minute virtual event.  It is live and interactive\, sow we can ask our own questions along the way! We’ll be giving away two tickets to the Greater Cleveland Aquarium.  Remember to get your 5 Summer Reading Prize slips for attending this event! Registration opens May 31st at our Summer Reading Kick-Off Party.
URL:https://marvinlibrary.org/event-2/aquatic-escape-with-the-greater-cleveland-aquarium-mpr/
LOCATION:Marvin Memorial Library\, 29 W. Whitney Ave.\, Shelby\, OH\, 44875
CATEGORIES:Family
END:VEVENT
BEGIN:VEVENT
DTSTART;TZID=America/New_York:20250630T173000
DTEND;TZID=America/New_York:20250630T183000
DTSTAMP:20260421T055256
CREATED:20250513T202336Z
LAST-MODIFIED:20250516T160923Z
UID:10007283-1751304600-1751308200@marvinlibrary.org
SUMMARY:Science Nights KERR
DESCRIPTION:Calling all kids in K-6th grade! Join us in the Kerr Garden Room each Monday at 5:30 for fun\, hands-on\, science based activities on the following topics: \nJune 2 Bugs\nJune 9 Flowers\nJune 16 Bees\nJune 23 Tornadoes\nJune 30 Trees\nJuly 7 Birds\nJuly 14 Animals \nRemember to get your 5 prize slips for attending this event!
URL:https://marvinlibrary.org/event-2/science-nights/2025-06-30/
LOCATION:Marvin Memorial Library\, 29 W. Whitney Ave.\, Shelby\, OH\, 44875
CATEGORIES:Children
END:VEVENT
BEGIN:VEVENT
DTSTART;TZID=America/New_York:20250630T180000
DTEND;TZID=America/New_York:20250630T193000
DTSTAMP:20260421T055256
CREATED:20250521T205957Z
LAST-MODIFIED:20250528T183625Z
UID:10007358-1751306400-1751311800@marvinlibrary.org
SUMMARY:Andrew Steingass Pottery Class *RR MPR
DESCRIPTION:Registration opens May 31st at the Summer Reading Kick-Off Party for a Pottery Class with Andrew Steingass from Steingass Pottery in Ada Ohio.  Pieces will be taken back to his studio and fired then returned to the library for pick up.
URL:https://marvinlibrary.org/event-2/steingass-pottery-class-mpr/
LOCATION:Marvin Memorial Library\, 29 W. Whitney Ave.\, Shelby\, OH\, 44875
CATEGORIES:Adults
END:VEVENT
BEGIN:VEVENT
DTSTART;TZID=America/New_York:20250701T103000
DTEND;TZID=America/New_York:20250701T113000
DTSTAMP:20260421T055256
CREATED:20250513T220422Z
LAST-MODIFIED:20250515T201724Z
UID:10007290-1751365800-1751369400@marvinlibrary.org
SUMMARY:Story Time Ages 2-5 KERR
DESCRIPTION:Story Times are in the Kerr Garden Room\, unless otherwise stated.  The following times are effective during Summer Reading June 1 – July 18.\nLap Sit  Ages 0-2 Wednesdays at 10:00 AM Theme: Colors of the Rainbow\nStory Time Ages 2-5 Tuesdays and Thursdays at 10:30 AM Theme: Our Colorful World\nBook & Craft Grades 1-3 Wednesdays at 1:00 PM Theme: Animal Colors\nFarmers’ Market Story Time (Meet at Blackfork Commons) Saturday 6/7\, 7/21 & 7/5 at 10:30 AM Theme: Art in Nature \n 
URL:https://marvinlibrary.org/event-2/story-time-ages-2-5-6/2025-07-01/
LOCATION:Marvin Memorial Library\, 29 W. Whitney Ave.\, Shelby\, OH\, 44875
CATEGORIES:Pre-school
END:VEVENT
BEGIN:VEVENT
DTSTART;TZID=America/New_York:20250701T110000
DTEND;TZID=America/New_York:20250701T130000
DTSTAMP:20260421T055256
CREATED:20250630T164825Z
LAST-MODIFIED:20250630T164825Z
UID:10007449-1751367600-1751374800@marvinlibrary.org
SUMMARY:MARVIN in Use
DESCRIPTION:
URL:https://marvinlibrary.org/event-2/marvin-in-use-19/
LOCATION:Marvin Memorial Library\, 29 W. Whitney Ave.\, Shelby\, OH\, 44875
CATEGORIES:Community
END:VEVENT
BEGIN:VEVENT
DTSTART;TZID=America/New_York:20250701T130000
DTEND;TZID=America/New_York:20250701T140000
DTSTAMP:20260421T055256
CREATED:20250515T150415Z
LAST-MODIFIED:20250515T150634Z
UID:10007322-1751374800-1751378400@marvinlibrary.org
SUMMARY:Tween Group KERR
DESCRIPTION:Tweens in 4th – 6th grade are welcome to join us for Summer Reading Tuesdays at 1:00 for fun hands-on activities focused on the following art topics: \nJune 3 What is Art?\nJune 10 Vincent Van Gogh\nJune 16th Henri Matisse\nJune 24 Messy Painting\nJuly 1 Collages and Mixed Media\nJuly 8 Children’s Books and Animation\nJuly 15 That’s Art!?! \n 
URL:https://marvinlibrary.org/event-2/tween-group-kerr/2025-07-01/
LOCATION:Marvin Memorial Library\, 29 W. Whitney Ave.\, Shelby\, OH\, 44875
CATEGORIES:Tweens
END:VEVENT
BEGIN:VEVENT
DTSTART;TZID=America/New_York:20250701T153000
DTEND;TZID=America/New_York:20250701T163000
DTSTAMP:20260421T055256
CREATED:20250515T153136Z
LAST-MODIFIED:20250515T153136Z
UID:10007328-1751383800-1751387400@marvinlibrary.org
SUMMARY:Crafternoon KERR
DESCRIPTION:Teens in 7th – 12th grade will have fun hands-on learning activities focused on the following: \nJune 3 Photography – Photo comic Club and Collages\nJune 10 Fabric Arts – Woven Bookmarks/Bracelets and String Art\nJune 16 Painting – Rock Painting and Thrift Store Painting\nJune 24 Crayon Art – Candle Making\, Drip Paintings and Making New Crayons\nJuly 1 Drawing – Reimagined Book Covers and Shadow Bouquet Drawings\nJuly 8 Tie-Dye – Spray Tie-Dye and Alcohol Ink Marbling on Mugs and Coasters\nJuly 15 Jewelry – Fiddle Key Rings\, Friendship Bracelets\, and Perler Beads \nRemember to get your 5 prize slips when you attend!
URL:https://marvinlibrary.org/event-2/crafternoon-kerr/2025-07-01/
LOCATION:Marvin Memorial Library\, 29 W. Whitney Ave.\, Shelby\, OH\, 44875
CATEGORIES:Teens
END:VEVENT
BEGIN:VEVENT
DTSTART;TZID=America/New_York:20250701T173000
DTEND;TZID=America/New_York:20250701T183000
DTSTAMP:20260421T055256
CREATED:20250515T160223Z
LAST-MODIFIED:20250515T194438Z
UID:10007334-1751391000-1751394600@marvinlibrary.org
SUMMARY:Messy Art Night KERR
DESCRIPTION:Messy Art Night are in the KERR Garden Room at 5:30 \nJune 3   Hands on Art – Handprint and Fingerprint Art\nJune 17 Let’s Get Sticky – Glue Art\nJuly 1    Painting – Tissue Paper Painting \n\nRemember to get your 5 prize slips for attending!
URL:https://marvinlibrary.org/event-2/messy-art-night-kerr/2025-07-01/
LOCATION:Marvin Memorial Library\, 29 W. Whitney Ave.\, Shelby\, OH\, 44875
CATEGORIES:Family
END:VEVENT
BEGIN:VEVENT
DTSTART;TZID=America/New_York:20250702T100000
DTEND;TZID=America/New_York:20250702T110000
DTSTAMP:20260421T055256
CREATED:20250508T145318Z
LAST-MODIFIED:20250905T161457Z
UID:10006101-1751450400-1751454000@marvinlibrary.org
SUMMARY:Walking Club
DESCRIPTION:We’ll meet in the lobby every Wednesday at 10:00 AM for Walking Club.\nWear comfortable clothes/walking shoes and we’ll walk for approximately one hour. Feel free to wear wrist or ankle weights and bring a water bottle. If we have bad weather\, or it is cold\, we will follow an indoor walking video.
URL:https://marvinlibrary.org/event-2/walking-club/2025-07-02/
LOCATION:Marvin Memorial Library\, 29 W. Whitney Ave.\, Shelby\, OH\, 44875
CATEGORIES:Adults
END:VEVENT
BEGIN:VEVENT
DTSTART;TZID=America/New_York:20250702T100000
DTEND;TZID=America/New_York:20250702T110000
DTSTAMP:20260421T055256
CREATED:20250513T225505Z
LAST-MODIFIED:20250515T154604Z
UID:10007304-1751450400-1751454000@marvinlibrary.org
SUMMARY:Lap Sit Story Time KERR
DESCRIPTION:Story Times are in the Kerr Garden Room\, unless otherwise stated.  The following times are effective during Summer Reading June 1 – July 18.\nLap Sit  Ages 0-2 Wednesdays at 10:00 AM Theme: Colors of the Rainbow\nStory Time Ages 2-5 Tuesdays and Thursdays at 10:30 AM Theme: Our Colorful World\nBook & Craft Grades 1-3 Wednesdays at 1:00 PM Theme: Animal Colors\nFarmers’ Market Story Time (Meet at Blackfork Commons) Saturday 6/7\, 7/21 & 7/5 at 10:30 AM Theme: Art in Nature \n 
URL:https://marvinlibrary.org/event-2/lap-sit-story-time-kerr/2025-07-02/
LOCATION:Marvin Memorial Library\, 29 W. Whitney Ave.\, Shelby\, OH\, 44875
CATEGORIES:Pre-school
END:VEVENT
BEGIN:VEVENT
DTSTART;TZID=America/New_York:20250702T130000
DTEND;TZID=America/New_York:20250702T140000
DTSTAMP:20260421T055256
CREATED:20250513T225652Z
LAST-MODIFIED:20250516T160208Z
UID:10007311-1751461200-1751464800@marvinlibrary.org
SUMMARY:Book & Craft KERR
DESCRIPTION:Story Times are in the Kerr Garden Room\, unless otherwise stated.  The following times are effective during Summer Reading June 1 – July 18.\nLap Sit  Ages 0-2 Wednesdays at 10:00 AM Theme: Colors of the Rainbow\nStory Time Ages 2-5 Tuesdays and Thursdays at 10:30 AM Theme: Our Colorful World\nBook & Craft Grades 1-3 Wednesdays at 1:00 PM Theme: Animal Colors\nFarmers’ Market Story Time (Meet at Blackfork Commons) Saturday 6/7\, 7/21 & 7/5 at 10:30 AM Theme: Art in Nature \n 
URL:https://marvinlibrary.org/event-2/book-craft/2025-07-02/
LOCATION:Marvin Memorial Library\, 29 W. Whitney Ave.\, Shelby\, OH\, 44875
CATEGORIES:Children
END:VEVENT
BEGIN:VEVENT
DTSTART;TZID=America/New_York:20250702T130000
DTEND;TZID=America/New_York:20250702T150000
DTSTAMP:20260421T055256
CREATED:20250702T152014Z
LAST-MODIFIED:20250702T152014Z
UID:10007451-1751461200-1751468400@marvinlibrary.org
SUMMARY:BAVIN in Use
DESCRIPTION:
URL:https://marvinlibrary.org/event-2/bavin-in-use-123/
LOCATION:Marvin Memorial Library\, 29 W. Whitney Ave.\, Shelby\, OH\, 44875
CATEGORIES:Community
END:VEVENT
BEGIN:VEVENT
DTSTART;TZID=America/New_York:20250702T173000
DTEND;TZID=America/New_York:20250702T190000
DTSTAMP:20260421T055256
CREATED:20250603T142631Z
LAST-MODIFIED:20250603T142821Z
UID:10007369-1751477400-1751482800@marvinlibrary.org
SUMMARY:Teen Game Night MPR
DESCRIPTION:Teens in 7th – 12th grade are welcome to join us for Teen Game Night.  We’ll have a variety of board and video games to play. We’ll meet in the Multipurpose Room downstairs. You’ll get 5 Summer Reading Prize Slips for attending this event!
URL:https://marvinlibrary.org/event-2/teen-game-night-9/
LOCATION:Marvin Memorial Library\, 29 W. Whitney Ave.\, Shelby\, OH\, 44875
CATEGORIES:Teens
END:VEVENT
BEGIN:VEVENT
DTSTART;TZID=America/New_York:20250703T103000
DTEND;TZID=America/New_York:20250703T113000
DTSTAMP:20260421T055256
CREATED:20250513T220542Z
LAST-MODIFIED:20250515T194712Z
UID:10007297-1751538600-1751542200@marvinlibrary.org
SUMMARY:Story Time Ages 2-5 KERR
DESCRIPTION:Story Times are in the Kerr Garden Room\, unless otherwise stated.  The following times are effective during Summer Reading June 1 – July 18.\nLap Sit  Ages 0-2 Wednesdays at 10:00 AM Theme: Colors of the Rainbow\nStory Time Ages 2-5 Tuesdays and Thursdays at 10:30 AM Theme: Our Colorful World\nBook & Craft Grades 1-3 Wednesdays at 1:00 PM Theme: Animal Colors\nFarmers’ Market Story Time (Meet at Blackfork Commons) Saturday 6/7\, 7/21 & 7/5 at 10:30 AM Theme: Art in Nature \n 
URL:https://marvinlibrary.org/event-2/story-time-ages-2-5-7/2025-07-03/
LOCATION:Marvin Memorial Library\, 29 W. Whitney Ave.\, Shelby\, OH\, 44875
CATEGORIES:Pre-school
END:VEVENT
BEGIN:VEVENT
DTSTART;TZID=America/New_York:20250703T180000
DTEND;TZID=America/New_York:20250703T190000
DTSTAMP:20260421T055256
CREATED:20250606T190114Z
LAST-MODIFIED:20250606T190114Z
UID:10006348-1751565600-1751569200@marvinlibrary.org
SUMMARY:Armstrong Air & Space Museum KERR
DESCRIPTION:Armstrong Air & Space Museum will be here to present a “Color Our World” program! Children will learn how space is observed through different filters and how the color of light tells us a lot about an object in space. They will experiment with how colors can change by using different colored filters and then make a bracelet using pony beads and look at them through filters to observe how their bracelets change. Don’t forget to collect your 5 Summer Reading prize slips for attending!
URL:https://marvinlibrary.org/event-2/armstrong-air-space-museum-kerr/
LOCATION:Marvin Memorial Library\, 29 W. Whitney Ave.\, Shelby\, OH\, 44875
CATEGORIES:Family
END:VEVENT
BEGIN:VEVENT
DTSTART;TZID=America/New_York:20250704T090000
DTEND;TZID=America/New_York:20250704T170000
DTSTAMP:20260421T055256
CREATED:20250521T190558Z
LAST-MODIFIED:20250603T145143Z
UID:10007357-1751619600-1751648400@marvinlibrary.org
SUMMARY:Closed for Independence Day
DESCRIPTION:
URL:https://marvinlibrary.org/event-2/free-blood-pressure-blood-glucose-testing-2025-07-04/
LOCATION:Marvin Memorial Library\, 29 W. Whitney Ave.\, Shelby\, OH\, 44875
CATEGORIES:Community
END:VEVENT
BEGIN:VEVENT
DTSTART;TZID=America/New_York:20250705T103000
DTEND;TZID=America/New_York:20250705T113000
DTSTAMP:20260421T055256
CREATED:20250513T225831Z
LAST-MODIFIED:20250513T225831Z
UID:10007316-1751711400-1751715000@marvinlibrary.org
SUMMARY:Story Time at Farmers' Market
DESCRIPTION:Story Times are in the Kerr Garden Room\, unless otherwise stated.  The following times are effective during Summer Reading June 1 – July 18.\nLap Sit  Ages 0-2 Wednesdays at 10:00 AM Theme: Colors of the Rainbow\nStory Time Ages 2-5 Tuesdays and Thursdays at 10:30 AM Theme: Our Colorful World\nBook & Craft Grades 1-3 Wednesdays at 1:00 PM Theme: Animal Colors\nFarmers’ Market Story Time (Meet at Blackfork Commons) Saturday 6/7\, 7/21 & 7/5 at 10:30 AM Theme: Art in Nature \n 
URL:https://marvinlibrary.org/event-2/story-time-at-farmers-market/2025-07-05/
LOCATION:Marvin Memorial Library\, 29 W. Whitney Ave.\, Shelby\, OH\, 44875
CATEGORIES:Children
END:VEVENT
BEGIN:VEVENT
DTSTART;TZID=America/New_York:20250707T090000
DTEND;TZID=America/New_York:20250707T120000
DTSTAMP:20260421T055256
CREATED:20250516T160448Z
LAST-MODIFIED:20250516T160448Z
UID:10007348-1751878800-1751889600@marvinlibrary.org
SUMMARY:MPR in Use
DESCRIPTION:
URL:https://marvinlibrary.org/event-2/mpr-in-use-72/2025-07-07/
LOCATION:Marvin Memorial Library\, 29 W. Whitney Ave.\, Shelby\, OH\, 44875
CATEGORIES:Community
END:VEVENT
BEGIN:VEVENT
DTSTART;TZID=America/New_York:20250707T090000
DTEND;TZID=America/New_York:20250707T120000
DTSTAMP:20260421T055256
CREATED:20250603T145335Z
LAST-MODIFIED:20250630T202355Z
UID:10007370-1751878800-1751889600@marvinlibrary.org
SUMMARY:KERR in Use
DESCRIPTION:
URL:https://marvinlibrary.org/event-2/bavin-in-use-119/
LOCATION:Marvin Memorial Library\, 29 W. Whitney Ave.\, Shelby\, OH\, 44875
CATEGORIES:Community
END:VEVENT
BEGIN:VEVENT
DTSTART;TZID=America/New_York:20250707T130000
DTEND;TZID=America/New_York:20250707T140000
DTSTAMP:20260421T055256
CREATED:20250624T174428Z
LAST-MODIFIED:20250630T202155Z
UID:10007401-1751893200-1751896800@marvinlibrary.org
SUMMARY:BAVIN in Use
DESCRIPTION:
URL:https://marvinlibrary.org/event-2/bavin-in-use-121-2025-07-07/
LOCATION:Marvin Memorial Library\, 29 W. Whitney Ave.\, Shelby\, OH\, 44875
CATEGORIES:Community
END:VEVENT
BEGIN:VEVENT
DTSTART;TZID=America/New_York:20250707T170000
DTEND;TZID=America/New_York:20250707T180000
DTSTAMP:20260421T055256
CREATED:20241118T195834Z
LAST-MODIFIED:20250910T191432Z
UID:10007055-1751907600-1751911200@marvinlibrary.org
SUMMARY:Book & Bean KERR
DESCRIPTION:Theme driven book club that meets on the 1st Monday of each month at 5pm. Join any time.\n2025 Themes:\nJan 6: Snow & Winter\nFeb 3: Futuristic Romance\nMar 3: A Book You’d Recommend to a Stranger\nApr 7: Food in the Title\nMay 5: Published the Year You Graduated\nJun 2: Second Chance (A Book You Didn’t Finish)\nJul 7: Blue (Cover\, Title\, Character Name\, etc.)\nAug 4: Published Over 100 Years Ago\nSept 8: A Banned Book (Closed Sept. 1)\nOct 6: Title TBD\nNov 3: School Reading List Classic\nDec 1: Blizzards and Frozen Things
URL:https://marvinlibrary.org/event-2/book-bean-kerr/2025-07-07/
LOCATION:Marvin Memorial Library\, 29 W. Whitney Ave.\, Shelby\, OH\, 44875
CATEGORIES:Adults
END:VEVENT
BEGIN:VEVENT
DTSTART;TZID=America/New_York:20250707T173000
DTEND;TZID=America/New_York:20250707T183000
DTSTAMP:20260421T055256
CREATED:20250513T202336Z
LAST-MODIFIED:20250516T160923Z
UID:10007284-1751909400-1751913000@marvinlibrary.org
SUMMARY:Science Nights KERR
DESCRIPTION:Calling all kids in K-6th grade! Join us in the Kerr Garden Room each Monday at 5:30 for fun\, hands-on\, science based activities on the following topics: \nJune 2 Bugs\nJune 9 Flowers\nJune 16 Bees\nJune 23 Tornadoes\nJune 30 Trees\nJuly 7 Birds\nJuly 14 Animals \nRemember to get your 5 prize slips for attending this event!
URL:https://marvinlibrary.org/event-2/science-nights/2025-07-07/
LOCATION:Marvin Memorial Library\, 29 W. Whitney Ave.\, Shelby\, OH\, 44875
CATEGORIES:Children
END:VEVENT
BEGIN:VEVENT
DTSTART;TZID=America/New_York:20250708T103000
DTEND;TZID=America/New_York:20250708T113000
DTSTAMP:20260421T055256
CREATED:20250513T220422Z
LAST-MODIFIED:20250515T201724Z
UID:10007291-1751970600-1751974200@marvinlibrary.org
SUMMARY:Story Time Ages 2-5 KERR
DESCRIPTION:Story Times are in the Kerr Garden Room\, unless otherwise stated.  The following times are effective during Summer Reading June 1 – July 18.\nLap Sit  Ages 0-2 Wednesdays at 10:00 AM Theme: Colors of the Rainbow\nStory Time Ages 2-5 Tuesdays and Thursdays at 10:30 AM Theme: Our Colorful World\nBook & Craft Grades 1-3 Wednesdays at 1:00 PM Theme: Animal Colors\nFarmers’ Market Story Time (Meet at Blackfork Commons) Saturday 6/7\, 7/21 & 7/5 at 10:30 AM Theme: Art in Nature \n 
URL:https://marvinlibrary.org/event-2/story-time-ages-2-5-6/2025-07-08/
LOCATION:Marvin Memorial Library\, 29 W. Whitney Ave.\, Shelby\, OH\, 44875
CATEGORIES:Pre-school
END:VEVENT
BEGIN:VEVENT
DTSTART;TZID=America/New_York:20250708T130000
DTEND;TZID=America/New_York:20250708T140000
DTSTAMP:20260421T055256
CREATED:20250515T150415Z
LAST-MODIFIED:20250515T150634Z
UID:10007323-1751979600-1751983200@marvinlibrary.org
SUMMARY:Tween Group KERR
DESCRIPTION:Tweens in 4th – 6th grade are welcome to join us for Summer Reading Tuesdays at 1:00 for fun hands-on activities focused on the following art topics: \nJune 3 What is Art?\nJune 10 Vincent Van Gogh\nJune 16th Henri Matisse\nJune 24 Messy Painting\nJuly 1 Collages and Mixed Media\nJuly 8 Children’s Books and Animation\nJuly 15 That’s Art!?! \n 
URL:https://marvinlibrary.org/event-2/tween-group-kerr/2025-07-08/
LOCATION:Marvin Memorial Library\, 29 W. Whitney Ave.\, Shelby\, OH\, 44875
CATEGORIES:Tweens
END:VEVENT
BEGIN:VEVENT
DTSTART;TZID=America/New_York:20250708T130000
DTEND;TZID=America/New_York:20250708T150000
DTSTAMP:20260421T055256
CREATED:20210802T184854Z
LAST-MODIFIED:20230901T143646Z
UID:10005052-1751979600-1751986800@marvinlibrary.org
SUMMARY:Cookbook Club
DESCRIPTION:Cookbook Club\nWe are back!  Our meetings will be every 2nd Tuesday of the month @ 1 pm. \nEach month there will be a theme.  Bring a dish to share and its recipe and a cookbook will be made by the end of the meeting. \nThemes: \n\nSeptember – CELEBRATION\nOctober – Harvest\nNovember – Pizza Party\nDecember – Holiday Party\n\nWe look forward to seeing you there and trying your delicious recipes!
URL:https://marvinlibrary.org/event-2/cookbook-club-21/2025-07-08/
LOCATION:Marvin Memorial Library\, 29 W. Whitney Ave.\, Shelby\, OH\, 44875
CATEGORIES:Adults,Community,Family
END:VEVENT
END:VCALENDAR