BEGIN:VCALENDAR
VERSION:2.0
PRODID:-//Marvin Memorial Library - ECPv6.15.18//NONSGML v1.0//EN
CALSCALE:GREGORIAN
METHOD:PUBLISH
X-WR-CALNAME:Marvin Memorial Library
X-ORIGINAL-URL:https://marvinlibrary.org
X-WR-CALDESC:Events for Marvin Memorial Library
REFRESH-INTERVAL;VALUE=DURATION:PT1H
X-Robots-Tag:noindex
X-PUBLISHED-TTL:PT1H
BEGIN:VTIMEZONE
TZID:America/New_York
BEGIN:DAYLIGHT
TZOFFSETFROM:-0500
TZOFFSETTO:-0400
TZNAME:EDT
DTSTART:20240310T070000
END:DAYLIGHT
BEGIN:STANDARD
TZOFFSETFROM:-0400
TZOFFSETTO:-0500
TZNAME:EST
DTSTART:20241103T060000
END:STANDARD
BEGIN:DAYLIGHT
TZOFFSETFROM:-0500
TZOFFSETTO:-0400
TZNAME:EDT
DTSTART:20250309T070000
END:DAYLIGHT
BEGIN:STANDARD
TZOFFSETFROM:-0400
TZOFFSETTO:-0500
TZNAME:EST
DTSTART:20251102T060000
END:STANDARD
BEGIN:DAYLIGHT
TZOFFSETFROM:-0500
TZOFFSETTO:-0400
TZNAME:EDT
DTSTART:20260308T070000
END:DAYLIGHT
BEGIN:STANDARD
TZOFFSETFROM:-0400
TZOFFSETTO:-0500
TZNAME:EST
DTSTART:20261101T060000
END:STANDARD
END:VTIMEZONE
BEGIN:VEVENT
DTSTART;TZID=America/New_York:20250513T170000
DTEND;TZID=America/New_York:20250513T200000
DTSTAMP:20260421T163110
CREATED:20250317T190024Z
LAST-MODIFIED:20250414T150742Z
UID:10006068-1747155600-1747166400@marvinlibrary.org
SUMMARY:MCS Adult Education Class KERR
DESCRIPTION:
URL:https://marvinlibrary.org/event-2/mcs-adult-education-class-kerr-2025-05-13/2025-05-13/
LOCATION:Marvin Memorial Library\, 29 W. Whitney Ave.\, Shelby\, OH\, 44875
CATEGORIES:Adults
END:VEVENT
BEGIN:VEVENT
DTSTART;TZID=America/New_York:20250513T160000
DTEND;TZID=America/New_York:20250513T170000
DTSTAMP:20260421T163110
CREATED:20241226T210554Z
LAST-MODIFIED:20251015T182329Z
UID:10007130-1747152000-1747155600@marvinlibrary.org
SUMMARY:Board of Trustees Meeting BAVIN
DESCRIPTION:
URL:https://marvinlibrary.org/event-2/board-of-trustees-meeting-mpr-2/2025-05-13/
LOCATION:Marvin Memorial Library\, 29 W. Whitney Ave.\, Shelby\, OH\, 44875
CATEGORIES:Community
END:VEVENT
BEGIN:VEVENT
DTSTART;TZID=America/New_York:20250513T130000
DTEND;TZID=America/New_York:20250513T150000
DTSTAMP:20260421T163110
CREATED:20210802T184854Z
LAST-MODIFIED:20230901T143646Z
UID:10005050-1747141200-1747148400@marvinlibrary.org
SUMMARY:Cookbook Club
DESCRIPTION:Cookbook Club\nWe are back!  Our meetings will be every 2nd Tuesday of the month @ 1 pm. \nEach month there will be a theme.  Bring a dish to share and its recipe and a cookbook will be made by the end of the meeting. \nThemes: \n\nSeptember – CELEBRATION\nOctober – Harvest\nNovember – Pizza Party\nDecember – Holiday Party\n\nWe look forward to seeing you there and trying your delicious recipes!
URL:https://marvinlibrary.org/event-2/cookbook-club-21/2025-05-13/
LOCATION:Marvin Memorial Library\, 29 W. Whitney Ave.\, Shelby\, OH\, 44875
CATEGORIES:Adults,Community,Family
END:VEVENT
BEGIN:VEVENT
DTSTART;TZID=America/New_York:20250513T090000
DTEND;TZID=America/New_York:20250513T120000
DTSTAMP:20260421T163110
CREATED:20241112T175218Z
LAST-MODIFIED:20250128T194545Z
UID:10007041-1747126800-1747137600@marvinlibrary.org
SUMMARY:MPR in Use
DESCRIPTION:
URL:https://marvinlibrary.org/event-2/bavin-in-use-75/2025-05-13/
LOCATION:Marvin Memorial Library\, 29 W. Whitney Ave.\, Shelby\, OH\, 44875
CATEGORIES:Community
END:VEVENT
BEGIN:VEVENT
DTSTART;TZID=America/New_York:20250512T180000
DTEND;TZID=America/New_York:20250512T200000
DTSTAMP:20260421T163110
CREATED:20250506T165940Z
LAST-MODIFIED:20250506T165940Z
UID:10007274-1747072800-1747080000@marvinlibrary.org
SUMMARY:BAVIN in Use
DESCRIPTION:
URL:https://marvinlibrary.org/event-2/bavin-in-use-107/
LOCATION:Marvin Memorial Library\, 29 W. Whitney Ave.\, Shelby\, OH\, 44875
CATEGORIES:Community
END:VEVENT
BEGIN:VEVENT
DTSTART;TZID=America/New_York:20250512T153000
DTEND;TZID=America/New_York:20250512T173000
DTSTAMP:20260421T163110
CREATED:20240809T153044Z
LAST-MODIFIED:20250219T201731Z
UID:10006900-1747063800-1747071000@marvinlibrary.org
SUMMARY:Teen Studio
DESCRIPTION:Teens in 7th – 12th grade are welcome to come in after school to work on homework\, play games\, get creative and crafty\, or just hang out with friends.
URL:https://marvinlibrary.org/event-2/teen-studio-2/2025-05-12/
LOCATION:Marvin Memorial Library\, 29 W. Whitney Ave.\, Shelby\, OH\, 44875
CATEGORIES:Teens
END:VEVENT
BEGIN:VEVENT
DTSTART;TZID=America/New_York:20250512T140000
DTEND;TZID=America/New_York:20250512T160000
DTSTAMP:20260421T163110
CREATED:20250512T131838Z
LAST-MODIFIED:20250512T131838Z
UID:10006130-1747058400-1747065600@marvinlibrary.org
SUMMARY:BAVIN in Use
DESCRIPTION:
URL:https://marvinlibrary.org/event-2/bavin-in-use-111/
LOCATION:Marvin Memorial Library\, 29 W. Whitney Ave.\, Shelby\, OH\, 44875
CATEGORIES:Community
END:VEVENT
BEGIN:VEVENT
DTSTART;TZID=America/New_York:20250512T130000
DTEND;TZID=America/New_York:20250512T140000
DTSTAMP:20260421T163110
CREATED:20241118T222714Z
LAST-MODIFIED:20241118T224622Z
UID:10007107-1747054800-1747058400@marvinlibrary.org
SUMMARY:Cookbook Club MPR
DESCRIPTION:“Off the Shelf” Cookbook Club meets on the 2nd Monday of each month at 1:00 PM.  Bring a dish of themed food and the recipe to share. Join anytime!\n2025 Themes:\nJan 13 Soup Swap\nFeb 10: Breakfast\nMar 10: International\nApr 14: Easter\nMay 13: Mexican\nSept 8: Tailgate\nOct 13: Food from a Book\nNov 10: Thanksgiving\nDec 8: Holiday Party
URL:https://marvinlibrary.org/event-2/cookbook-club-mpr/2025-05-12/
LOCATION:Marvin Memorial Library\, 29 W. Whitney Ave.\, Shelby\, OH\, 44875
CATEGORIES:Adults
END:VEVENT
BEGIN:VEVENT
DTSTART;TZID=America/New_York:20250512T093000
DTEND;TZID=America/New_York:20250512T120000
DTSTAMP:20260421T163110
CREATED:20250512T131709Z
LAST-MODIFIED:20250512T131709Z
UID:10006125-1747042200-1747051200@marvinlibrary.org
SUMMARY:BAVIN in Use
DESCRIPTION:
URL:https://marvinlibrary.org/event-2/bavin-in-use-110/
LOCATION:Marvin Memorial Library\, 29 W. Whitney Ave.\, Shelby\, OH\, 44875
CATEGORIES:Community
END:VEVENT
BEGIN:VEVENT
DTSTART;TZID=America/New_York:20250510T110000
DTEND;TZID=America/New_York:20250510T120000
DTSTAMP:20260421T163110
CREATED:20240813T162614Z
LAST-MODIFIED:20250219T215015Z
UID:10005721-1746874800-1746878400@marvinlibrary.org
SUMMARY:Crafturday KERR
DESCRIPTION:Bring the kids for a day of Crafting at the Library.
URL:https://marvinlibrary.org/event-2/crafturday-2025-05-10/
LOCATION:OH
CATEGORIES:Children
END:VEVENT
BEGIN:VEVENT
DTSTART;TZID=America/New_York:20250510T093000
DTEND;TZID=America/New_York:20250510T113000
DTSTAMP:20260421T163110
CREATED:20250421T140751Z
LAST-MODIFIED:20250421T140751Z
UID:10007266-1746869400-1746876600@marvinlibrary.org
SUMMARY:MPR in Use
DESCRIPTION:
URL:https://marvinlibrary.org/event-2/mpr-in-use-70/2025-05-10/
LOCATION:Marvin Memorial Library\, 29 W. Whitney Ave.\, Shelby\, OH\, 44875
CATEGORIES:Community
END:VEVENT
BEGIN:VEVENT
DTSTART;TZID=America/New_York:20250509T150000
DTEND;TZID=America/New_York:20250509T160000
DTSTAMP:20260421T163110
CREATED:20250414T131529Z
LAST-MODIFIED:20250414T131529Z
UID:10007258-1746802800-1746806400@marvinlibrary.org
SUMMARY:BAVIN in Use
DESCRIPTION:
URL:https://marvinlibrary.org/event-2/bavin-in-use-101/2025-05-09/
LOCATION:Marvin Memorial Library\, 29 W. Whitney Ave.\, Shelby\, OH\, 44875
CATEGORIES:Community
END:VEVENT
BEGIN:VEVENT
DTSTART;TZID=America/New_York:20250509T090000
DTEND;TZID=America/New_York:20250509T120000
DTSTAMP:20260421T163110
CREATED:20250327T203031Z
LAST-MODIFIED:20250327T203031Z
UID:10007249-1746781200-1746792000@marvinlibrary.org
SUMMARY:Closed for Staff Training
DESCRIPTION:The library will closed for part of the day for staff training.
URL:https://marvinlibrary.org/event-2/closed-for-staff-training/
LOCATION:Marvin Memorial Library\, 29 W. Whitney Ave.\, Shelby\, OH\, 44875
CATEGORIES:Community
END:VEVENT
BEGIN:VEVENT
DTSTART;TZID=America/New_York:20250508T180000
DTEND;TZID=America/New_York:20250508T190000
DTSTAMP:20260421T163110
CREATED:20250219T213906Z
LAST-MODIFIED:20250219T213906Z
UID:10007203-1746727200-1746730800@marvinlibrary.org
SUMMARY:Line Dancing Class *RR KERR
DESCRIPTION:Registration opens May 1st.  Call 419-347-5576 to register.
URL:https://marvinlibrary.org/event-2/line-dancing-class-rr-kerr/
LOCATION:Marvin Memorial Library\, 29 W. Whitney Ave.\, Shelby\, OH\, 44875
CATEGORIES:Adults
END:VEVENT
BEGIN:VEVENT
DTSTART;TZID=America/New_York:20250508T173000
DTEND;TZID=America/New_York:20250508T183000
DTSTAMP:20260421T163110
CREATED:20250129T153632Z
LAST-MODIFIED:20250314T194313Z
UID:10007166-1746725400-1746729000@marvinlibrary.org
SUMMARY:T.A.C.
DESCRIPTION:TAC meets on the 1st and 3rd Thursday of each month at 5:30.
URL:https://marvinlibrary.org/event-2/t-a-c-kerr-2-2025-05-08/
LOCATION:Marvin Memorial Library\, 29 W. Whitney Ave.\, Shelby\, OH\, 44875
CATEGORIES:Teens
END:VEVENT
BEGIN:VEVENT
DTSTART;TZID=America/New_York:20250508T170000
DTEND;TZID=America/New_York:20250508T200000
DTSTAMP:20260421T163110
CREATED:20250317T185751Z
LAST-MODIFIED:20250414T151240Z
UID:10006065-1746723600-1746734400@marvinlibrary.org
SUMMARY:MCS Adult Education Class BAVIN & MPR
DESCRIPTION:The Marvin Memorial Library is pleased to offer FREE in person Adult Basic Adult Education Courses through Mansfield City Schools Adult Education Program. This free education program is graciously funded by an Ohio Department of Education Aspire grant.\n\n\nEarn a GED\,\n\n\nGain skills to advance employment\n\n\nprepare for the ASVAB\n\n\nPrepare for college entrance exams\n\n\nComplete a Career Tech Program (Madison\, Pioneer\, Ashland W. Holmes)\n\n\nComplete the adult diploma program and get a credential to work in a chosen field\nMansfield City Schools Adult Education serves Richland\, Ashland\, and Crawford Counties. Classes begin on April 1st.\nPlease register by visiting https://www.mansfieldadulteducation.com/ . For more information\, please call 419.525.6380.
URL:https://marvinlibrary.org/event-2/mcs-adult-education-classes-mpr-2025-05-08/
LOCATION:Marvin Memorial Library\, 29 W. Whitney Ave.\, Shelby\, OH\, 44875
CATEGORIES:Adults
END:VEVENT
BEGIN:VEVENT
DTSTART;TZID=America/New_York:20250508T153000
DTEND;TZID=America/New_York:20250508T173000
DTSTAMP:20260421T163110
CREATED:20250219T195635Z
LAST-MODIFIED:20250314T193729Z
UID:10007200-1746718200-1746725400@marvinlibrary.org
SUMMARY:Teen Studio
DESCRIPTION:Teens can stop by to do homework\, work on projects\, get creative and crafty or just hang out with friends.
URL:https://marvinlibrary.org/event-2/teen-studio-kerr-4-2025-05-08/
LOCATION:Marvin Memorial Library\, 29 W. Whitney Ave.\, Shelby\, OH\, 44875
CATEGORIES:Teens
END:VEVENT
BEGIN:VEVENT
DTSTART;TZID=America/New_York:20250508T153000
DTEND;TZID=America/New_York:20250508T173000
DTSTAMP:20260421T163110
CREATED:20240809T151915Z
LAST-MODIFIED:20240809T151915Z
UID:10006859-1746718200-1746725400@marvinlibrary.org
SUMMARY:Teen Studio KERR
DESCRIPTION:Teens in 7th – 12th grade are welcome to come in after school to work on homework\, play games\, get creative and crafty\, or just hang out with friends.
URL:https://marvinlibrary.org/event-2/teen-studio-kerr-3/2025-05-08/
LOCATION:Marvin Memorial Library\, 29 W. Whitney Ave.\, Shelby\, OH\, 44875
CATEGORIES:Teens
END:VEVENT
BEGIN:VEVENT
DTSTART;TZID=America/New_York:20250508T130000
DTEND;TZID=America/New_York:20250508T140000
DTSTAMP:20260421T163110
CREATED:20241118T214427Z
LAST-MODIFIED:20250910T201918Z
UID:10007084-1746709200-1746712800@marvinlibrary.org
SUMMARY:Knotty Knitters BAVIN
DESCRIPTION:Knotty Knitters meet on the 2nd & 4th Thursday of each month at 1:00PM.  Beginners are always welcome! Join the club anytime!
URL:https://marvinlibrary.org/event-2/knotty-knitters-mpr-3/2025-05-08/
LOCATION:Marvin Memorial Library\, 29 W. Whitney Ave.\, Shelby\, OH\, 44875
CATEGORIES:Community
END:VEVENT
BEGIN:VEVENT
DTSTART;TZID=America/New_York:20250507T160000
DTEND;TZID=America/New_York:20250507T170000
DTSTAMP:20260421T163110
CREATED:20240809T150136Z
LAST-MODIFIED:20240809T150136Z
UID:10006835-1746633600-1746637200@marvinlibrary.org
SUMMARY:Study Buddies
DESCRIPTION:Get free peer tutoring in the Children’s Department every Wednesday at 4:00 PM.
URL:https://marvinlibrary.org/event-2/study-buddies-5/2025-05-07/
LOCATION:Marvin Memorial Library\, 29 W. Whitney Ave.\, Shelby\, OH\, 44875
CATEGORIES:Children
END:VEVENT
BEGIN:VEVENT
DTSTART;TZID=America/New_York:20250507T140000
DTEND;TZID=America/New_York:20250507T150000
DTSTAMP:20260421T163110
CREATED:20250507T151352Z
LAST-MODIFIED:20250507T151352Z
UID:10007277-1746626400-1746630000@marvinlibrary.org
SUMMARY:BAVIN in Use
DESCRIPTION:
URL:https://marvinlibrary.org/event-2/bavin-in-use-108/
LOCATION:Marvin Memorial Library\, 29 W. Whitney Ave.\, Shelby\, OH\, 44875
CATEGORIES:Community
END:VEVENT
BEGIN:VEVENT
DTSTART;TZID=America/New_York:20250507T090000
DTEND;TZID=America/New_York:20250507T160000
DTSTAMP:20260421T163110
CREATED:20250505T131846Z
LAST-MODIFIED:20250505T131846Z
UID:10007273-1746608400-1746633600@marvinlibrary.org
SUMMARY:KERR in Use
DESCRIPTION:
URL:https://marvinlibrary.org/event-2/kerr-in-use-48/
LOCATION:Marvin Memorial Library\, 29 W. Whitney Ave.\, Shelby\, OH\, 44875
CATEGORIES:Community
END:VEVENT
BEGIN:VEVENT
DTSTART;TZID=America/New_York:20250506T180000
DTEND;TZID=America/New_York:20250506T190000
DTSTAMP:20260421T163110
CREATED:20250219T213112Z
LAST-MODIFIED:20250219T213112Z
UID:10007202-1746554400-1746558000@marvinlibrary.org
SUMMARY:Author Brandon Weis MPR
DESCRIPTION:Don’t miss this opportunity to explore the backcountry from the comfort of your local library! Join us for an unforgettable evening of stories\, stunning visuals\, and insights into the spirit of exploration.”
URL:https://marvinlibrary.org/event-2/author-brandon-weis-mpr/
LOCATION:Marvin Memorial Library\, 29 W. Whitney Ave.\, Shelby\, OH\, 44875
CATEGORIES:Community
END:VEVENT
BEGIN:VEVENT
DTSTART;TZID=America/New_York:20250506T170000
DTEND;TZID=America/New_York:20250506T200000
DTSTAMP:20260421T163110
CREATED:20250317T190024Z
LAST-MODIFIED:20250414T150859Z
UID:10006067-1746550800-1746561600@marvinlibrary.org
SUMMARY:MCS Adult Education Class BAVIN & KERR
DESCRIPTION:
URL:https://marvinlibrary.org/event-2/mcs-adult-education-class-kerr/
LOCATION:Marvin Memorial Library\, 29 W. Whitney Ave.\, Shelby\, OH\, 44875
CATEGORIES:Adults
END:VEVENT
BEGIN:VEVENT
DTSTART;TZID=America/New_York:20250506T160000
DTEND;TZID=America/New_York:20250506T170000
DTSTAMP:20260421T163110
CREATED:20240809T145114Z
LAST-MODIFIED:20240809T145114Z
UID:10006791-1746547200-1746550800@marvinlibrary.org
SUMMARY:Builders Club
DESCRIPTION:Bring the whole family and join us twice a month to test your building skills. We’ll have monthly challenges and themes.
URL:https://marvinlibrary.org/event-2/builders-club-2/2025-05-06/
LOCATION:Marvin Memorial Library\, 29 W. Whitney Ave.\, Shelby\, OH\, 44875
CATEGORIES:Family
END:VEVENT
BEGIN:VEVENT
DTSTART;TZID=America/New_York:20250506T140000
DTEND;TZID=America/New_York:20250506T170000
DTSTAMP:20260421T163110
CREATED:20250506T194533Z
LAST-MODIFIED:20250506T194533Z
UID:10007275-1746540000-1746550800@marvinlibrary.org
SUMMARY:MARVIN in USE
DESCRIPTION:
URL:https://marvinlibrary.org/event-2/marvin-in-use-16/
LOCATION:Marvin Memorial Library\, 29 W. Whitney Ave.\, Shelby\, OH\, 44875
CATEGORIES:Community
END:VEVENT
BEGIN:VEVENT
DTSTART;TZID=America/New_York:20250506T090000
DTEND;TZID=America/New_York:20250506T120000
DTSTAMP:20260421T163110
CREATED:20241112T175218Z
LAST-MODIFIED:20250128T194545Z
UID:10007040-1746522000-1746532800@marvinlibrary.org
SUMMARY:MPR in Use
DESCRIPTION:
URL:https://marvinlibrary.org/event-2/bavin-in-use-75/2025-05-06/
LOCATION:Marvin Memorial Library\, 29 W. Whitney Ave.\, Shelby\, OH\, 44875
CATEGORIES:Community
END:VEVENT
BEGIN:VEVENT
DTSTART;TZID=America/New_York:20250505T180000
DTEND;TZID=America/New_York:20250505T190000
DTSTAMP:20260421T163110
CREATED:20250219T200157Z
LAST-MODIFIED:20250219T200157Z
UID:10007201-1746468000-1746471600@marvinlibrary.org
SUMMARY:Bob's Book Bingo MPR
DESCRIPTION:Join Bob in the Multipurpose Room for this family friendly game of Bingo for Books!!
URL:https://marvinlibrary.org/event-2/bobs-book-bingo-mpr-2/
LOCATION:Marvin Memorial Library\, 29 W. Whitney Ave.\, Shelby\, OH\, 44875
CATEGORIES:Family
END:VEVENT
BEGIN:VEVENT
DTSTART;TZID=America/New_York:20250505T170000
DTEND;TZID=America/New_York:20250505T180000
DTSTAMP:20260421T163110
CREATED:20241118T195834Z
LAST-MODIFIED:20250910T191432Z
UID:10007054-1746464400-1746468000@marvinlibrary.org
SUMMARY:Book & Bean KERR
DESCRIPTION:Theme driven book club that meets on the 1st Monday of each month at 5pm. Join any time.\n2025 Themes:\nJan 6: Snow & Winter\nFeb 3: Futuristic Romance\nMar 3: A Book You’d Recommend to a Stranger\nApr 7: Food in the Title\nMay 5: Published the Year You Graduated\nJun 2: Second Chance (A Book You Didn’t Finish)\nJul 7: Blue (Cover\, Title\, Character Name\, etc.)\nAug 4: Published Over 100 Years Ago\nSept 8: A Banned Book (Closed Sept. 1)\nOct 6: Title TBD\nNov 3: School Reading List Classic\nDec 1: Blizzards and Frozen Things
URL:https://marvinlibrary.org/event-2/book-bean-kerr/2025-05-05/
LOCATION:Marvin Memorial Library\, 29 W. Whitney Ave.\, Shelby\, OH\, 44875
CATEGORIES:Adults
END:VEVENT
BEGIN:VEVENT
DTSTART;TZID=America/New_York:20250505T153000
DTEND;TZID=America/New_York:20250505T173000
DTSTAMP:20260421T163110
CREATED:20240809T153044Z
LAST-MODIFIED:20250219T201731Z
UID:10006899-1746459000-1746466200@marvinlibrary.org
SUMMARY:Teen Studio
DESCRIPTION:Teens in 7th – 12th grade are welcome to come in after school to work on homework\, play games\, get creative and crafty\, or just hang out with friends.
URL:https://marvinlibrary.org/event-2/teen-studio-2/2025-05-05/
LOCATION:Marvin Memorial Library\, 29 W. Whitney Ave.\, Shelby\, OH\, 44875
CATEGORIES:Teens
END:VEVENT
END:VCALENDAR