BEGIN:VCALENDAR
VERSION:2.0
PRODID:-//Marvin Memorial Library - ECPv6.15.18//NONSGML v1.0//EN
CALSCALE:GREGORIAN
METHOD:PUBLISH
X-ORIGINAL-URL:https://marvinlibrary.org
X-WR-CALDESC:Events for Marvin Memorial Library
REFRESH-INTERVAL;VALUE=DURATION:PT1H
X-Robots-Tag:noindex
X-PUBLISHED-TTL:PT1H
BEGIN:VTIMEZONE
TZID:America/New_York
BEGIN:DAYLIGHT
TZOFFSETFROM:-0500
TZOFFSETTO:-0400
TZNAME:EDT
DTSTART:20250309T070000
END:DAYLIGHT
BEGIN:STANDARD
TZOFFSETFROM:-0400
TZOFFSETTO:-0500
TZNAME:EST
DTSTART:20251102T060000
END:STANDARD
BEGIN:DAYLIGHT
TZOFFSETFROM:-0500
TZOFFSETTO:-0400
TZNAME:EDT
DTSTART:20260308T070000
END:DAYLIGHT
BEGIN:STANDARD
TZOFFSETFROM:-0400
TZOFFSETTO:-0500
TZNAME:EST
DTSTART:20261101T060000
END:STANDARD
BEGIN:DAYLIGHT
TZOFFSETFROM:-0500
TZOFFSETTO:-0400
TZNAME:EDT
DTSTART:20270314T070000
END:DAYLIGHT
BEGIN:STANDARD
TZOFFSETFROM:-0400
TZOFFSETTO:-0500
TZNAME:EST
DTSTART:20271107T060000
END:STANDARD
END:VTIMEZONE
BEGIN:VEVENT
DTSTART;TZID=America/New_York:20260415T090000
DTEND;TZID=America/New_York:20260415T170000
DTSTAMP:20260420T153356
CREATED:20260331T180154Z
LAST-MODIFIED:20260331T180154Z
UID:10008622-1776243600-1776272400@marvinlibrary.org
SUMMARY:MARVIN in Use
DESCRIPTION:
URL:https://marvinlibrary.org/event-2/marvin-in-use-27/
LOCATION:Marvin Memorial Library\, 29 W. Whitney Ave.\, Shelby\, OH\, 44875
CATEGORIES:Community
END:VEVENT
BEGIN:VEVENT
DTSTART;TZID=America/New_York:20260415T130000
DTEND;TZID=America/New_York:20260415T140000
DTSTAMP:20260420T153356
CREATED:20260305T213303Z
LAST-MODIFIED:20260305T213303Z
UID:10008589-1776258000-1776261600@marvinlibrary.org
SUMMARY:Tech It Easy - All About Instagram  MPR
DESCRIPTION:Join us in the Multipurpose Room to learn how to use Instagram.
URL:https://marvinlibrary.org/event-2/tech-it-easy-all-about-instagram-mpr/
LOCATION:Marvin Memorial Library\, 29 W. Whitney Ave.\, Shelby\, OH\, 44875
CATEGORIES:Adults
END:VEVENT
BEGIN:VEVENT
DTSTART;TZID=America/New_York:20260415T160000
DTEND;TZID=America/New_York:20260415T170000
DTSTAMP:20260420T153356
CREATED:20250815T161724Z
LAST-MODIFIED:20250815T161724Z
UID:10007885-1776268800-1776272400@marvinlibrary.org
SUMMARY:Graphic Novel Book Club STR
DESCRIPTION:Meets on the 3rd Thursday at 4:00pm in the STory Time Room.  Share favorites and find new ones!\nTitles/Authors/Themes\nSept. 17 I Survived\nOct. 15 Treasure in the Lake\nNov. 19 Babysitters Club\nDec. 17 TBD\nJan. 21 Wings of Fire\nFeb. 18 TBD\nMar. 18 Magic Treehouse\nApr. 15 TBD\nMay 20 Dave Pilkey
URL:https://marvinlibrary.org/event-2/graphic-novel-book-club-str/2026-04-15/
LOCATION:Marvin Memorial Library\, 29 W. Whitney Ave.\, Shelby\, OH\, 44875
CATEGORIES:Family
END:VEVENT
BEGIN:VEVENT
DTSTART;TZID=America/New_York:20260416T103000
DTEND;TZID=America/New_York:20260416T113000
DTSTAMP:20260420T153356
CREATED:20250721T223627Z
LAST-MODIFIED:20260407T142208Z
UID:10007526-1776335400-1776339000@marvinlibrary.org
SUMMARY:Story Time Ages 2-5 STR
DESCRIPTION:Story Times consist of books\, games\, crafts\, music and lots of fun!
URL:https://marvinlibrary.org/event-2/story-time-for-ages-2-5-6/2026-04-16/
LOCATION:Marvin Memorial Library\, 29 W. Whitney Ave.\, Shelby\, OH\, 44875
CATEGORIES:Pre-school
END:VEVENT
BEGIN:VEVENT
DTSTART;TZID=America/New_York:20260416T130000
DTEND;TZID=America/New_York:20260416T140000
DTSTAMP:20260420T153356
CREATED:20250815T163720Z
LAST-MODIFIED:20251013T210824Z
UID:10007894-1776344400-1776348000@marvinlibrary.org
SUMMARY:Homeschool Art Club MPR
DESCRIPTION:Meets on the 3rd Thursday of each month at 1:00 in the Multipurpose Room.\n2025 – 2026 Themes\nSept. 18 – Colors\nOct. 16 – Lines\nNov. 20 – Shapes\nDec. 18 – Patterns\nJan. 22 – Textures\nFeb. 19 – Painting\nMar. 19 – Drawing\nApr. 16 – Collage\nMay 21 – Free Art
URL:https://marvinlibrary.org/event-2/homeschool-art-club-mpr/2026-04-16/
LOCATION:Marvin Memorial Library\, 29 W. Whitney Ave.\, Shelby\, OH\, 44875
CATEGORIES:Family
END:VEVENT
BEGIN:VEVENT
DTSTART;TZID=America/New_York:20260416T130000
DTEND;TZID=America/New_York:20260416T140000
DTSTAMP:20260420T153356
CREATED:20251202T214833Z
LAST-MODIFIED:20251202T214833Z
UID:10008334-1776344400-1776348000@marvinlibrary.org
SUMMARY:Between the Bookends BAVIN
DESCRIPTION:Between the Bookends Book Club is a “clean reads” book club with assigned titles.  They meet on the 3rd Thursday of each month at 1:00.  2026 Titles Include: \nJAN 15 Double Take\nFEB 19 Kisses from Katie\nMAR 19 At Home on Ladybug Farm\nAPR 16 The Water Keeper\nMAY 21 Her Heart for a Compass\nJUN 18 The Words We Lost\nJUL 16 America’s First Daughter\nAUG 20 When Breath Becomes Air\nSEP 17 Lost and Found\nOCT 15 Rebecca\nNOV 19 Prayers for Sale\nDEC 17 A Christmas Carol
URL:https://marvinlibrary.org/event-2/between-the-bookends-bavin/2026-04-16/
LOCATION:Marvin Memorial Library\, 29 W. Whitney Ave.\, Shelby\, OH\, 44875
CATEGORIES:Adults
END:VEVENT
BEGIN:VEVENT
DTSTART;TZID=America/New_York:20260416T160000
DTEND;TZID=America/New_York:20260416T170000
DTSTAMP:20260420T153356
CREATED:20250812T152307Z
LAST-MODIFIED:20251013T211601Z
UID:10008163-1776355200-1776358800@marvinlibrary.org
SUMMARY:T.A.C. Officers Meeting *RR STR
DESCRIPTION:T.A.C. meets on the first Thursday of each month at 5:30 in the Kerr Garden Room. (Story Time Room in winter months)\nTAC holds regular meetings\, elects officers and plans and executes the teen activities at the library. Join us!\n\n2025-2026 Meeting Dates\n Sept. 4 TAC\nSept. 18 – Officers\nOct. 2 TAC\nOct. 16 Officers\nNov. 6 TAC\nNov. 20 Officers\nDec. 4 TAC\nDec. 18 Officers\nJan. 8 TAC\nJan. 22 Officers\nFeb. 5 TAC\nFeb. 19 Officers\nMar. 5 TAC\nMar. 19 Officers\nApr. 2 TAC\nApr. 16 Officers\nMay 7 TAC\nMay 21 Officers
URL:https://marvinlibrary.org/event-2/teen-advisory-council-officers-meeting-rr-str/2026-04-16/
LOCATION:Marvin Memorial Library\, 29 W. Whitney Ave.\, Shelby\, OH\, 44875
CATEGORIES:Teens
END:VEVENT
BEGIN:VEVENT
DTSTART;TZID=America/New_York:20260416T173000
DTEND;TZID=America/New_York:20260416T190000
DTSTAMP:20260420T153356
CREATED:20250818T162531Z
LAST-MODIFIED:20260407T140711Z
UID:10008572-1776360600-1776366000@marvinlibrary.org
SUMMARY:Teach Me Thursdays KERR or MPR
DESCRIPTION:Teens in 7th – 12th Grade\n3rd Thursday of Each Month at 5:30PM\nMultipurpose Room \n2029 Themes:\nSept – Stella Robotics BAVIN\nOct – Hands Only CPR with The Red Cross MPR\nNov – Cooking Homemade Hot Pockets MPR\nDec – Cooking Gingerbread Cookies MPR\nJan – Building MPR\nFeb – Sewing (puppets and stuffed animals) BAVIN\nMar – Sean Beeson: Musical Process KGR\nApr – TAC Shares Skills KGR\nMay – Cooking Jell-O Salads MPR
URL:https://marvinlibrary.org/event-2/teach-me-thursdays-mpr/2026-04-16/
LOCATION:Marvin Memorial Library\, 29 W. Whitney Ave.\, Shelby\, OH\, 44875
CATEGORIES:Teens
END:VEVENT
BEGIN:VEVENT
DTSTART;TZID=America/New_York:20260416T180000
DTEND;TZID=America/New_York:20260416T190000
DTSTAMP:20260420T153356
CREATED:20260305T211353Z
LAST-MODIFIED:20260305T211353Z
UID:10008585-1776362400-1776366000@marvinlibrary.org
SUMMARY:Line Dancing *RR  KERR
DESCRIPTION:Put on your cowboy boots and join Line Dance with the Rockin’ Mommas! Registration opens March 20. Register here!
URL:https://marvinlibrary.org/event-2/line-dancing-rr-kerr-4/2026-04-16/
LOCATION:Marvin Memorial Library\, 29 W. Whitney Ave.\, Shelby\, OH\, 44875
CATEGORIES:Adults
END:VEVENT
BEGIN:VEVENT
DTSTART;TZID=America/New_York:20260417T090000
DTEND;TZID=America/New_York:20260417T100000
DTSTAMP:20260420T153356
CREATED:20260417T185807Z
LAST-MODIFIED:20260417T185807Z
UID:10008648-1776416400-1776420000@marvinlibrary.org
SUMMARY:BAVIN in Use
DESCRIPTION:
URL:https://marvinlibrary.org/event-2/bavin-in-use-185/
LOCATION:Marvin Memorial Library\, 29 W. Whitney Ave.\, Shelby\, OH\, 44875
CATEGORIES:Community
END:VEVENT
BEGIN:VEVENT
DTSTART;TZID=America/New_York:20260417T100000
DTEND;TZID=America/New_York:20260417T120000
DTSTAMP:20260420T153356
CREATED:20260417T143021Z
LAST-MODIFIED:20260417T143055Z
UID:10008646-1776420000-1776427200@marvinlibrary.org
SUMMARY:MARVIN in Use
DESCRIPTION:
URL:https://marvinlibrary.org/event-2/bavin-in-use-184/
LOCATION:Marvin Memorial Library\, 29 W. Whitney Ave.\, Shelby\, OH\, 44875
CATEGORIES:Community
END:VEVENT
BEGIN:VEVENT
DTSTART;TZID=America/New_York:20260417T103000
DTEND;TZID=America/New_York:20260417T113000
DTSTAMP:20260420T153356
CREATED:20250721T223900Z
LAST-MODIFIED:20260407T144335Z
UID:10007564-1776421800-1776425400@marvinlibrary.org
SUMMARY:Music & Movement for Ages 0-5 MPR
DESCRIPTION:Music & Movement is for children 0-5\, where they’ll engage in both physical activity and the creation of music while having interaction with their caregivers.
URL:https://marvinlibrary.org/event-2/music-movement-for-ages-0-5/2026-04-17/
LOCATION:Marvin Memorial Library\, 29 W. Whitney Ave.\, Shelby\, OH\, 44875
CATEGORIES:Pre-school
END:VEVENT
BEGIN:VEVENT
DTSTART;TZID=America/New_York:20260418T103000
DTEND;TZID=America/New_York:20260418T130000
DTSTAMP:20260420T153356
CREATED:20260305T215051Z
LAST-MODIFIED:20260305T215051Z
UID:10008590-1776508200-1776517200@marvinlibrary.org
SUMMARY:Touch-a-Truck  KGR
DESCRIPTION:Bring the whole family to the MML parking lot for a Touch-A-Truck event! Learn about fire trucks\, tractors\, buses and more! No registration required.
URL:https://marvinlibrary.org/event-2/touch-a-truck-kgr/
LOCATION:Marvin Memorial Library\, 29 W. Whitney Ave.\, Shelby\, OH\, 44875
CATEGORIES:Family
END:VEVENT
BEGIN:VEVENT
DTSTART;TZID=America/New_York:20260420T090000
DTEND;TZID=America/New_York:20260420T200000
DTSTAMP:20260420T153356
CREATED:20260305T212106Z
LAST-MODIFIED:20260305T212106Z
UID:10008587-1776675600-1776715200@marvinlibrary.org
SUMMARY:Reg. Opens for May Kids Cook
DESCRIPTION:
URL:https://marvinlibrary.org/event-2/reg-opens-for-may-kids-cook/
LOCATION:Marvin Memorial Library\, 29 W. Whitney Ave.\, Shelby\, OH\, 44875
CATEGORIES:Children
END:VEVENT
BEGIN:VEVENT
DTSTART;TZID=America/New_York:20260420T100000
DTEND;TZID=America/New_York:20260420T110000
DTSTAMP:20260420T153356
CREATED:20250711T202045Z
LAST-MODIFIED:20260407T142000Z
UID:10006412-1776679200-1776682800@marvinlibrary.org
SUMMARY:Lap Sit Story Time for Ages 0-2 STR
DESCRIPTION:Join us in the Story Time Room at 10:00 am every Monday for Lap Sit Story Time.  For children ages 0-2 and their caregivers\, Lap Sit will focus on connecting with baby through lap time\, books\, songs\, bubbles\, and more!
URL:https://marvinlibrary.org/event-2/lap-sit-story-time-for-ages-0-2/2026-04-20/
LOCATION:Marvin Memorial Library\, 29 W. Whitney Ave.\, Shelby\, OH\, 44875
CATEGORIES:Pre-school
END:VEVENT
BEGIN:VEVENT
DTSTART;TZID=America/New_York:20260420T100000
DTEND;TZID=America/New_York:20260420T110000
DTSTAMP:20260420T153356
CREATED:20260224T192502Z
LAST-MODIFIED:20260224T192503Z
UID:10008351-1776679200-1776682800@marvinlibrary.org
SUMMARY:Rompin' Stompin' Book Club MPR
DESCRIPTION:Join this assigned title book club on the 3rd Monday of each month at 10:00 am. If we are closed on the 3rd Monday we will meet on the 4th Monday at 10:00.
URL:https://marvinlibrary.org/event-2/rompin-stompin-book-club-mpr-2/2026-04-20/
LOCATION:Marvin Memorial Library\, 29 W. Whitney Ave.\, Shelby\, OH\, 44875
CATEGORIES:Adults
END:VEVENT
BEGIN:VEVENT
DTSTART;TZID=America/New_York:20260420T160000
DTEND;TZID=America/New_York:20260420T170000
DTSTAMP:20260420T153356
CREATED:20250812T155059Z
LAST-MODIFIED:20250821T195213Z
UID:10007800-1776700800-1776704400@marvinlibrary.org
SUMMARY:Study Buddies CD
DESCRIPTION:Need Homework help? Stop by the Children’s Dept on Mondays at 4:00 for peer tutoring.  Best suited for K-6th grade\, you can sign up to get help in specific areas or just stop by when help is needed.  Stop by the front desk or the Children’s Department Office to sign up to be a helper.
URL:https://marvinlibrary.org/event-2/study-buddies-cd/2026-04-20/
LOCATION:Marvin Memorial Library\, 29 W. Whitney Ave.\, Shelby\, OH\, 44875
CATEGORIES:Children
END:VEVENT
BEGIN:VEVENT
DTSTART;TZID=America/New_York:20260421T090000
DTEND;TZID=America/New_York:20260421T130000
DTSTAMP:20260420T153356
CREATED:20250902T202526Z
LAST-MODIFIED:20250902T202526Z
UID:10007989-1776762000-1776776400@marvinlibrary.org
SUMMARY:MPR in Use
DESCRIPTION:
URL:https://marvinlibrary.org/event-2/mpr-in-use-81/2026-04-21/
LOCATION:Marvin Memorial Library\, 29 W. Whitney Ave.\, Shelby\, OH\, 44875
CATEGORIES:Community
END:VEVENT
BEGIN:VEVENT
DTSTART;TZID=America/New_York:20260421T103000
DTEND;TZID=America/New_York:20260421T113000
DTSTAMP:20260420T153356
CREATED:20250721T221355Z
LAST-MODIFIED:20260407T142357Z
UID:10006462-1776767400-1776771000@marvinlibrary.org
SUMMARY:Story Time Ages 2-5 STR
DESCRIPTION:Story Times consist of books\, games\, toys\, crafts\, music\, and lots of fun!
URL:https://marvinlibrary.org/event-2/story-time-for-ages-2-5-4/2026-04-21/
LOCATION:Marvin Memorial Library\, 29 W. Whitney Ave.\, Shelby\, OH\, 44875
CATEGORIES:Pre-school
END:VEVENT
BEGIN:VEVENT
DTSTART;TZID=America/New_York:20260421T160000
DTEND;TZID=America/New_York:20260421T170000
DTSTAMP:20260420T153356
CREATED:20250811T165004Z
LAST-MODIFIED:20251209T190835Z
UID:10007686-1776787200-1776790800@marvinlibrary.org
SUMMARY:Family Builders Club CD
DESCRIPTION:Family Builders Club\n1st & 2nd Tuesday of Each Month at 4:00pm in the Children’s Department\nBring the whole family and join us 2x a month to test your building skills.  We’ll have monthly challenges and themes.  We will provide the building supplies. \n2025-2026 Themes\nSept 2 & 15 Bridges\nOct 7 & 21 Buildings\nNov 4 & 18 Colors\nDec 2 & 16 Food\nJan 6 & 20 Ohio Firsts\nFeb 3 & 17 Inventions\nMar 3 & 17 Inventions\nApr 7 & 21 Transportation\nMay 5 & 19 Art
URL:https://marvinlibrary.org/event-2/family-builders-club-2/2026-04-21/
LOCATION:Marvin Memorial Library\, 29 W. Whitney Ave.\, Shelby\, OH\, 44875
CATEGORIES:Family
END:VEVENT
BEGIN:VEVENT
DTSTART;TZID=America/New_York:20260421T180000
DTEND;TZID=America/New_York:20260421T190000
DTSTAMP:20260420T153356
CREATED:20260306T203304Z
LAST-MODIFIED:20260306T203304Z
UID:10008591-1776794400-1776798000@marvinlibrary.org
SUMMARY:DIY Design Night *RR  MPR
DESCRIPTION:Registration Opens April 1st to make Terrariums.  Bring your own jar and we’ll provide the other supplies.  Register Here.
URL:https://marvinlibrary.org/event-2/diy-design-night-rr-mpr-5/
LOCATION:Marvin Memorial Library\, 29 W. Whitney Ave.\, Shelby\, OH\, 44875
CATEGORIES:Adults
END:VEVENT
BEGIN:VEVENT
DTSTART;TZID=America/New_York:20260422T110000
DTEND;TZID=America/New_York:20260422T120000
DTSTAMP:20260420T153356
CREATED:20250811T184258Z
LAST-MODIFIED:20251013T213528Z
UID:10008183-1776855600-1776859200@marvinlibrary.org
SUMMARY:Wednesday Play Group for Ages 0-5 MPR
DESCRIPTION:Every other Wednesday at 11:00 AM in the Multipurpose Room. Social interaction for children and caregivers with stories\, play spaces\, sensory activities\, music\, toys and snacks.\nSept 3&17\nOct 1\, 15 & 29\nNov 5 & 19\nDec 3 & 17\nJan 7 & 21\nFeb 4 & 18\nMar 4 & 18\nApr 8 & 22\nMay 6 & 20
URL:https://marvinlibrary.org/event-2/wednesday-play-group-for-ages-0-5-2/2026-04-22/
LOCATION:Marvin Memorial Library\, 29 W. Whitney Ave.\, Shelby\, OH\, 44875
CATEGORIES:Pre-school
END:VEVENT
BEGIN:VEVENT
DTSTART;TZID=America/New_York:20260422T160000
DTEND;TZID=America/New_York:20260422T170000
DTSTAMP:20260420T153356
CREATED:20250813T165541Z
LAST-MODIFIED:20260417T192000Z
UID:10007845-1776873600-1776877200@marvinlibrary.org
SUMMARY:Science Club MPR
DESCRIPTION:K-6th Grade\nEvery Other Wednesday at 4:00 PM\nIn the Multipurpose Room\nWe’ll be doing science experiments where we’ll learn by doing. \nEarth Science\nSept 10th & 24\nOct 8th & 22nd\nNov 12th & 26th\nAstronomy\nDec 10th\nJan 14th & 26th\nFeb 11th & 25th\nEcology\nMar 11th & 25th\nApr 8th & 22nd\nMay 13th & 27th
URL:https://marvinlibrary.org/event-2/science-club-mpr/2026-04-22/
LOCATION:Marvin Memorial Library\, 29 W. Whitney Ave.\, Shelby\, OH\, 44875
CATEGORIES:Children
END:VEVENT
BEGIN:VEVENT
DTSTART;TZID=America/New_York:20260422T170000
DTEND;TZID=America/New_York:20260422T200000
DTSTAMP:20260420T153356
CREATED:20260408T155907Z
LAST-MODIFIED:20260417T190030Z
UID:10008637-1776877200-1776888000@marvinlibrary.org
SUMMARY:KERR in Use
DESCRIPTION:
URL:https://marvinlibrary.org/event-2/kerr-in-use-66/
LOCATION:Marvin Memorial Library\, 29 W. Whitney Ave.\, Shelby\, OH\, 44875
CATEGORIES:Community
END:VEVENT
BEGIN:VEVENT
DTSTART;TZID=America/New_York:20260423T103000
DTEND;TZID=America/New_York:20260423T113000
DTSTAMP:20260420T153356
CREATED:20250721T223627Z
LAST-MODIFIED:20260407T142208Z
UID:10007527-1776940200-1776943800@marvinlibrary.org
SUMMARY:Story Time Ages 2-5 STR
DESCRIPTION:Story Times consist of books\, games\, crafts\, music and lots of fun!
URL:https://marvinlibrary.org/event-2/story-time-for-ages-2-5-6/2026-04-23/
LOCATION:Marvin Memorial Library\, 29 W. Whitney Ave.\, Shelby\, OH\, 44875
CATEGORIES:Pre-school
END:VEVENT
BEGIN:VEVENT
DTSTART;TZID=America/New_York:20260423T130000
DTEND;TZID=America/New_York:20260423T140000
DTSTAMP:20260420T153356
CREATED:20260417T190349Z
LAST-MODIFIED:20260417T192124Z
UID:10007901-1776949200-1776952800@marvinlibrary.org
SUMMARY:Homeschool Builders' Club KERR
DESCRIPTION:Meets on the 4th Thursday of each month at 1:00pm in the Multipurpose Room. Challenges and Themes:\nSept. 25 Bridges\nOct. 23 Buildings\nJan. 29 Ohio Firsts\nFeb. 26 Inventions\nMar. 26 Numbers\nApr. 23 Transportation\nMay 28 Art
URL:https://marvinlibrary.org/event-2/homeschool-builders-club-mpr-2/
LOCATION:Marvin Memorial Library\, 29 W. Whitney Ave.\, Shelby\, OH\, 44875
CATEGORIES:Family
END:VEVENT
BEGIN:VEVENT
DTSTART;TZID=America/New_York:20260423T130000
DTEND;TZID=America/New_York:20260423T143000
DTSTAMP:20260420T153356
CREATED:20251201T195536Z
LAST-MODIFIED:20251201T195536Z
UID:10008251-1776949200-1776954600@marvinlibrary.org
SUMMARY:Knotty Knitters BAVIN
DESCRIPTION:Knotty Knitters meet on the 2nd and 4th Thursday of each month at 1:00 in the Bavin Room.  If there\, is a 5th Thursday they meet on that day also.
URL:https://marvinlibrary.org/event-2/knotty-knitters-bavin-4/2026-04-23/
LOCATION:Marvin Memorial Library\, 29 W. Whitney Ave.\, Shelby\, OH\, 44875
CATEGORIES:Community
END:VEVENT
BEGIN:VEVENT
DTSTART;TZID=America/New_York:20260423T160000
DTEND;TZID=America/New_York:20260423T180000
DTSTAMP:20260420T153356
CREATED:20260306T213642Z
LAST-MODIFIED:20260306T213642Z
UID:10008593-1776960000-1776967200@marvinlibrary.org
SUMMARY:Friends of the Library Soup & Sandwich Fundraiser  MPR
DESCRIPTION:The Friend of the Library are hosting a Soup and Sandwich Fundraiser in the Multipurpose Room from 4:00 – 6:00.  All items are donation only.  You will get soup\, a sandwich\, a drink\, and a dessert.  Let the “Friends” take care of supper tonight! They will also have the book sale open. $5 for a bag of books.
URL:https://marvinlibrary.org/event-2/friends-of-the-library-soup-sandwich-fundraiser-mpr-2/
LOCATION:Marvin Memorial Library\, 29 W. Whitney Ave.\, Shelby\, OH\, 44875
CATEGORIES:Friends of the Library
END:VEVENT
BEGIN:VEVENT
DTSTART;TZID=America/New_York:20260423T160000
DTEND;TZID=America/New_York:20260423T194500
DTSTAMP:20260420T153356
CREATED:20260306T213952Z
LAST-MODIFIED:20260306T213952Z
UID:10008594-1776960000-1776973500@marvinlibrary.org
SUMMARY:Friends of the Library Book Sale  MPR
DESCRIPTION:Book Sale Hours \nThursday 4:00 – 7:45 \nFriday 9:00 – 4:45 \nSaturday 9:00 – 1:45
URL:https://marvinlibrary.org/event-2/friends-of-the-library-book-sale-mpr-4/2026-04-23/
LOCATION:Marvin Memorial Library\, 29 W. Whitney Ave.\, Shelby\, OH\, 44875
CATEGORIES:Friends of the Library
END:VEVENT
BEGIN:VEVENT
DTSTART;TZID=America/New_York:20260423T173000
DTEND;TZID=America/New_York:20260423T190000
DTSTAMP:20260420T153356
CREATED:20260306T204619Z
LAST-MODIFIED:20260306T204619Z
UID:10008592-1776965400-1776970800@marvinlibrary.org
SUMMARY:Teen Game Night KGR
DESCRIPTION:Join us in the Kerr Garden Room for Teen Game Night! We’ll play a variety of card\, board\, and video games.  We’ll have multiple game consoles available to play.
URL:https://marvinlibrary.org/event-2/teen-game-night-kgr/
LOCATION:Marvin Memorial Library\, 29 W. Whitney Ave.\, Shelby\, OH\, 44875
CATEGORIES:Teens
END:VEVENT
END:VCALENDAR