BEGIN:VCALENDAR
VERSION:2.0
PRODID:-//Marvin Memorial Library - ECPv6.15.18//NONSGML v1.0//EN
CALSCALE:GREGORIAN
METHOD:PUBLISH
X-WR-CALNAME:Marvin Memorial Library
X-ORIGINAL-URL:https://marvinlibrary.org
X-WR-CALDESC:Events for Marvin Memorial Library
REFRESH-INTERVAL;VALUE=DURATION:PT1H
X-Robots-Tag:noindex
X-PUBLISHED-TTL:PT1H
BEGIN:VTIMEZONE
TZID:America/New_York
BEGIN:DAYLIGHT
TZOFFSETFROM:-0500
TZOFFSETTO:-0400
TZNAME:EDT
DTSTART:20250309T070000
END:DAYLIGHT
BEGIN:STANDARD
TZOFFSETFROM:-0400
TZOFFSETTO:-0500
TZNAME:EST
DTSTART:20251102T060000
END:STANDARD
BEGIN:DAYLIGHT
TZOFFSETFROM:-0500
TZOFFSETTO:-0400
TZNAME:EDT
DTSTART:20260308T070000
END:DAYLIGHT
BEGIN:STANDARD
TZOFFSETFROM:-0400
TZOFFSETTO:-0500
TZNAME:EST
DTSTART:20261101T060000
END:STANDARD
BEGIN:DAYLIGHT
TZOFFSETFROM:-0500
TZOFFSETTO:-0400
TZNAME:EDT
DTSTART:20270314T070000
END:DAYLIGHT
BEGIN:STANDARD
TZOFFSETFROM:-0400
TZOFFSETTO:-0500
TZNAME:EST
DTSTART:20271107T060000
END:STANDARD
END:VTIMEZONE
BEGIN:VEVENT
DTSTART;TZID=America/New_York:20260506T110000
DTEND;TZID=America/New_York:20260506T120000
DTSTAMP:20260424T132843
CREATED:20250811T184258Z
LAST-MODIFIED:20251013T213528Z
UID:10008184-1778065200-1778068800@marvinlibrary.org
SUMMARY:Wednesday Play Group for Ages 0-5 MPR
DESCRIPTION:Every other Wednesday at 11:00 AM in the Multipurpose Room. Social interaction for children and caregivers with stories\, play spaces\, sensory activities\, music\, toys and snacks.\nSept 3&17\nOct 1\, 15 & 29\nNov 5 & 19\nDec 3 & 17\nJan 7 & 21\nFeb 4 & 18\nMar 4 & 18\nApr 8 & 22\nMay 6 & 20
URL:https://marvinlibrary.org/event-2/wednesday-play-group-for-ages-0-5-2/2026-05-06/
LOCATION:Marvin Memorial Library\, 29 W. Whitney Ave.\, Shelby\, OH\, 44875
CATEGORIES:Pre-school
END:VEVENT
BEGIN:VEVENT
DTSTART;TZID=America/New_York:20260506T123000
DTEND;TZID=America/New_York:20260506T143000
DTSTAMP:20260424T132843
CREATED:20260421T195906Z
LAST-MODIFIED:20260421T195906Z
UID:10008669-1778070600-1778077800@marvinlibrary.org
SUMMARY:BAVIN in Use
DESCRIPTION:
URL:https://marvinlibrary.org/event-2/bavin-in-use-189/
LOCATION:Marvin Memorial Library\, 29 W. Whitney Ave.\, Shelby\, OH\, 44875
CATEGORIES:Community
END:VEVENT
BEGIN:VEVENT
DTSTART;TZID=America/New_York:20260506T180000
DTEND;TZID=America/New_York:20260506T190000
DTSTAMP:20260424T132843
CREATED:20260407T183847Z
LAST-MODIFIED:20260407T183847Z
UID:10008633-1778090400-1778094000@marvinlibrary.org
SUMMARY:Inside the Maestro's Mind  MPR
DESCRIPTION:Join award winning composer Sean Beeson as he takes us on a journey into his musical process.
URL:https://marvinlibrary.org/event-2/inside-the-maestros-mind-mpr/
LOCATION:Marvin Memorial Library\, 29 W. Whitney Ave.\, Shelby\, OH\, 44875
CATEGORIES:Adults
END:VEVENT
BEGIN:VEVENT
DTSTART;TZID=America/New_York:20260507T103000
DTEND;TZID=America/New_York:20260507T113000
DTSTAMP:20260424T132843
CREATED:20250721T223627Z
LAST-MODIFIED:20260407T142208Z
UID:10007529-1778149800-1778153400@marvinlibrary.org
SUMMARY:Story Time Ages 2-5 STR
DESCRIPTION:Story Times consist of books\, games\, crafts\, music and lots of fun!
URL:https://marvinlibrary.org/event-2/story-time-for-ages-2-5-6/2026-05-07/
LOCATION:Marvin Memorial Library\, 29 W. Whitney Ave.\, Shelby\, OH\, 44875
CATEGORIES:Pre-school
END:VEVENT
BEGIN:VEVENT
DTSTART;TZID=America/New_York:20260507T130000
DTEND;TZID=America/New_York:20260507T140000
DTSTAMP:20260424T132843
CREATED:20250812T145637Z
LAST-MODIFIED:20251013T210141Z
UID:10007745-1778158800-1778162400@marvinlibrary.org
SUMMARY:Homeschool Book Club MPR
DESCRIPTION:Bring your homeschoolers and join us for our Book Club on the first Thursday of each month at 1:00 in the Multipurpose Room.  Each month will discuss a theme and have an activity that matches.
URL:https://marvinlibrary.org/event-2/homeschool-book-club-mpr/2026-05-07/
LOCATION:Marvin Memorial Library\, 29 W. Whitney Ave.\, Shelby\, OH\, 44875
CATEGORIES:Family
END:VEVENT
BEGIN:VEVENT
DTSTART;TZID=America/New_York:20260507T173000
DTEND;TZID=America/New_York:20260507T183000
DTSTAMP:20260424T132843
CREATED:20260417T191156Z
LAST-MODIFIED:20260417T192256Z
UID:10007754-1778175000-1778178600@marvinlibrary.org
SUMMARY:Teen Advisory Council Meeting *RR MPR
DESCRIPTION:T.A.C. meets on the first Thursday of each month at 5:30 in the Kerr Garden Room. (Story Time Room in winter months)\n\nTAC holds regular meetings\, elects officers and plans and executes the teen activities at the library. Join us!\n\n2025-2026 Meeting Dates\n Sept. 4 TAC\nSept. 18 – Officers\nOct. 2 TAC\nOct. 16 Officers\nNov. 6 TAC\nNov. 20 Officers\nDec. 4 TAC\nDec. 18 Officers\nJan. 8 TAC\nJan. 22 Officers\nFeb. 5 TAC\nFeb. 19 Officers\nMar. 5 TAC\nMar. 19 Officers\nApr. 2 TAC\nApr. 16 Officers\nMay 7 TAC\nMay 21 Officers
URL:https://marvinlibrary.org/event-2/teen-advisory-council-meeting-rr-kerr-2/
LOCATION:Marvin Memorial Library\, 29 W. Whitney Ave.\, Shelby\, OH\, 44875
CATEGORIES:Teens
END:VEVENT
BEGIN:VEVENT
DTSTART;TZID=America/New_York:20260507T180000
DTEND;TZID=America/New_York:20260507T190000
DTSTAMP:20260424T132843
CREATED:20260408T205510Z
LAST-MODIFIED:20260408T205510Z
UID:10008639-1778176800-1778180400@marvinlibrary.org
SUMMARY:Line Dancing Class *RR KGR
DESCRIPTION:Register for one or both of our May Line Dancing Classes.
URL:https://marvinlibrary.org/event-2/line-dancing-class-rr-kgr/2026-05-07/
LOCATION:Marvin Memorial Library\, 29 W. Whitney Ave.\, Shelby\, OH\, 44875
CATEGORIES:Adults
END:VEVENT
BEGIN:VEVENT
DTSTART;TZID=America/New_York:20260508T103000
DTEND;TZID=America/New_York:20260508T113000
DTSTAMP:20260424T132843
CREATED:20250721T223900Z
LAST-MODIFIED:20260407T144335Z
UID:10007567-1778236200-1778239800@marvinlibrary.org
SUMMARY:Music & Movement for Ages 0-5 MPR
DESCRIPTION:Music & Movement is for children 0-5\, where they’ll engage in both physical activity and the creation of music while having interaction with their caregivers.
URL:https://marvinlibrary.org/event-2/music-movement-for-ages-0-5/2026-05-08/
LOCATION:Marvin Memorial Library\, 29 W. Whitney Ave.\, Shelby\, OH\, 44875
CATEGORIES:Pre-school
END:VEVENT
BEGIN:VEVENT
DTSTART;TZID=America/New_York:20260509T090000
DTEND;TZID=America/New_York:20260509T140000
DTSTAMP:20260424T132843
CREATED:20260407T135156Z
LAST-MODIFIED:20260407T135156Z
UID:10008626-1778317200-1778335200@marvinlibrary.org
SUMMARY:Reg. Closes for May Kids Cook Program
DESCRIPTION:
URL:https://marvinlibrary.org/event-2/reg-closes-for-may-kids-cook-program/
LOCATION:Marvin Memorial Library\, 29 W. Whitney Ave.\, Shelby\, OH\, 44875
CATEGORIES:Children
END:VEVENT
BEGIN:VEVENT
DTSTART;TZID=America/New_York:20260509T103000
DTEND;TZID=America/New_York:20260509T113000
DTSTAMP:20260424T132843
CREATED:20250813T203425Z
LAST-MODIFIED:20250813T203725Z
UID:10007875-1778322600-1778326200@marvinlibrary.org
SUMMARY:Family Story Time STR
DESCRIPTION:Meets in the Story Time Room where we’ll have stories\, flannels\, games and crafts focusing on early literacy skills.\nThe Overall Theme is: A Year in the Life\n\n       2025-2026 Dates and Monthly Themes\n\nSeptember 13th – Fall Fun\nOctober 11th – Let’s Make Friends\nNovember 8th – Let’s Get Dressed\nDecember 13th – Let’s Throw a Party\nJanuary 10th – Winter Fun\nFebruary 14th – Let’s Share the Love\nMarch 14th – Spring Fun\nApril 11th – Let’s Go\nMay 9th – Let’s Get Ready for Summer
URL:https://marvinlibrary.org/event-2/family-story-time-str/2026-05-09/
LOCATION:Marvin Memorial Library\, 29 W. Whitney Ave.\, Shelby\, OH\, 44875
CATEGORIES:Family
END:VEVENT
BEGIN:VEVENT
DTSTART;TZID=America/New_York:20260511T100000
DTEND;TZID=America/New_York:20260511T110000
DTSTAMP:20260424T132843
CREATED:20250711T202045Z
LAST-MODIFIED:20260407T142000Z
UID:10006415-1778493600-1778497200@marvinlibrary.org
SUMMARY:Lap Sit Story Time for Ages 0-2 STR
DESCRIPTION:Join us in the Story Time Room at 10:00 am every Monday for Lap Sit Story Time.  For children ages 0-2 and their caregivers\, Lap Sit will focus on connecting with baby through lap time\, books\, songs\, bubbles\, and more!
URL:https://marvinlibrary.org/event-2/lap-sit-story-time-for-ages-0-2/2026-05-11/
LOCATION:Marvin Memorial Library\, 29 W. Whitney Ave.\, Shelby\, OH\, 44875
CATEGORIES:Pre-school
END:VEVENT
BEGIN:VEVENT
DTSTART;TZID=America/New_York:20260511T130000
DTEND;TZID=America/New_York:20260511T140000
DTSTAMP:20260424T132843
CREATED:20251201T205647Z
LAST-MODIFIED:20251201T205647Z
UID:10008302-1778504400-1778508000@marvinlibrary.org
SUMMARY:Cookbook Club MPR
DESCRIPTION:Bring a dish of food and a copy of the recipe to share at Cookbook Club on the 2nd Monday of each month at 1:00. \n2026 Themes: \nJAN 12 Family Favorites\nFEB 9 Soup\nMAR 9 Tailgate\nAPR 13 Easter\nMAY 11 International\nJUN 8 Retro\nJUL 13 Picnic\nAUG 10 Casserole\nSEP 14 Crockpot\nOCT 12 Salad\nNOV 9 Thanksgiving\nDEC 14 Christmas
URL:https://marvinlibrary.org/event-2/cookbook-club-mpr-2/2026-05-11/
LOCATION:Marvin Memorial Library\, 29 W. Whitney Ave.\, Shelby\, OH\, 44875
CATEGORIES:Adults
END:VEVENT
BEGIN:VEVENT
DTSTART;TZID=America/New_York:20260511T160000
DTEND;TZID=America/New_York:20260511T170000
DTSTAMP:20260424T132843
CREATED:20250812T155059Z
LAST-MODIFIED:20250821T195213Z
UID:10007803-1778515200-1778518800@marvinlibrary.org
SUMMARY:Study Buddies CD
DESCRIPTION:Need Homework help? Stop by the Children’s Dept on Mondays at 4:00 for peer tutoring.  Best suited for K-6th grade\, you can sign up to get help in specific areas or just stop by when help is needed.  Stop by the front desk or the Children’s Department Office to sign up to be a helper.
URL:https://marvinlibrary.org/event-2/study-buddies-cd/2026-05-11/
LOCATION:Marvin Memorial Library\, 29 W. Whitney Ave.\, Shelby\, OH\, 44875
CATEGORIES:Children
END:VEVENT
BEGIN:VEVENT
DTSTART;TZID=America/New_York:20260511T180000
DTEND;TZID=America/New_York:20260511T193000
DTSTAMP:20260424T132843
CREATED:20250821T194112Z
LAST-MODIFIED:20251013T213659Z
UID:10007944-1778522400-1778527800@marvinlibrary.org
SUMMARY:Kids Cook *RR MPR
DESCRIPTION:Call 419-347-5576 to register your K-6th Grader for Kids Cook! We’ll be learning basic cooking skills.\nUpcoming Themes:\nSept 8 – Basic Skills Overview I\nOct 13 – Basic Skills Overview II\nNov 10 – Homemade Hot Pockets\nDec 8 – Cookies\nJan – Soup\nFeb – Brownies
URL:https://marvinlibrary.org/event-2/kids-cook-rr-mpr/2026-05-11/
LOCATION:Marvin Memorial Library\, 29 W. Whitney Ave.\, Shelby\, OH\, 44875
CATEGORIES:Children
END:VEVENT
BEGIN:VEVENT
DTSTART;TZID=America/New_York:20260512T090000
DTEND;TZID=America/New_York:20260512T130000
DTSTAMP:20260424T132843
CREATED:20250902T202526Z
LAST-MODIFIED:20250902T202526Z
UID:10007992-1778576400-1778590800@marvinlibrary.org
SUMMARY:MPR in Use
DESCRIPTION:
URL:https://marvinlibrary.org/event-2/mpr-in-use-81/2026-05-12/
LOCATION:Marvin Memorial Library\, 29 W. Whitney Ave.\, Shelby\, OH\, 44875
CATEGORIES:Community
END:VEVENT
BEGIN:VEVENT
DTSTART;TZID=America/New_York:20260512T103000
DTEND;TZID=America/New_York:20260512T113000
DTSTAMP:20260424T132843
CREATED:20250721T221355Z
LAST-MODIFIED:20260407T142357Z
UID:10006465-1778581800-1778585400@marvinlibrary.org
SUMMARY:Story Time Ages 2-5 STR
DESCRIPTION:Story Times consist of books\, games\, toys\, crafts\, music\, and lots of fun!
URL:https://marvinlibrary.org/event-2/story-time-for-ages-2-5-4/2026-05-12/
LOCATION:Marvin Memorial Library\, 29 W. Whitney Ave.\, Shelby\, OH\, 44875
CATEGORIES:Pre-school
END:VEVENT
BEGIN:VEVENT
DTSTART;TZID=America/New_York:20260512T160000
DTEND;TZID=America/New_York:20260512T170000
DTSTAMP:20260424T132843
CREATED:20250812T182952Z
LAST-MODIFIED:20250812T182952Z
UID:10007822-1778601600-1778605200@marvinlibrary.org
SUMMARY:Artists' Club CD
DESCRIPTION:Every Other Tuesday at 4:00\nChildren’s Department\n\n2025-2026 Themes:\nSept. 9 & 23 – Colors\nOct. 14 & 28 – Lines\nNov. 11 & 25 – Shapes\nDec. 9 – Patterns\nJan. 13 & 27 – Textures\nFeb. 10 & 24 – Painting\nMar. 10 & 24 – Drawing\nApr. 14 & 28 – Collage\nMay12 & 26 – Free Art
URL:https://marvinlibrary.org/event-2/artists-club-cd/2026-05-12/
LOCATION:Marvin Memorial Library\, 29 W. Whitney Ave.\, Shelby\, OH\, 44875
CATEGORIES:Family
END:VEVENT
BEGIN:VEVENT
DTSTART;TZID=America/New_York:20260512T180000
DTEND;TZID=America/New_York:20260512T190000
DTSTAMP:20260424T132843
CREATED:20250812T160912Z
LAST-MODIFIED:20260408T155622Z
UID:10007813-1778608800-1778612400@marvinlibrary.org
SUMMARY:Book Bingo MPR
DESCRIPTION:  \n2nd Tuesday of Each Month\n6:00 PM\nMultipurpose Room\nOpen to All Ages\n\n2025 – 2026 Dates\nSept. 9\nOct. 14\nNov. 11\nDec. 9\nJan. 14\nFeb. 11\nMar. 11\nApr. 8\nMay 13
URL:https://marvinlibrary.org/event-2/bobs-book-bingo-mpr-3/2026-05-12/
LOCATION:Marvin Memorial Library\, 29 W. Whitney Ave.\, Shelby\, OH\, 44875
CATEGORIES:Family
END:VEVENT
BEGIN:VEVENT
DTSTART;TZID=America/New_York:20260513T123000
DTEND;TZID=America/New_York:20260513T143000
DTSTAMP:20260424T132843
CREATED:20260421T195959Z
LAST-MODIFIED:20260421T195959Z
UID:10008670-1778675400-1778682600@marvinlibrary.org
SUMMARY:BAVIN in Use
DESCRIPTION:
URL:https://marvinlibrary.org/event-2/bavin-in-use-190/
LOCATION:Marvin Memorial Library\, 29 W. Whitney Ave.\, Shelby\, OH\, 44875
CATEGORIES:Community
END:VEVENT
BEGIN:VEVENT
DTSTART;TZID=America/New_York:20260513T130000
DTEND;TZID=America/New_York:20260513T140000
DTSTAMP:20260424T132843
CREATED:20260417T192635Z
LAST-MODIFIED:20260417T192956Z
UID:10008317-1778677200-1778680800@marvinlibrary.org
SUMMARY:Cover to Cover Book Club MPR
DESCRIPTION:Cover to Cover book club meets on the 2nd Wednesday of each month at 1:00pm.  Assigned Titles run from July to June.  Upcoming Titles include: \nJAN 14 The Secret Life of Houdini\nFEB 11 The Star Crossed Sisters of Tuscany\nMAR 11 The Lost Manuscript\nAPR 8 Jane Eyre\nMAY 13 The Nature of Fragile Things\nJune 10 Waiting for the Moon
URL:https://marvinlibrary.org/event-2/cover-to-cover-book-club-bavin-2/
LOCATION:Marvin Memorial Library\, 29 W. Whitney Ave.\, Shelby\, OH\, 44875
CATEGORIES:Adults
END:VEVENT
BEGIN:VEVENT
DTSTART;TZID=America/New_York:20260513T160000
DTEND;TZID=America/New_York:20260513T170000
DTSTAMP:20260424T132843
CREATED:20250813T165541Z
LAST-MODIFIED:20260417T192000Z
UID:10007846-1778688000-1778691600@marvinlibrary.org
SUMMARY:Science Club MPR
DESCRIPTION:K-6th Grade\nEvery Other Wednesday at 4:00 PM\nIn the Multipurpose Room\nWe’ll be doing science experiments where we’ll learn by doing. \nEarth Science\nSept 10th & 24\nOct 8th & 22nd\nNov 12th & 26th\nAstronomy\nDec 10th\nJan 14th & 26th\nFeb 11th & 25th\nEcology\nMar 11th & 25th\nApr 8th & 22nd\nMay 13th & 27th
URL:https://marvinlibrary.org/event-2/science-club-mpr/2026-05-13/
LOCATION:Marvin Memorial Library\, 29 W. Whitney Ave.\, Shelby\, OH\, 44875
CATEGORIES:Children
END:VEVENT
BEGIN:VEVENT
DTSTART;TZID=America/New_York:20260513T170000
DTEND;TZID=America/New_York:20260513T200000
DTSTAMP:20260424T132843
CREATED:20260417T191728Z
LAST-MODIFIED:20260417T191728Z
UID:10008652-1778691600-1778702400@marvinlibrary.org
SUMMARY:BAVIN in Use
DESCRIPTION:
URL:https://marvinlibrary.org/event-2/bavin-in-use-177/
LOCATION:Marvin Memorial Library\, 29 W. Whitney Ave.\, Shelby\, OH\, 44875
CATEGORIES:Community
END:VEVENT
BEGIN:VEVENT
DTSTART;TZID=America/New_York:20260513T170000
DTEND;TZID=America/New_York:20260513T200000
DTSTAMP:20260424T132843
CREATED:20260417T191831Z
LAST-MODIFIED:20260417T191831Z
UID:10008653-1778691600-1778702400@marvinlibrary.org
SUMMARY:KERR in Use
DESCRIPTION:
URL:https://marvinlibrary.org/event-2/kerr-in-use-67/
LOCATION:Marvin Memorial Library\, 29 W. Whitney Ave.\, Shelby\, OH\, 44875
CATEGORIES:Community
END:VEVENT
BEGIN:VEVENT
DTSTART;TZID=America/New_York:20260514T103000
DTEND;TZID=America/New_York:20260514T113000
DTSTAMP:20260424T132843
CREATED:20250721T223627Z
LAST-MODIFIED:20260407T142208Z
UID:10007530-1778754600-1778758200@marvinlibrary.org
SUMMARY:Story Time Ages 2-5 STR
DESCRIPTION:Story Times consist of books\, games\, crafts\, music and lots of fun!
URL:https://marvinlibrary.org/event-2/story-time-for-ages-2-5-6/2026-05-14/
LOCATION:Marvin Memorial Library\, 29 W. Whitney Ave.\, Shelby\, OH\, 44875
CATEGORIES:Pre-school
END:VEVENT
BEGIN:VEVENT
DTSTART;TZID=America/New_York:20260514T130000
DTEND;TZID=America/New_York:20260514T140000
DTSTAMP:20260424T132843
CREATED:20250813T171400Z
LAST-MODIFIED:20260224T192735Z
UID:10007856-1778763600-1778767200@marvinlibrary.org
SUMMARY:Homeschool Science Club MPR
DESCRIPTION:Second Thursday of Each Month\nat 1:00 PM in the Multipurpose Room\n\n\nEarth Science\nSept. 11th: Geology\nOct. 9th: Volcanoes & Earthquakes\nNov. 13th: Weather\nAstronomy\nDec. 11th: Astronomy Basics\nJan. 15th: Our Solar System\nFeb. 12th: Stars\, Galaxies\, & Beyond\nBiology\nMar. 12th: Seeds & Migration\nApr. 9th: Conservation & Pollution\nMay 14th: Animal Habitats & Adaptations
URL:https://marvinlibrary.org/event-2/homeschool-science-club-mpr/2026-05-14/
LOCATION:Marvin Memorial Library\, 29 W. Whitney Ave.\, Shelby\, OH\, 44875
CATEGORIES:Family
END:VEVENT
BEGIN:VEVENT
DTSTART;TZID=America/New_York:20260514T130000
DTEND;TZID=America/New_York:20260514T143000
DTSTAMP:20260424T132843
CREATED:20251201T195536Z
LAST-MODIFIED:20251201T195536Z
UID:10008253-1778763600-1778769000@marvinlibrary.org
SUMMARY:Knotty Knitters BAVIN
DESCRIPTION:Knotty Knitters meet on the 2nd and 4th Thursday of each month at 1:00 in the Bavin Room.  If there\, is a 5th Thursday they meet on that day also.
URL:https://marvinlibrary.org/event-2/knotty-knitters-bavin-4/2026-05-14/
LOCATION:Marvin Memorial Library\, 29 W. Whitney Ave.\, Shelby\, OH\, 44875
CATEGORIES:Community
END:VEVENT
BEGIN:VEVENT
DTSTART;TZID=America/New_York:20260514T173000
DTEND;TZID=America/New_York:20260514T183000
DTSTAMP:20260424T132843
CREATED:20250813T192119Z
LAST-MODIFIED:20260206T155055Z
UID:10007865-1778779800-1778783400@marvinlibrary.org
SUMMARY:Teen Book Club STR
DESCRIPTION:Teens in 7th – 12th grade meet on the 2nd Thursday of each month at 5:30 in the Story Time Room to share favorites and find new favorites.  Each month we will have an activity to go along with the title or theme. \nSept – Best Thing You Read All Summer \nOct – Almost American Girl by Robin Ha \nNov – Fantasy \nDec – Twisted Tales Series – pick your own title \nJan – Character Night \nFeb – Eliza from Scratch by Sophie Lee \nMar – Favorite Series: Bring Yours to Share \nApr – Death in the Jungle by Candace Flemming \nMay – Graphic Novel Adaptations: bring your favorite “graphic novel version”
URL:https://marvinlibrary.org/event-2/teen-book-club-str/2026-05-14/
LOCATION:Marvin Memorial Library\, 29 W. Whitney Ave.\, Shelby\, OH\, 44875
CATEGORIES:Teens
END:VEVENT
BEGIN:VEVENT
DTSTART;TZID=America/New_York:20260514T180000
DTEND;TZID=America/New_York:20260514T190000
DTSTAMP:20260424T132843
CREATED:20260417T193819Z
LAST-MODIFIED:20260417T193820Z
UID:10008290-1778781600-1778785200@marvinlibrary.org
SUMMARY:The Reading Room KERR
DESCRIPTION:The Reading Room is a theme driven book club that meets on the 2nd Thursday of every month at 6:00. Join any time! \n2026 Themes \nJAN 8 Medical & Health\nFEB 12 Presidents and First Ladies\nMAR 12 Murder\, Mystery\, and True Crime\nAPR 9 Botanical/Nature/Animals\nMAY 14 Sports and Olympics\nJUN 11 Trivial Pursuit Category\nJUL 9 Historical Fiction\nAUG 13 TBD\nSEP 10 Occupations\nOCT 8 Successful Business and Entrepreneurs\nNOV 12 Your Name on the Cover\nDEC 10 Fine/Performing Arts
URL:https://marvinlibrary.org/event-2/the-reading-room-kerr-bavin-mpr-2/
LOCATION:Marvin Memorial Library\, 29 W. Whitney Ave.\, Shelby\, OH\, 44875
CATEGORIES:Adults
END:VEVENT
BEGIN:VEVENT
DTSTART;TZID=America/New_York:20260515T103000
DTEND;TZID=America/New_York:20260515T113000
DTSTAMP:20260424T132843
CREATED:20250721T223900Z
LAST-MODIFIED:20260407T144335Z
UID:10007568-1778841000-1778844600@marvinlibrary.org
SUMMARY:Music & Movement for Ages 0-5 MPR
DESCRIPTION:Music & Movement is for children 0-5\, where they’ll engage in both physical activity and the creation of music while having interaction with their caregivers.
URL:https://marvinlibrary.org/event-2/music-movement-for-ages-0-5/2026-05-15/
LOCATION:Marvin Memorial Library\, 29 W. Whitney Ave.\, Shelby\, OH\, 44875
CATEGORIES:Pre-school
END:VEVENT
BEGIN:VEVENT
DTSTART;TZID=America/New_York:20260515T130000
DTEND;TZID=America/New_York:20260515T170000
DTSTAMP:20260424T132843
CREATED:20260417T194226Z
LAST-MODIFIED:20260417T194226Z
UID:10008654-1778850000-1778864400@marvinlibrary.org
SUMMARY:MPR in Use
DESCRIPTION:
URL:https://marvinlibrary.org/event-2/mpr-in-use-104/
LOCATION:Marvin Memorial Library\, 29 W. Whitney Ave.\, Shelby\, OH\, 44875
CATEGORIES:Community
END:VEVENT
END:VCALENDAR