BEGIN:VCALENDAR
VERSION:2.0
PRODID:-//Marvin Memorial Library - ECPv6.15.18//NONSGML v1.0//EN
CALSCALE:GREGORIAN
METHOD:PUBLISH
X-WR-CALNAME:Marvin Memorial Library
X-ORIGINAL-URL:https://marvinlibrary.org
X-WR-CALDESC:Events for Marvin Memorial Library
REFRESH-INTERVAL;VALUE=DURATION:PT1H
X-Robots-Tag:noindex
X-PUBLISHED-TTL:PT1H
BEGIN:VTIMEZONE
TZID:America/New_York
BEGIN:DAYLIGHT
TZOFFSETFROM:-0500
TZOFFSETTO:-0400
TZNAME:EDT
DTSTART:20240310T070000
END:DAYLIGHT
BEGIN:STANDARD
TZOFFSETFROM:-0400
TZOFFSETTO:-0500
TZNAME:EST
DTSTART:20241103T060000
END:STANDARD
BEGIN:DAYLIGHT
TZOFFSETFROM:-0500
TZOFFSETTO:-0400
TZNAME:EDT
DTSTART:20250309T070000
END:DAYLIGHT
BEGIN:STANDARD
TZOFFSETFROM:-0400
TZOFFSETTO:-0500
TZNAME:EST
DTSTART:20251102T060000
END:STANDARD
BEGIN:DAYLIGHT
TZOFFSETFROM:-0500
TZOFFSETTO:-0400
TZNAME:EDT
DTSTART:20260308T070000
END:DAYLIGHT
BEGIN:STANDARD
TZOFFSETFROM:-0400
TZOFFSETTO:-0500
TZNAME:EST
DTSTART:20261101T060000
END:STANDARD
END:VTIMEZONE
BEGIN:VEVENT
DTSTART;TZID=America/New_York:20250314T130000
DTEND;TZID=America/New_York:20250314T170000
DTSTAMP:20260421T124135
CREATED:20250310T234335Z
LAST-MODIFIED:20250310T234335Z
UID:10007235-1741957200-1741971600@marvinlibrary.org
SUMMARY:MPR in Use
DESCRIPTION:
URL:https://marvinlibrary.org/event-2/mpr-in-use-62/
LOCATION:Marvin Memorial Library\, 29 W. Whitney Ave.\, Shelby\, OH\, 44875
CATEGORIES:Community
END:VEVENT
BEGIN:VEVENT
DTSTART;TZID=America/New_York:20250317T100000
DTEND;TZID=America/New_York:20250317T110000
DTSTAMP:20260421T124135
CREATED:20240814T142621Z
LAST-MODIFIED:20250305T185200Z
UID:10006961-1742205600-1742209200@marvinlibrary.org
SUMMARY:Rompin' Stompin' Book Club BAVIN
DESCRIPTION:Meets the 3rd Mon. each month. Bestseller assigned titles provided to borrow. Join any time. \n 
URL:https://marvinlibrary.org/event-2/rompin-stompin-book-club/2025-03-17/
LOCATION:Marvin Memorial Library\, 29 W. Whitney Ave.\, Shelby\, OH\, 44875
CATEGORIES:Adults
END:VEVENT
BEGIN:VEVENT
DTSTART;TZID=America/New_York:20250317T100000
DTEND;TZID=America/New_York:20250317T110000
DTSTAMP:20260421T124135
CREATED:20250731T135348Z
LAST-MODIFIED:20250731T135348Z
UID:10006972-1742205600-1742209200@marvinlibrary.org
SUMMARY:Rompin' Stompin' Book Club BAVIN
DESCRIPTION:Meets the 3rd Mon. each month. Bestseller assigned titles provided to borrow. Join any time. \n 
URL:https://marvinlibrary.org/event-2/rompin-stompin-book-club/2025-03-17/
LOCATION:Marvin Memorial Library\, 29 W. Whitney Ave.\, Shelby\, OH\, 44875
CATEGORIES:Adults
END:VEVENT
BEGIN:VEVENT
DTSTART;TZID=America/New_York:20250317T153000
DTEND;TZID=America/New_York:20250317T173000
DTSTAMP:20260421T124135
CREATED:20240809T153044Z
LAST-MODIFIED:20250219T201731Z
UID:10006895-1742225400-1742232600@marvinlibrary.org
SUMMARY:Teen Studio
DESCRIPTION:Teens in 7th – 12th grade are welcome to come in after school to work on homework\, play games\, get creative and crafty\, or just hang out with friends.
URL:https://marvinlibrary.org/event-2/teen-studio-2/2025-03-17/
LOCATION:Marvin Memorial Library\, 29 W. Whitney Ave.\, Shelby\, OH\, 44875
CATEGORIES:Teens
END:VEVENT
BEGIN:VEVENT
DTSTART;TZID=America/New_York:20250317T160000
DTEND;TZID=America/New_York:20250317T200000
DTSTAMP:20260421T124135
CREATED:20250213T205558Z
LAST-MODIFIED:20250213T205558Z
UID:10005991-1742227200-1742241600@marvinlibrary.org
SUMMARY:MPR in Use
DESCRIPTION:
URL:https://marvinlibrary.org/event-2/mpr-in-use-57/
LOCATION:Marvin Memorial Library\, 29 W. Whitney Ave.\, Shelby\, OH\, 44875
CATEGORIES:Community
END:VEVENT
BEGIN:VEVENT
DTSTART;TZID=America/New_York:20250317T173000
DTEND;TZID=America/New_York:20250317T190000
DTSTAMP:20260421T124135
CREATED:20201110T170625Z
LAST-MODIFIED:20201110T170625Z
UID:10004809-1742232600-1742238000@marvinlibrary.org
SUMMARY:Teen Writers & Artists Club - Virtual
DESCRIPTION:Teens 7th-12th Grade are invited to join us via Zoom for this year’s Writers/Artists Club. We’ll share ideas\, beat writers’ block\, play Pictionary\, and have fun! Email Jami at childrens@marvinlibrary.org for all the Zoom Login information.
URL:https://marvinlibrary.org/event-2/teen-writers-artists-club-virtual/2025-03-17/
LOCATION:Marvin Memorial Library\, 29 W. Whitney Ave.\, Shelby\, OH\, 44875
CATEGORIES:Teens
END:VEVENT
BEGIN:VEVENT
DTSTART;TZID=America/New_York:20250317T180000
DTEND;TZID=America/New_York:20250317T190000
DTSTAMP:20260421T124135
CREATED:20240809T204018Z
LAST-MODIFIED:20240809T204634Z
UID:10006936-1742234400-1742238000@marvinlibrary.org
SUMMARY:Family Story Time
DESCRIPTION:Bring all of the kids and join us for stories\, games\, crafts\, and snacks.
URL:https://marvinlibrary.org/event-2/family-story-time-37/2025-03-17/
LOCATION:Marvin Memorial Library\, 29 W. Whitney Ave.\, Shelby\, OH\, 44875
CATEGORIES:Family
END:VEVENT
BEGIN:VEVENT
DTSTART;TZID=America/New_York:20250318T090000
DTEND;TZID=America/New_York:20250318T120000
DTSTAMP:20260421T124135
CREATED:20250305T191014Z
LAST-MODIFIED:20250305T192606Z
UID:10006048-1742288400-1742299200@marvinlibrary.org
SUMMARY:MPR in Use
DESCRIPTION:
URL:https://marvinlibrary.org/event-2/mpr-in-use-60/2025-03-18/
LOCATION:Marvin Memorial Library\, 29 W. Whitney Ave.\, Shelby\, OH\, 44875
CATEGORIES:Community
END:VEVENT
BEGIN:VEVENT
DTSTART;TZID=America/New_York:20250318T103000
DTEND;TZID=America/New_York:20250318T113000
DTSTAMP:20260421T124135
CREATED:20240809T144538Z
LAST-MODIFIED:20240809T201751Z
UID:10005612-1742293800-1742297400@marvinlibrary.org
SUMMARY:Story Time  for Ages 2-5
DESCRIPTION:
URL:https://marvinlibrary.org/event-2/story-time-for-ages-2-5-3/2025-03-18/
LOCATION:Marvin Memorial Library\, 29 W. Whitney Ave.\, Shelby\, OH\, 44875
CATEGORIES:Children
END:VEVENT
BEGIN:VEVENT
DTSTART;TZID=America/New_York:20250318T130000
DTEND;TZID=America/New_York:20250318T150000
DTSTAMP:20260421T124135
CREATED:20250318T160214Z
LAST-MODIFIED:20250318T160214Z
UID:10006074-1742302800-1742310000@marvinlibrary.org
SUMMARY:MPR in Use
DESCRIPTION:
URL:https://marvinlibrary.org/event-2/mpr-in-use-66/
LOCATION:Marvin Memorial Library\, 29 W. Whitney Ave.\, Shelby\, OH\, 44875
CATEGORIES:Community
END:VEVENT
BEGIN:VEVENT
DTSTART;TZID=America/New_York:20250318T160000
DTEND;TZID=America/New_York:20250318T170000
DTSTAMP:20260421T124135
CREATED:20250731T135325Z
LAST-MODIFIED:20250731T135325Z
UID:10006798-1742313600-1742317200@marvinlibrary.org
SUMMARY:Builders Club
DESCRIPTION:Bring the whole family and join us twice a month to test your building skills. We’ll have monthly challenges and themes.
URL:https://marvinlibrary.org/event-2/builders-club-2/2025-03-18/
LOCATION:Marvin Memorial Library\, 29 W. Whitney Ave.\, Shelby\, OH\, 44875
CATEGORIES:Family
END:VEVENT
BEGIN:VEVENT
DTSTART;TZID=America/New_York:20250318T160000
DTEND;TZID=America/New_York:20250318T180000
DTSTAMP:20260421T124135
CREATED:20250312T195252Z
LAST-MODIFIED:20250312T195252Z
UID:10007237-1742313600-1742320800@marvinlibrary.org
SUMMARY:BAVIN in Use
DESCRIPTION:
URL:https://marvinlibrary.org/event-2/bavin-in-use-94/
LOCATION:Marvin Memorial Library\, 29 W. Whitney Ave.\, Shelby\, OH\, 44875
CATEGORIES:Community
END:VEVENT
BEGIN:VEVENT
DTSTART;TZID=America/New_York:20250318T173000
DTEND;TZID=America/New_York:20250318T190000
DTSTAMP:20260421T124135
CREATED:20240813T171339Z
LAST-MODIFIED:20250305T190512Z
UID:10005727-1742319000-1742324400@marvinlibrary.org
SUMMARY:Teach Me Tuesday MPR
DESCRIPTION:Teens in 7th – 12th grade are welcome to join us on the 3rd Tuesday of each month for Teach Me Tuesday.\nSEP 17: Make Your Own Pizza\nOCT 15: Ceramics\nNOV 19: Classical Music History\nDEC 17: Painting\nJAN 21: Movie Making\nFEB 18: Sewing\nMAR 18: American Sign Language\nAPR 15: Birdhouses\nMAY 20: Cookies
URL:https://marvinlibrary.org/event-2/teach-me-tuesday/2025-03-18/
LOCATION:Marvin Memorial Library\, 29 W. Whitney Ave.\, Shelby\, OH\, 44875
CATEGORIES:Teens
END:VEVENT
BEGIN:VEVENT
DTSTART;TZID=America/New_York:20250319T110000
DTEND;TZID=America/New_York:20250319T120000
DTSTAMP:20260421T124135
CREATED:20250213T211325Z
LAST-MODIFIED:20250213T211325Z
UID:10005993-1742382000-1742385600@marvinlibrary.org
SUMMARY:Tech It Easy Class - CultureGrams
DESCRIPTION:Learn how to use CultureGrams: the best place to learn unbiased views about other cultures.
URL:https://marvinlibrary.org/event-2/tech-it-easy-class-culturegrams/
LOCATION:Marvin Memorial Library\, 29 W. Whitney Ave.\, Shelby\, OH\, 44875
CATEGORIES:Adults
END:VEVENT
BEGIN:VEVENT
DTSTART;TZID=America/New_York:20250319T130000
DTEND;TZID=America/New_York:20250319T140000
DTSTAMP:20260421T124135
CREATED:20240814T204139Z
LAST-MODIFIED:20250213T210419Z
UID:10006981-1742389200-1742392800@marvinlibrary.org
SUMMARY:Homeschool Program MPR
DESCRIPTION:Calling all homeschoolers! Join us for our Homeschool Program on the 3rd Wednesday of each month at 1:00 PM. This program is best suited for middle school age group\, but can be adjusted for younger kids. The overall theme for the year is “Interesting People”.SEP 18 – Artists: Famous Painters\nOCT 16: Inventors\nNOV 20: Writers\nDEC 18: Animal Protectors\nJAN 15: Change Makers\nFEB 19: Presidents\nMAR 19: Athletes\nAPR 16: Environmentalists\nMAY 21: Musicians \n 
URL:https://marvinlibrary.org/event-2/homeschool-program-5/2025-03-19/
LOCATION:Marvin Memorial Library\, 29 W. Whitney Ave.\, Shelby\, OH\, 44875
CATEGORIES:Children
END:VEVENT
BEGIN:VEVENT
DTSTART;TZID=America/New_York:20250319T160000
DTEND;TZID=America/New_York:20250319T170000
DTSTAMP:20260421T124135
CREATED:20240809T150136Z
LAST-MODIFIED:20240809T150136Z
UID:10006828-1742400000-1742403600@marvinlibrary.org
SUMMARY:Study Buddies
DESCRIPTION:Get free peer tutoring in the Children’s Department every Wednesday at 4:00 PM.
URL:https://marvinlibrary.org/event-2/study-buddies-5/2025-03-19/
LOCATION:Marvin Memorial Library\, 29 W. Whitney Ave.\, Shelby\, OH\, 44875
CATEGORIES:Children
END:VEVENT
BEGIN:VEVENT
DTSTART;TZID=America/New_York:20250320T103000
DTEND;TZID=America/New_York:20250320T113000
DTSTAMP:20260421T124135
CREATED:20240809T144538Z
LAST-MODIFIED:20240809T201751Z
UID:10005613-1742466600-1742470200@marvinlibrary.org
SUMMARY:Story Time  for Ages 2-5
DESCRIPTION:
URL:https://marvinlibrary.org/event-2/story-time-for-ages-2-5-3/2025-03-20/
LOCATION:Marvin Memorial Library\, 29 W. Whitney Ave.\, Shelby\, OH\, 44875
CATEGORIES:Children
END:VEVENT
BEGIN:VEVENT
DTSTART;TZID=America/New_York:20250320T140000
DTEND;TZID=America/New_York:20250320T160000
DTSTAMP:20260421T124135
CREATED:20250312T185704Z
LAST-MODIFIED:20250312T185704Z
UID:10007236-1742479200-1742486400@marvinlibrary.org
SUMMARY:BAVIN in Use
DESCRIPTION:
URL:https://marvinlibrary.org/event-2/bavin-in-use-93/
LOCATION:Marvin Memorial Library\, 29 W. Whitney Ave.\, Shelby\, OH\, 44875
CATEGORIES:Community
END:VEVENT
BEGIN:VEVENT
DTSTART;TZID=America/New_York:20250320T153000
DTEND;TZID=America/New_York:20250320T173000
DTSTAMP:20260421T124135
CREATED:20240809T151915Z
LAST-MODIFIED:20240809T151915Z
UID:10006852-1742484600-1742491800@marvinlibrary.org
SUMMARY:Teen Studio KERR
DESCRIPTION:Teens in 7th – 12th grade are welcome to come in after school to work on homework\, play games\, get creative and crafty\, or just hang out with friends.
URL:https://marvinlibrary.org/event-2/teen-studio-kerr-3/2025-03-20/
LOCATION:Marvin Memorial Library\, 29 W. Whitney Ave.\, Shelby\, OH\, 44875
CATEGORIES:Teens
END:VEVENT
BEGIN:VEVENT
DTSTART;TZID=America/New_York:20250320T160000
DTEND;TZID=America/New_York:20250320T170000
DTSTAMP:20260421T124135
CREATED:20250213T211557Z
LAST-MODIFIED:20250219T154511Z
UID:10005995-1742486400-1742490000@marvinlibrary.org
SUMMARY:Friends of the Library Meeting MPR
DESCRIPTION:
URL:https://marvinlibrary.org/event-2/friends-of-the-library-meeting-mpr/
LOCATION:Marvin Memorial Library\, 29 W. Whitney Ave.\, Shelby\, OH\, 44875
CATEGORIES:Friends of the Library
END:VEVENT
BEGIN:VEVENT
DTSTART;TZID=America/New_York:20250320T173000
DTEND;TZID=America/New_York:20250320T183000
DTSTAMP:20260421T124135
CREATED:20250129T153632Z
LAST-MODIFIED:20250129T153632Z
UID:10007162-1742491800-1742495400@marvinlibrary.org
SUMMARY:T.A.C. KERR
DESCRIPTION:TAC meets on the 1st and 3rd Thursday of each month at 5:30.
URL:https://marvinlibrary.org/event-2/t-a-c-kerr-2/2025-03-20/
LOCATION:Marvin Memorial Library\, 29 W. Whitney Ave.\, Shelby\, OH\, 44875
CATEGORIES:Teens
END:VEVENT
BEGIN:VEVENT
DTSTART;TZID=America/New_York:20250320T180000
DTEND;TZID=America/New_York:20250320T200000
DTSTAMP:20260421T124135
CREATED:20250124T195721Z
LAST-MODIFIED:20250213T211720Z
UID:10007153-1742493600-1742500800@marvinlibrary.org
SUMMARY:America's Boating Course *RR BAVIN
DESCRIPTION:Presented by the Mansfield Power Squadron this Spring Class will be on Thursdays at 6:00 PM from Fe. 20 through Mar. 20. Registration is required and there is a one time $40 book fee.  Register here.
URL:https://marvinlibrary.org/event-2/americas-boating-course-rr-mpr-2025-03-20/
LOCATION:Marvin Memorial Library\, 29 W. Whitney Ave.\, Shelby\, OH\, 44875
CATEGORIES:Adults
END:VEVENT
BEGIN:VEVENT
DTSTART;TZID=America/New_York:20250321T130000
DTEND;TZID=America/New_York:20250321T160000
DTSTAMP:20260421T124135
CREATED:20250213T172718Z
LAST-MODIFIED:20250213T172718Z
UID:10007174-1742562000-1742572800@marvinlibrary.org
SUMMARY:MPR in Use
DESCRIPTION:
URL:https://marvinlibrary.org/event-2/mpr-in-use-56/2025-03-21/
LOCATION:Marvin Memorial Library\, 29 W. Whitney Ave.\, Shelby\, OH\, 44875
CATEGORIES:Community
END:VEVENT
BEGIN:VEVENT
DTSTART;TZID=America/New_York:20250322T103000
DTEND;TZID=America/New_York:20250322T123000
DTSTAMP:20260421T124135
CREATED:20250213T212111Z
LAST-MODIFIED:20250213T212111Z
UID:10005997-1742639400-1742646600@marvinlibrary.org
SUMMARY:Family Movie Day MPR
DESCRIPTION:We’ll be watching the movie Snow Dogs and eating Pizza!
URL:https://marvinlibrary.org/event-2/family-movie-day-mpr/
LOCATION:Marvin Memorial Library\, 29 W. Whitney Ave.\, Shelby\, OH\, 44875
CATEGORIES:Family
END:VEVENT
BEGIN:VEVENT
DTSTART;TZID=America/New_York:20250324T120000
DTEND;TZID=America/New_York:20250324T130000
DTSTAMP:20260421T124135
CREATED:20250213T212638Z
LAST-MODIFIED:20250213T212638Z
UID:10005999-1742817600-1742821200@marvinlibrary.org
SUMMARY:Brown Bag History Program - The Shelby Floods MPR
DESCRIPTION:Bring a brown bag lunch and join us in the Mulitpurpose Room for a presentation on the Shelby Floods.  You’re welcome to bring your own stories and photos to share.  We’ll proved drinks.
URL:https://marvinlibrary.org/event-2/brown-bag-history-program-the-shelby-floods-mpr/
LOCATION:Marvin Memorial Library\, 29 W. Whitney Ave.\, Shelby\, OH\, 44875
CATEGORIES:Community
END:VEVENT
BEGIN:VEVENT
DTSTART;TZID=America/New_York:20250324T153000
DTEND;TZID=America/New_York:20250324T173000
DTSTAMP:20260421T124135
CREATED:20240809T153044Z
LAST-MODIFIED:20250219T201731Z
UID:10006896-1742830200-1742837400@marvinlibrary.org
SUMMARY:Teen Studio
DESCRIPTION:Teens in 7th – 12th grade are welcome to come in after school to work on homework\, play games\, get creative and crafty\, or just hang out with friends.
URL:https://marvinlibrary.org/event-2/teen-studio-2/2025-03-24/
LOCATION:Marvin Memorial Library\, 29 W. Whitney Ave.\, Shelby\, OH\, 44875
CATEGORIES:Teens
END:VEVENT
BEGIN:VEVENT
DTSTART;TZID=America/New_York:20250324T180000
DTEND;TZID=America/New_York:20250324T190000
DTSTAMP:20260421T124135
CREATED:20240809T204018Z
LAST-MODIFIED:20240809T204634Z
UID:10006937-1742839200-1742842800@marvinlibrary.org
SUMMARY:Family Story Time
DESCRIPTION:Bring all of the kids and join us for stories\, games\, crafts\, and snacks.
URL:https://marvinlibrary.org/event-2/family-story-time-37/2025-03-24/
LOCATION:Marvin Memorial Library\, 29 W. Whitney Ave.\, Shelby\, OH\, 44875
CATEGORIES:Family
END:VEVENT
BEGIN:VEVENT
DTSTART;TZID=America/New_York:20250324T180000
DTEND;TZID=America/New_York:20250324T190000
DTSTAMP:20260421T124135
CREATED:20250213T212830Z
LAST-MODIFIED:20250213T212830Z
UID:10006005-1742839200-1742842800@marvinlibrary.org
SUMMARY:DIY Design Night - Egg Carton Flowers MPR *RR
DESCRIPTION:Registration opens March 1st for DIY Design Night. We’ll be making cute egg carton flowers.
URL:https://marvinlibrary.org/event-2/diy-design-night-egg-carton-flowers-mpr-rr/
LOCATION:Marvin Memorial Library\, 29 W. Whitney Ave.\, Shelby\, OH\, 44875
CATEGORIES:Adults
END:VEVENT
BEGIN:VEVENT
DTSTART;TZID=America/New_York:20250325T090000
DTEND;TZID=America/New_York:20250325T120000
DTSTAMP:20260421T124135
CREATED:20241112T175218Z
LAST-MODIFIED:20250128T194545Z
UID:10007036-1742893200-1742904000@marvinlibrary.org
SUMMARY:MPR in Use
DESCRIPTION:
URL:https://marvinlibrary.org/event-2/bavin-in-use-75/2025-03-25/
LOCATION:Marvin Memorial Library\, 29 W. Whitney Ave.\, Shelby\, OH\, 44875
CATEGORIES:Community
END:VEVENT
BEGIN:VEVENT
DTSTART;TZID=America/New_York:20250325T103000
DTEND;TZID=America/New_York:20250325T113000
DTSTAMP:20260421T124135
CREATED:20240809T144538Z
LAST-MODIFIED:20240809T201751Z
UID:10005614-1742898600-1742902200@marvinlibrary.org
SUMMARY:Story Time  for Ages 2-5
DESCRIPTION:
URL:https://marvinlibrary.org/event-2/story-time-for-ages-2-5-3/2025-03-25/
LOCATION:Marvin Memorial Library\, 29 W. Whitney Ave.\, Shelby\, OH\, 44875
CATEGORIES:Children
END:VEVENT
END:VCALENDAR