BEGIN:VCALENDAR
VERSION:2.0
PRODID:-//Marvin Memorial Library - ECPv6.15.18//NONSGML v1.0//EN
CALSCALE:GREGORIAN
METHOD:PUBLISH
X-WR-CALNAME:Marvin Memorial Library
X-ORIGINAL-URL:https://marvinlibrary.org
X-WR-CALDESC:Events for Marvin Memorial Library
REFRESH-INTERVAL;VALUE=DURATION:PT1H
X-Robots-Tag:noindex
X-PUBLISHED-TTL:PT1H
BEGIN:VTIMEZONE
TZID:America/New_York
BEGIN:DAYLIGHT
TZOFFSETFROM:-0500
TZOFFSETTO:-0400
TZNAME:EDT
DTSTART:20250309T070000
END:DAYLIGHT
BEGIN:STANDARD
TZOFFSETFROM:-0400
TZOFFSETTO:-0500
TZNAME:EST
DTSTART:20251102T060000
END:STANDARD
BEGIN:DAYLIGHT
TZOFFSETFROM:-0500
TZOFFSETTO:-0400
TZNAME:EDT
DTSTART:20260308T070000
END:DAYLIGHT
BEGIN:STANDARD
TZOFFSETFROM:-0400
TZOFFSETTO:-0500
TZNAME:EST
DTSTART:20261101T060000
END:STANDARD
BEGIN:DAYLIGHT
TZOFFSETFROM:-0500
TZOFFSETTO:-0400
TZNAME:EDT
DTSTART:20270314T070000
END:DAYLIGHT
BEGIN:STANDARD
TZOFFSETFROM:-0400
TZOFFSETTO:-0500
TZNAME:EST
DTSTART:20271107T060000
END:STANDARD
END:VTIMEZONE
BEGIN:VEVENT
DTSTART;TZID=America/New_York:20260408T180000
DTEND;TZID=America/New_York:20260408T200000
DTSTAMP:20260422T091818
CREATED:20260407T184618Z
LAST-MODIFIED:20260407T184618Z
UID:10008634-1775671200-1775678400@marvinlibrary.org
SUMMARY:MPR in Use
DESCRIPTION:
URL:https://marvinlibrary.org/event-2/mpr-in-use-102/
LOCATION:Marvin Memorial Library\, 29 W. Whitney Ave.\, Shelby\, OH\, 44875
CATEGORIES:Community
END:VEVENT
BEGIN:VEVENT
DTSTART;TZID=America/New_York:20260408T170000
DTEND;TZID=America/New_York:20260408T200000
DTSTAMP:20260422T091818
CREATED:20260407T184740Z
LAST-MODIFIED:20260407T184740Z
UID:10008635-1775667600-1775678400@marvinlibrary.org
SUMMARY:Kerr in Use
DESCRIPTION:
URL:https://marvinlibrary.org/event-2/kerr-in-use-65/
LOCATION:Marvin Memorial Library\, 29 W. Whitney Ave.\, Shelby\, OH\, 44875
CATEGORIES:Community
END:VEVENT
BEGIN:VEVENT
DTSTART;TZID=America/New_York:20260408T160000
DTEND;TZID=America/New_York:20260408T170000
DTSTAMP:20260422T091818
CREATED:20250813T165541Z
LAST-MODIFIED:20260417T192000Z
UID:10007844-1775664000-1775667600@marvinlibrary.org
SUMMARY:Science Club MPR
DESCRIPTION:K-6th Grade\nEvery Other Wednesday at 4:00 PM\nIn the Multipurpose Room\nWe’ll be doing science experiments where we’ll learn by doing. \nEarth Science\nSept 10th & 24\nOct 8th & 22nd\nNov 12th & 26th\nAstronomy\nDec 10th\nJan 14th & 26th\nFeb 11th & 25th\nEcology\nMar 11th & 25th\nApr 8th & 22nd\nMay 13th & 27th
URL:https://marvinlibrary.org/event-2/science-club-mpr/2026-04-08/
LOCATION:Marvin Memorial Library\, 29 W. Whitney Ave.\, Shelby\, OH\, 44875
CATEGORIES:Children
END:VEVENT
BEGIN:VEVENT
DTSTART;TZID=America/New_York:20260408T130000
DTEND;TZID=America/New_York:20260408T140000
DTSTAMP:20260422T091818
CREATED:20251202T213610Z
LAST-MODIFIED:20251202T213610Z
UID:10008316-1775653200-1775656800@marvinlibrary.org
SUMMARY:Cover to Cover Book Club BAVIN
DESCRIPTION:Cover to Cover book club meets on the 2nd Wednesday of each month at 1:00pm.  Assigned Titles run from July to June.  Upcoming Titles include: \nJAN 14 The Secret Life of Houdini\nFEB 11 The Star Crossed Sisters of Tuscany\nMAR 11 The Lost Manuscript\nAPR 8 Jane Eyre\nMAY 13 The Nature of Fragile Things\nJune 10 Waiting for the Moon
URL:https://marvinlibrary.org/event-2/cover-to-cover-book-club-bavin/2026-04-08/
LOCATION:Marvin Memorial Library\, 29 W. Whitney Ave.\, Shelby\, OH\, 44875
CATEGORIES:Adults
END:VEVENT
BEGIN:VEVENT
DTSTART;TZID=America/New_York:20260408T110000
DTEND;TZID=America/New_York:20260408T120000
DTSTAMP:20260422T091818
CREATED:20250811T184258Z
LAST-MODIFIED:20251013T213528Z
UID:10008182-1775646000-1775649600@marvinlibrary.org
SUMMARY:Wednesday Play Group for Ages 0-5 MPR
DESCRIPTION:Every other Wednesday at 11:00 AM in the Multipurpose Room. Social interaction for children and caregivers with stories\, play spaces\, sensory activities\, music\, toys and snacks.\nSept 3&17\nOct 1\, 15 & 29\nNov 5 & 19\nDec 3 & 17\nJan 7 & 21\nFeb 4 & 18\nMar 4 & 18\nApr 8 & 22\nMay 6 & 20
URL:https://marvinlibrary.org/event-2/wednesday-play-group-for-ages-0-5-2/2026-04-08/
LOCATION:Marvin Memorial Library\, 29 W. Whitney Ave.\, Shelby\, OH\, 44875
CATEGORIES:Pre-school
END:VEVENT
BEGIN:VEVENT
DTSTART;TZID=America/New_York:20260407T180000
DTEND;TZID=America/New_York:20260407T190000
DTSTAMP:20260422T091818
CREATED:20260305T212857Z
LAST-MODIFIED:20260305T212857Z
UID:10008588-1775584800-1775588400@marvinlibrary.org
SUMMARY:Author Mark Strecker - The Great Railroad Strike in Ohio MPR
DESCRIPTION:Join author Mark Strecker as he discusses his new book The Great Railroad Strike in Ohio.
URL:https://marvinlibrary.org/event-2/author-mark-strecker-the-great-railroad-strike-in-ohio-mpr/
LOCATION:Marvin Memorial Library\, 29 W. Whitney Ave.\, Shelby\, OH\, 44875
CATEGORIES:Adults
END:VEVENT
BEGIN:VEVENT
DTSTART;TZID=America/New_York:20260407T160000
DTEND;TZID=America/New_York:20260407T200000
DTSTAMP:20260422T091818
CREATED:20260327T192054Z
LAST-MODIFIED:20260327T192054Z
UID:10008616-1775577600-1775592000@marvinlibrary.org
SUMMARY:BAVIN in Use
DESCRIPTION:
URL:https://marvinlibrary.org/event-2/bavin-in-use-176/
LOCATION:Marvin Memorial Library\, 29 W. Whitney Ave.\, Shelby\, OH\, 44875
CATEGORIES:Community
END:VEVENT
BEGIN:VEVENT
DTSTART;TZID=America/New_York:20260407T160000
DTEND;TZID=America/New_York:20260407T170000
DTSTAMP:20260422T091818
CREATED:20250811T164846Z
LAST-MODIFIED:20250811T164846Z
UID:10007677-1775577600-1775581200@marvinlibrary.org
SUMMARY:Family Builders Club
DESCRIPTION:Family Builders Club\n1st & 2nd Tuesday of Each Month at 4:00pm in the Children’s Department\nBring the whole family and join us 2x a month to test your building skills.  We’ll have monthly challenges and themes.  We will provide the building supplies. \n2025-2026 Themes\nSept 2 & 15 Bridges\nOct 7 & 21 Buildings\nNov 4 & 18 Colors\nDec 2 & 16 Food\nJan 6 & 20 Ohio Firsts\nFeb 3 & 17 Inventions\nMar 3 & 17 Inventions\nApr 7 & 21 Transportation\nMay 5 & 19 Art
URL:https://marvinlibrary.org/event-2/family-builders-club/2026-04-07/
LOCATION:Marvin Memorial Library\, 29 W. Whitney Ave.\, Shelby\, OH\, 44875
CATEGORIES:Family
END:VEVENT
BEGIN:VEVENT
DTSTART;TZID=America/New_York:20260407T103000
DTEND;TZID=America/New_York:20260407T113000
DTSTAMP:20260422T091818
CREATED:20250721T221355Z
LAST-MODIFIED:20260407T142357Z
UID:10006460-1775557800-1775561400@marvinlibrary.org
SUMMARY:Story Time Ages 2-5 STR
DESCRIPTION:Story Times consist of books\, games\, toys\, crafts\, music\, and lots of fun!
URL:https://marvinlibrary.org/event-2/story-time-for-ages-2-5-4/2026-04-07/
LOCATION:Marvin Memorial Library\, 29 W. Whitney Ave.\, Shelby\, OH\, 44875
CATEGORIES:Pre-school
END:VEVENT
BEGIN:VEVENT
DTSTART;TZID=America/New_York:20260407T090000
DTEND;TZID=America/New_York:20260407T130000
DTSTAMP:20260422T091818
CREATED:20250902T202526Z
LAST-MODIFIED:20250902T202526Z
UID:10007987-1775552400-1775566800@marvinlibrary.org
SUMMARY:MPR in Use
DESCRIPTION:
URL:https://marvinlibrary.org/event-2/mpr-in-use-81/2026-04-07/
LOCATION:Marvin Memorial Library\, 29 W. Whitney Ave.\, Shelby\, OH\, 44875
CATEGORIES:Community
END:VEVENT
BEGIN:VEVENT
DTSTART;TZID=America/New_York:20260406T170000
DTEND;TZID=America/New_York:20260406T180000
DTSTAMP:20260422T091818
CREATED:20251201T202504Z
LAST-MODIFIED:20251202T215200Z
UID:10008277-1775494800-1775498400@marvinlibrary.org
SUMMARY:Book & Bean Book Club MPR
DESCRIPTION:Book & Bean is a theme driven book club that meets on the 1st Monday of each month at 5:00. Join any time! \n2026 Themes \nJAN  6 Published After 2010 (Not Old Enough to Drive)\nFEB 2 Favorite Color\nMAR 2 Foreign Author\nAPR 6 Memoir\nMAY 4 Author’s Last Name is Similar to Yours\nJUN 1 Hobbies & Interests\nJUL 6 Patriotic\nAUG 3 Beach\nSEP 14 (SEP 7 is Labor Day) Recommended by a Friend\nOCT 6 Not Everyone Will Love It\nNOV 2 Wine\, Women\, and Song\nDEC 7 Strange But True (Overlapping History Timelines) \n 
URL:https://marvinlibrary.org/event-2/book-bean-book-club-kerr-mpr-bavin/2026-04-06/
LOCATION:Marvin Memorial Library\, 29 W. Whitney Ave.\, Shelby\, OH\, 44875
CATEGORIES:Adults
END:VEVENT
BEGIN:VEVENT
DTSTART;TZID=America/New_York:20260406T160000
DTEND;TZID=America/New_York:20260406T170000
DTSTAMP:20260422T091818
CREATED:20250812T155059Z
LAST-MODIFIED:20250821T195213Z
UID:10007798-1775491200-1775494800@marvinlibrary.org
SUMMARY:Study Buddies CD
DESCRIPTION:Need Homework help? Stop by the Children’s Dept on Mondays at 4:00 for peer tutoring.  Best suited for K-6th grade\, you can sign up to get help in specific areas or just stop by when help is needed.  Stop by the front desk or the Children’s Department Office to sign up to be a helper.
URL:https://marvinlibrary.org/event-2/study-buddies-cd/2026-04-06/
LOCATION:Marvin Memorial Library\, 29 W. Whitney Ave.\, Shelby\, OH\, 44875
CATEGORIES:Children
END:VEVENT
BEGIN:VEVENT
DTSTART;TZID=America/New_York:20260406T100000
DTEND;TZID=America/New_York:20260406T110000
DTSTAMP:20260422T091818
CREATED:20250711T202045Z
LAST-MODIFIED:20260407T142000Z
UID:10006410-1775469600-1775473200@marvinlibrary.org
SUMMARY:Lap Sit Story Time for Ages 0-2 STR
DESCRIPTION:Join us in the Story Time Room at 10:00 am every Monday for Lap Sit Story Time.  For children ages 0-2 and their caregivers\, Lap Sit will focus on connecting with baby through lap time\, books\, songs\, bubbles\, and more!
URL:https://marvinlibrary.org/event-2/lap-sit-story-time-for-ages-0-2/2026-04-06/
LOCATION:Marvin Memorial Library\, 29 W. Whitney Ave.\, Shelby\, OH\, 44875
CATEGORIES:Pre-school
END:VEVENT
BEGIN:VEVENT
DTSTART;TZID=America/New_York:20260406T090000
DTEND;TZID=America/New_York:20260406T200000
DTSTAMP:20260422T091818
CREATED:20260409T143209Z
LAST-MODIFIED:20260410T144628Z
UID:10008643-1775466000-1775505600@marvinlibrary.org
SUMMARY:Reg. Opens for Teen LEGO Competition
DESCRIPTION:Registration opens April 6 and closes April 29 \nParticipants must be in grades 7 – 12\, and bring their own Legos without instructions or pictures. \nTheme: Transportation\nYou’ll have 1.5 hours to build and name your creation.\nJudges choose the top three for prizes.\nWe’ll also choose a contestant favorite for a prize. \nRegister Here or call 419-347-5576 or stop by the front desk.
URL:https://marvinlibrary.org/event-2/lego-competition-for-teens-rr-mpr/
LOCATION:Marvin Memorial Library\, 29 W. Whitney Ave.\, Shelby\, OH\, 44875
CATEGORIES:Teens
END:VEVENT
BEGIN:VEVENT
DTSTART;TZID=America/New_York:20260404T110000
DTEND;TZID=America/New_York:20260404T120000
DTSTAMP:20260422T091818
CREATED:20260320T155839Z
LAST-MODIFIED:20260320T155839Z
UID:10008612-1775300400-1775304000@marvinlibrary.org
SUMMARY:Slime Saturday MPR
DESCRIPTION:?? Slime Saturday is Back! ?? \nGet ready to get gooey! Join us on Saturday\, April 4th at 11:00 AM in the Multipurpose Room for a fun-filled Slime Saturday event! \nThis FREE program is open to kids in Kindergarten through 6th grade\, and we’ll be making a variety of awesome make-and-take slime creations to bring home. From stretchy to sparkly\, there’s something for everyone to enjoy! \n?? Bring your creativity and get ready for some messy fun — we can’t wait to see you there!
URL:https://marvinlibrary.org/event-2/slime-saturday-mpr-2/
LOCATION:Marvin Memorial Library\, 29 W. Whitney Ave.\, Shelby\, OH\, 44875
CATEGORIES:Children
END:VEVENT
BEGIN:VEVENT
DTSTART;TZID=America/New_York:20260403T103000
DTEND;TZID=America/New_York:20260403T113000
DTSTAMP:20260422T091818
CREATED:20250721T223900Z
LAST-MODIFIED:20260407T144335Z
UID:10007562-1775212200-1775215800@marvinlibrary.org
SUMMARY:Music & Movement for Ages 0-5 MPR
DESCRIPTION:Music & Movement is for children 0-5\, where they’ll engage in both physical activity and the creation of music while having interaction with their caregivers.
URL:https://marvinlibrary.org/event-2/music-movement-for-ages-0-5/2026-04-03/
LOCATION:Marvin Memorial Library\, 29 W. Whitney Ave.\, Shelby\, OH\, 44875
CATEGORIES:Pre-school
END:VEVENT
BEGIN:VEVENT
DTSTART;TZID=America/New_York:20260403T100000
DTEND;TZID=America/New_York:20260403T120000
DTSTAMP:20260422T091818
CREATED:20250916T143134Z
LAST-MODIFIED:20251029T152842Z
UID:10008050-1775210400-1775217600@marvinlibrary.org
SUMMARY:Free Blood Pressure & Blood Glucose Testing MAIN FLOOR
DESCRIPTION:Stop by the library on the 1st Friday of each month from 10:00AM to 12:00 PM for a free blood pressure and/or blood glucose check with the Shelby Health Department’s Director of Nursing. Also\, get health tips and free information. \n***Nov. 7\, 2025 date has been moved to Nov. 14\, 2025.
URL:https://marvinlibrary.org/event-2/free-blood-pressure-blood-glucose-testing-2/2026-04-03/
LOCATION:Marvin Memorial Library\, 29 W. Whitney Ave.\, Shelby\, OH\, 44875
CATEGORIES:Community
END:VEVENT
BEGIN:VEVENT
DTSTART;TZID=America/New_York:20260403T090000
DTEND;TZID=America/New_York:20260403T110000
DTSTAMP:20260422T091818
CREATED:20260331T180327Z
LAST-MODIFIED:20260331T202239Z
UID:10008623-1775206800-1775214000@marvinlibrary.org
SUMMARY:BAVIN in Use
DESCRIPTION:
URL:https://marvinlibrary.org/event-2/bavin-in-use-182/
LOCATION:Marvin Memorial Library\, 29 W. Whitney Ave.\, Shelby\, OH\, 44875
CATEGORIES:Community
END:VEVENT
BEGIN:VEVENT
DTSTART;TZID=America/New_York:20260402T180000
DTEND;TZID=America/New_York:20260402T190000
DTSTAMP:20260422T091818
CREATED:20260305T211353Z
LAST-MODIFIED:20260305T211353Z
UID:10008584-1775152800-1775156400@marvinlibrary.org
SUMMARY:Line Dancing *RR  KERR
DESCRIPTION:Put on your cowboy boots and join Line Dance with the Rockin’ Mommas! Registration opens March 20. Register here!
URL:https://marvinlibrary.org/event-2/line-dancing-rr-kerr-4/2026-04-02/
LOCATION:Marvin Memorial Library\, 29 W. Whitney Ave.\, Shelby\, OH\, 44875
CATEGORIES:Adults
END:VEVENT
BEGIN:VEVENT
DTSTART;TZID=America/New_York:20260402T173000
DTEND;TZID=America/New_York:20260402T183000
DTSTAMP:20260422T091818
CREATED:20250812T151441Z
LAST-MODIFIED:20251017T180759Z
UID:10007753-1775151000-1775154600@marvinlibrary.org
SUMMARY:Teen Advisory Council Meeting *RR KERR
DESCRIPTION:T.A.C. meets on the first Thursday of each month at 5:30 in the Kerr Garden Room. (Story Time Room in winter months)\n\nTAC holds regular meetings\, elects officers and plans and executes the teen activities at the library. Join us!\n\n2025-2026 Meeting Dates\n Sept. 4 TAC\nSept. 18 – Officers\nOct. 2 TAC\nOct. 16 Officers\nNov. 6 TAC\nNov. 20 Officers\nDec. 4 TAC\nDec. 18 Officers\nJan. 8 TAC\nJan. 22 Officers\nFeb. 5 TAC\nFeb. 19 Officers\nMar. 5 TAC\nMar. 19 Officers\nApr. 2 TAC\nApr. 16 Officers\nMay 7 TAC\nMay 21 Officers
URL:https://marvinlibrary.org/event-2/teen-advisory-council-meeting-rr-kerr/2026-04-02/
LOCATION:Marvin Memorial Library\, 29 W. Whitney Ave.\, Shelby\, OH\, 44875
CATEGORIES:Teens
END:VEVENT
BEGIN:VEVENT
DTSTART;TZID=America/New_York:20260402T170000
DTEND;TZID=America/New_York:20260402T200000
DTSTAMP:20260422T091818
CREATED:20260327T165244Z
LAST-MODIFIED:20260327T165244Z
UID:10008614-1775149200-1775160000@marvinlibrary.org
SUMMARY:BAVIN in Use
DESCRIPTION:
URL:https://marvinlibrary.org/event-2/bavin-in-use-174/
LOCATION:Marvin Memorial Library\, 29 W. Whitney Ave.\, Shelby\, OH\, 44875
CATEGORIES:Community
END:VEVENT
BEGIN:VEVENT
DTSTART;TZID=America/New_York:20260402T130000
DTEND;TZID=America/New_York:20260402T140000
DTSTAMP:20260422T091818
CREATED:20250812T145637Z
LAST-MODIFIED:20251013T210141Z
UID:10007744-1775134800-1775138400@marvinlibrary.org
SUMMARY:Homeschool Book Club MPR
DESCRIPTION:Bring your homeschoolers and join us for our Book Club on the first Thursday of each month at 1:00 in the Multipurpose Room.  Each month will discuss a theme and have an activity that matches.
URL:https://marvinlibrary.org/event-2/homeschool-book-club-mpr/2026-04-02/
LOCATION:Marvin Memorial Library\, 29 W. Whitney Ave.\, Shelby\, OH\, 44875
CATEGORIES:Family
END:VEVENT
BEGIN:VEVENT
DTSTART;TZID=America/New_York:20260402T103000
DTEND;TZID=America/New_York:20260402T113000
DTSTAMP:20260422T091818
CREATED:20250721T223627Z
LAST-MODIFIED:20260407T142208Z
UID:10007524-1775125800-1775129400@marvinlibrary.org
SUMMARY:Story Time Ages 2-5 STR
DESCRIPTION:Story Times consist of books\, games\, crafts\, music and lots of fun!
URL:https://marvinlibrary.org/event-2/story-time-for-ages-2-5-6/2026-04-02/
LOCATION:Marvin Memorial Library\, 29 W. Whitney Ave.\, Shelby\, OH\, 44875
CATEGORIES:Pre-school
END:VEVENT
BEGIN:VEVENT
DTSTART;TZID=America/New_York:20260401T180000
DTEND;TZID=America/New_York:20260401T190000
DTSTAMP:20260422T091818
CREATED:20260305T200836Z
LAST-MODIFIED:20260306T160634Z
UID:10008583-1775066400-1775070000@marvinlibrary.org
SUMMARY:April Fools Trivia Night MPR
DESCRIPTION:Join us in the Multipurpose Room for a fun night of trivia all about famous moments when people were fooled throughout history and legend. Test your knowledge with questions inspired by clever tricks\, surprising twists\, and stories where things weren’t quite what they seemed. Bring your friends\, enjoy the challenge\, and see who can outsmart the competition! Registration is Required.  Register
URL:https://marvinlibrary.org/event-2/april-fools-trivia-night-mpr/
LOCATION:Marvin Memorial Library\, 29 W. Whitney Ave.\, Shelby\, OH\, 44875
CATEGORIES:Adults
END:VEVENT
BEGIN:VEVENT
DTSTART;TZID=America/New_York:20260331T180000
DTEND;TZID=America/New_York:20260331T190000
DTSTAMP:20260422T091818
CREATED:20260211T155125Z
LAST-MODIFIED:20260211T155125Z
UID:10008546-1774980000-1774983600@marvinlibrary.org
SUMMARY:Siberian Husky Club of Greater Cleveland KERR
DESCRIPTION:Learn about the Iditarod Race! Meet the dogs! Get a picture with them!
URL:https://marvinlibrary.org/event-2/siberian-husky-club-of-greater-cleveland-kerr/
LOCATION:Marvin Memorial Library\, 29 W. Whitney Ave.\, Shelby\, OH\, 44875
CATEGORIES:Community
END:VEVENT
BEGIN:VEVENT
DTSTART;TZID=America/New_York:20260331T160000
DTEND;TZID=America/New_York:20260331T170000
DTSTAMP:20260422T091818
CREATED:20260210T195946Z
LAST-MODIFIED:20260210T195946Z
UID:10008545-1774972800-1774976400@marvinlibrary.org
SUMMARY:Gamers' Club K-6th Grade MPR
DESCRIPTION:Kids in K-6th grade can join us for Gamers’ Club where we’ll have video\, board\, and card games!
URL:https://marvinlibrary.org/event-2/gamers-club-k-6th-grade-mpr/
LOCATION:Marvin Memorial Library\, 29 W. Whitney Ave.\, Shelby\, OH\, 44875
CATEGORIES:Children
END:VEVENT
BEGIN:VEVENT
DTSTART;TZID=America/New_York:20260331T103000
DTEND;TZID=America/New_York:20260331T113000
DTSTAMP:20260422T091818
CREATED:20250721T221355Z
LAST-MODIFIED:20260407T142357Z
UID:10006459-1774953000-1774956600@marvinlibrary.org
SUMMARY:Story Time Ages 2-5 STR
DESCRIPTION:Story Times consist of books\, games\, toys\, crafts\, music\, and lots of fun!
URL:https://marvinlibrary.org/event-2/story-time-for-ages-2-5-4/2026-03-31/
LOCATION:Marvin Memorial Library\, 29 W. Whitney Ave.\, Shelby\, OH\, 44875
CATEGORIES:Pre-school
END:VEVENT
BEGIN:VEVENT
DTSTART;TZID=America/New_York:20260331T090000
DTEND;TZID=America/New_York:20260331T130000
DTSTAMP:20260422T091818
CREATED:20250902T202526Z
LAST-MODIFIED:20250902T202526Z
UID:10007986-1774947600-1774962000@marvinlibrary.org
SUMMARY:MPR in Use
DESCRIPTION:
URL:https://marvinlibrary.org/event-2/mpr-in-use-81/2026-03-31/
LOCATION:Marvin Memorial Library\, 29 W. Whitney Ave.\, Shelby\, OH\, 44875
CATEGORIES:Community
END:VEVENT
BEGIN:VEVENT
DTSTART;TZID=America/New_York:20260331T040000
DTEND;TZID=America/New_York:20260331T200000
DTSTAMP:20260422T091818
CREATED:20260327T191852Z
LAST-MODIFIED:20260327T191852Z
UID:10008615-1774929600-1774987200@marvinlibrary.org
SUMMARY:BAVIN in Use
DESCRIPTION:
URL:https://marvinlibrary.org/event-2/bavin-in-use-175/
LOCATION:Marvin Memorial Library\, 29 W. Whitney Ave.\, Shelby\, OH\, 44875
CATEGORIES:Community
END:VEVENT
BEGIN:VEVENT
DTSTART;TZID=America/New_York:20260330T160000
DTEND;TZID=America/New_York:20260330T170000
DTSTAMP:20260422T091818
CREATED:20250812T155059Z
LAST-MODIFIED:20250821T195213Z
UID:10007797-1774886400-1774890000@marvinlibrary.org
SUMMARY:Study Buddies CD
DESCRIPTION:Need Homework help? Stop by the Children’s Dept on Mondays at 4:00 for peer tutoring.  Best suited for K-6th grade\, you can sign up to get help in specific areas or just stop by when help is needed.  Stop by the front desk or the Children’s Department Office to sign up to be a helper.
URL:https://marvinlibrary.org/event-2/study-buddies-cd/2026-03-30/
LOCATION:Marvin Memorial Library\, 29 W. Whitney Ave.\, Shelby\, OH\, 44875
CATEGORIES:Children
END:VEVENT
END:VCALENDAR