BEGIN:VCALENDAR
VERSION:2.0
PRODID:-//Marvin Memorial Library - ECPv6.15.18//NONSGML v1.0//EN
CALSCALE:GREGORIAN
METHOD:PUBLISH
X-WR-CALNAME:Marvin Memorial Library
X-ORIGINAL-URL:https://marvinlibrary.org
X-WR-CALDESC:Events for Marvin Memorial Library
REFRESH-INTERVAL;VALUE=DURATION:PT1H
X-Robots-Tag:noindex
X-PUBLISHED-TTL:PT1H
BEGIN:VTIMEZONE
TZID:America/New_York
BEGIN:DAYLIGHT
TZOFFSETFROM:-0500
TZOFFSETTO:-0400
TZNAME:EDT
DTSTART:20240310T070000
END:DAYLIGHT
BEGIN:STANDARD
TZOFFSETFROM:-0400
TZOFFSETTO:-0500
TZNAME:EST
DTSTART:20241103T060000
END:STANDARD
BEGIN:DAYLIGHT
TZOFFSETFROM:-0500
TZOFFSETTO:-0400
TZNAME:EDT
DTSTART:20250309T070000
END:DAYLIGHT
BEGIN:STANDARD
TZOFFSETFROM:-0400
TZOFFSETTO:-0500
TZNAME:EST
DTSTART:20251102T060000
END:STANDARD
BEGIN:DAYLIGHT
TZOFFSETFROM:-0500
TZOFFSETTO:-0400
TZNAME:EDT
DTSTART:20260308T070000
END:DAYLIGHT
BEGIN:STANDARD
TZOFFSETFROM:-0400
TZOFFSETTO:-0500
TZNAME:EST
DTSTART:20261101T060000
END:STANDARD
END:VTIMEZONE
BEGIN:VEVENT
DTSTART;TZID=America/New_York:20250610T180000
DTEND;TZID=America/New_York:20250610T190000
DTSTAMP:20260419T100437
CREATED:20250519T202625Z
LAST-MODIFIED:20250519T202625Z
UID:10007352-1749578400-1749582000@marvinlibrary.org
SUMMARY:Wine Glass Painting Class MPR
DESCRIPTION:Painted Wine Glasses Class will be Tuesday\, June 10th at 6:00 in the Multipurpose Room.  Registration is required and opens at the Summer Reading Kick-Off Party on May 31st.  Don’t forget to get your 5 prize slips when you attend this event!
URL:https://marvinlibrary.org/event-2/wine-glass-painting-class-mpr/
LOCATION:Marvin Memorial Library\, 29 W. Whitney Ave.\, Shelby\, OH\, 44875
CATEGORIES:Adults
END:VEVENT
BEGIN:VEVENT
DTSTART;TZID=America/New_York:20250610T160000
DTEND;TZID=America/New_York:20250610T170000
DTSTAMP:20260419T100437
CREATED:20241226T210554Z
LAST-MODIFIED:20251015T182329Z
UID:10007131-1749571200-1749574800@marvinlibrary.org
SUMMARY:Board of Trustees Meeting BAVIN
DESCRIPTION:
URL:https://marvinlibrary.org/event-2/board-of-trustees-meeting-mpr-2/2025-06-10/
LOCATION:Marvin Memorial Library\, 29 W. Whitney Ave.\, Shelby\, OH\, 44875
CATEGORIES:Community
END:VEVENT
BEGIN:VEVENT
DTSTART;TZID=America/New_York:20250610T153000
DTEND;TZID=America/New_York:20250610T163000
DTSTAMP:20260419T100437
CREATED:20250515T153136Z
LAST-MODIFIED:20250515T153136Z
UID:10007326-1749569400-1749573000@marvinlibrary.org
SUMMARY:Crafternoon KERR
DESCRIPTION:Teens in 7th – 12th grade will have fun hands-on learning activities focused on the following: \nJune 3 Photography – Photo comic Club and Collages\nJune 10 Fabric Arts – Woven Bookmarks/Bracelets and String Art\nJune 16 Painting – Rock Painting and Thrift Store Painting\nJune 24 Crayon Art – Candle Making\, Drip Paintings and Making New Crayons\nJuly 1 Drawing – Reimagined Book Covers and Shadow Bouquet Drawings\nJuly 8 Tie-Dye – Spray Tie-Dye and Alcohol Ink Marbling on Mugs and Coasters\nJuly 15 Jewelry – Fiddle Key Rings\, Friendship Bracelets\, and Perler Beads \nRemember to get your 5 prize slips when you attend!
URL:https://marvinlibrary.org/event-2/crafternoon-kerr/2025-06-10/
LOCATION:Marvin Memorial Library\, 29 W. Whitney Ave.\, Shelby\, OH\, 44875
CATEGORIES:Teens
END:VEVENT
BEGIN:VEVENT
DTSTART;TZID=America/New_York:20250610T130000
DTEND;TZID=America/New_York:20250610T150000
DTSTAMP:20260419T100437
CREATED:20210802T184854Z
LAST-MODIFIED:20230901T143646Z
UID:10005051-1749560400-1749567600@marvinlibrary.org
SUMMARY:Cookbook Club
DESCRIPTION:Cookbook Club\nWe are back!  Our meetings will be every 2nd Tuesday of the month @ 1 pm. \nEach month there will be a theme.  Bring a dish to share and its recipe and a cookbook will be made by the end of the meeting. \nThemes: \n\nSeptember – CELEBRATION\nOctober – Harvest\nNovember – Pizza Party\nDecember – Holiday Party\n\nWe look forward to seeing you there and trying your delicious recipes!
URL:https://marvinlibrary.org/event-2/cookbook-club-21/2025-06-10/
LOCATION:Marvin Memorial Library\, 29 W. Whitney Ave.\, Shelby\, OH\, 44875
CATEGORIES:Adults,Community,Family
END:VEVENT
BEGIN:VEVENT
DTSTART;TZID=America/New_York:20250610T130000
DTEND;TZID=America/New_York:20250610T140000
DTSTAMP:20260419T100437
CREATED:20250515T150415Z
LAST-MODIFIED:20250515T150634Z
UID:10007319-1749560400-1749564000@marvinlibrary.org
SUMMARY:Tween Group KERR
DESCRIPTION:Tweens in 4th – 6th grade are welcome to join us for Summer Reading Tuesdays at 1:00 for fun hands-on activities focused on the following art topics: \nJune 3 What is Art?\nJune 10 Vincent Van Gogh\nJune 16th Henri Matisse\nJune 24 Messy Painting\nJuly 1 Collages and Mixed Media\nJuly 8 Children’s Books and Animation\nJuly 15 That’s Art!?! \n 
URL:https://marvinlibrary.org/event-2/tween-group-kerr/2025-06-10/
LOCATION:Marvin Memorial Library\, 29 W. Whitney Ave.\, Shelby\, OH\, 44875
CATEGORIES:Tweens
END:VEVENT
BEGIN:VEVENT
DTSTART;TZID=America/New_York:20250610T103000
DTEND;TZID=America/New_York:20250610T113000
DTSTAMP:20260419T100437
CREATED:20250513T220422Z
LAST-MODIFIED:20250515T201724Z
UID:10007287-1749551400-1749555000@marvinlibrary.org
SUMMARY:Story Time Ages 2-5 KERR
DESCRIPTION:Story Times are in the Kerr Garden Room\, unless otherwise stated.  The following times are effective during Summer Reading June 1 – July 18.\nLap Sit  Ages 0-2 Wednesdays at 10:00 AM Theme: Colors of the Rainbow\nStory Time Ages 2-5 Tuesdays and Thursdays at 10:30 AM Theme: Our Colorful World\nBook & Craft Grades 1-3 Wednesdays at 1:00 PM Theme: Animal Colors\nFarmers’ Market Story Time (Meet at Blackfork Commons) Saturday 6/7\, 7/21 & 7/5 at 10:30 AM Theme: Art in Nature \n 
URL:https://marvinlibrary.org/event-2/story-time-ages-2-5-6/2025-06-10/
LOCATION:Marvin Memorial Library\, 29 W. Whitney Ave.\, Shelby\, OH\, 44875
CATEGORIES:Pre-school
END:VEVENT
BEGIN:VEVENT
DTSTART;TZID=America/New_York:20250610T100000
DTEND;TZID=America/New_York:20250610T130000
DTSTAMP:20260419T100437
CREATED:20250529T141246Z
LAST-MODIFIED:20250529T141246Z
UID:10007367-1749549600-1749560400@marvinlibrary.org
SUMMARY:BAVIN in Use
DESCRIPTION:
URL:https://marvinlibrary.org/event-2/bavin-in-use-117/
LOCATION:Marvin Memorial Library\, 29 W. Whitney Ave.\, Shelby\, OH\, 44875
CATEGORIES:Community
END:VEVENT
BEGIN:VEVENT
DTSTART;TZID=America/New_York:20250609T173000
DTEND;TZID=America/New_York:20250609T183000
DTSTAMP:20260419T100437
CREATED:20250513T202336Z
LAST-MODIFIED:20250516T160923Z
UID:10007280-1749490200-1749493800@marvinlibrary.org
SUMMARY:Science Nights KERR
DESCRIPTION:Calling all kids in K-6th grade! Join us in the Kerr Garden Room each Monday at 5:30 for fun\, hands-on\, science based activities on the following topics: \nJune 2 Bugs\nJune 9 Flowers\nJune 16 Bees\nJune 23 Tornadoes\nJune 30 Trees\nJuly 7 Birds\nJuly 14 Animals \nRemember to get your 5 prize slips for attending this event!
URL:https://marvinlibrary.org/event-2/science-nights/2025-06-09/
LOCATION:Marvin Memorial Library\, 29 W. Whitney Ave.\, Shelby\, OH\, 44875
CATEGORIES:Children
END:VEVENT
BEGIN:VEVENT
DTSTART;TZID=America/New_York:20250609T170000
DTEND;TZID=America/New_York:20250609T190000
DTSTAMP:20260419T100438
CREATED:20250508T153337Z
LAST-MODIFIED:20250516T161657Z
UID:10006115-1749488400-1749495600@marvinlibrary.org
SUMMARY:Music Trivia Night with DJ Mr. Ed MPR
DESCRIPTION:Join us in the Multipurpose Room at 5:00 for Music Trivia with DJ Mr. Ed and Pizza courtesy of the Friends of the Library.
URL:https://marvinlibrary.org/event-2/music-trivia-night-with-dj-mr-ed-mpr/
LOCATION:Marvin Memorial Library\, 29 W. Whitney Ave.\, Shelby\, OH\, 44875
CATEGORIES:Adults
END:VEVENT
BEGIN:VEVENT
DTSTART;TZID=America/New_York:20250609T100000
DTEND;TZID=America/New_York:20250609T130000
DTSTAMP:20260419T100438
CREATED:20250609T154019Z
LAST-MODIFIED:20250609T154019Z
UID:10006350-1749463200-1749474000@marvinlibrary.org
SUMMARY:Marvin in Use
DESCRIPTION:
URL:https://marvinlibrary.org/event-2/marvin-in-use-18/
LOCATION:Marvin Memorial Library\, 29 W. Whitney Ave.\, Shelby\, OH\, 44875
CATEGORIES:Community
END:VEVENT
BEGIN:VEVENT
DTSTART;TZID=America/New_York:20250609T090000
DTEND;TZID=America/New_York:20250609T120000
DTSTAMP:20260419T100438
CREATED:20250527T211615Z
LAST-MODIFIED:20250527T211755Z
UID:10007363-1749459600-1749470400@marvinlibrary.org
SUMMARY:KERR in Use
DESCRIPTION:
URL:https://marvinlibrary.org/event-2/kerr-in-use-47/
LOCATION:Marvin Memorial Library\, 29 W. Whitney Ave.\, Shelby\, OH\, 44875
CATEGORIES:Community
END:VEVENT
BEGIN:VEVENT
DTSTART;TZID=America/New_York:20250609T090000
DTEND;TZID=America/New_York:20250609T120000
DTSTAMP:20260419T100438
CREATED:20250516T160448Z
LAST-MODIFIED:20250516T160448Z
UID:10007344-1749459600-1749470400@marvinlibrary.org
SUMMARY:MPR in Use
DESCRIPTION:
URL:https://marvinlibrary.org/event-2/mpr-in-use-72/2025-06-09/
LOCATION:Marvin Memorial Library\, 29 W. Whitney Ave.\, Shelby\, OH\, 44875
CATEGORIES:Community
END:VEVENT
BEGIN:VEVENT
DTSTART;TZID=America/New_York:20250607T103000
DTEND;TZID=America/New_York:20250607T113000
DTSTAMP:20260419T100438
CREATED:20250513T225831Z
LAST-MODIFIED:20250513T225831Z
UID:10007314-1749292200-1749295800@marvinlibrary.org
SUMMARY:Story Time at Farmers' Market
DESCRIPTION:Story Times are in the Kerr Garden Room\, unless otherwise stated.  The following times are effective during Summer Reading June 1 – July 18.\nLap Sit  Ages 0-2 Wednesdays at 10:00 AM Theme: Colors of the Rainbow\nStory Time Ages 2-5 Tuesdays and Thursdays at 10:30 AM Theme: Our Colorful World\nBook & Craft Grades 1-3 Wednesdays at 1:00 PM Theme: Animal Colors\nFarmers’ Market Story Time (Meet at Blackfork Commons) Saturday 6/7\, 7/21 & 7/5 at 10:30 AM Theme: Art in Nature \n 
URL:https://marvinlibrary.org/event-2/story-time-at-farmers-market/2025-06-07/
LOCATION:Marvin Memorial Library\, 29 W. Whitney Ave.\, Shelby\, OH\, 44875
CATEGORIES:Children
END:VEVENT
BEGIN:VEVENT
DTSTART;TZID=America/New_York:20250606T130000
DTEND;TZID=America/New_York:20250606T150000
DTSTAMP:20260419T100438
CREATED:20250516T155709Z
LAST-MODIFIED:20250516T160005Z
UID:10007337-1749214800-1749222000@marvinlibrary.org
SUMMARY:Teen Movie Day MPR
DESCRIPTION:Teens in 7th – 12th Grade meet in the Multipurpose Room on Fridays at 1:00 for a movie and snacks! \nJune 6 The Wild Robot\nJune 13 Dear Evan Hansen\nJune 20 Twisters Double Feature\nJune 27 Wicked\nJuly 14 Cruella\nJuly 18 Dead Poets Society
URL:https://marvinlibrary.org/event-2/teen-movie-day/2025-06-06/
LOCATION:Marvin Memorial Library\, 29 W. Whitney Ave.\, Shelby\, OH\, 44875
CATEGORIES:Teens
END:VEVENT
BEGIN:VEVENT
DTSTART;TZID=America/New_York:20250606T100000
DTEND;TZID=America/New_York:20250606T120000
DTSTAMP:20260419T100438
CREATED:20250521T190558Z
LAST-MODIFIED:20250910T172513Z
UID:10006244-1749204000-1749211200@marvinlibrary.org
SUMMARY:Free Blood Pressure & Blood Glucose Testing
DESCRIPTION:Stop by the library every Friday morning from 10:00AM to 12:00 PM for a free blood pressure and/or blood glucose check with the Shelby Health Department’s Director of Nursing. Get health tips and free information.
URL:https://marvinlibrary.org/event-2/free-blood-pressure-blood-glucose-testing/2025-06-06/
LOCATION:Marvin Memorial Library\, 29 W. Whitney Ave.\, Shelby\, OH\, 44875
CATEGORIES:Community
END:VEVENT
BEGIN:VEVENT
DTSTART;TZID=America/New_York:20250605T180000
DTEND;TZID=America/New_York:20250605T190000
DTSTAMP:20260419T100438
CREATED:20250515T205515Z
LAST-MODIFIED:20250515T205515Z
UID:10007336-1749146400-1749150000@marvinlibrary.org
SUMMARY:Dr. Insecta KERR
DESCRIPTION:Bring the whole family to the Kerr Garden Room on Thursday\, June 5th at 6:00 to join us for a night of HUGE insects with Dr. Insecta! Will Ms. Jami eat another bug this year??? Don’t forget your 5 prize slips for attending this event!
URL:https://marvinlibrary.org/event-2/dr-insecta-kerr/
LOCATION:Marvin Memorial Library\, 29 W. Whitney Ave.\, Shelby\, OH\, 44875
CATEGORIES:Family
END:VEVENT
BEGIN:VEVENT
DTSTART;TZID=America/New_York:20250605T170000
DTEND;TZID=America/New_York:20250605T200000
DTSTAMP:20260419T100438
CREATED:20250520T204128Z
LAST-MODIFIED:20250527T211229Z
UID:10006214-1749142800-1749153600@marvinlibrary.org
SUMMARY:MCS Adult Education Class MPR
DESCRIPTION:
URL:https://marvinlibrary.org/event-2/mpr-in-use-74/
LOCATION:Marvin Memorial Library\, 29 W. Whitney Ave.\, Shelby\, OH\, 44875
CATEGORIES:Adults
END:VEVENT
BEGIN:VEVENT
DTSTART;TZID=America/New_York:20250605T103000
DTEND;TZID=America/New_York:20250605T113000
DTSTAMP:20260419T100438
CREATED:20250513T220542Z
LAST-MODIFIED:20250515T194712Z
UID:10007293-1749119400-1749123000@marvinlibrary.org
SUMMARY:Story Time Ages 2-5 KERR
DESCRIPTION:Story Times are in the Kerr Garden Room\, unless otherwise stated.  The following times are effective during Summer Reading June 1 – July 18.\nLap Sit  Ages 0-2 Wednesdays at 10:00 AM Theme: Colors of the Rainbow\nStory Time Ages 2-5 Tuesdays and Thursdays at 10:30 AM Theme: Our Colorful World\nBook & Craft Grades 1-3 Wednesdays at 1:00 PM Theme: Animal Colors\nFarmers’ Market Story Time (Meet at Blackfork Commons) Saturday 6/7\, 7/21 & 7/5 at 10:30 AM Theme: Art in Nature \n 
URL:https://marvinlibrary.org/event-2/story-time-ages-2-5-7/2025-06-05/
LOCATION:Marvin Memorial Library\, 29 W. Whitney Ave.\, Shelby\, OH\, 44875
CATEGORIES:Pre-school
END:VEVENT
BEGIN:VEVENT
DTSTART;TZID=America/New_York:20250604T173000
DTEND;TZID=America/New_York:20250604T183000
DTSTAMP:20260419T100438
CREATED:20250515T201930Z
LAST-MODIFIED:20250515T205238Z
UID:10007335-1749058200-1749061800@marvinlibrary.org
SUMMARY:Teen Writing Program KERR
DESCRIPTION:Teens in 7th – 12th Grade are welcome to join us for our Teen Writing Program on Wednesday June 4th at 5:30PM. We’ll provide writing prompts and games.  Remember to collect your 5 prize slips for attending this event!
URL:https://marvinlibrary.org/event-2/teen-writing-program-kerr/
LOCATION:Marvin Memorial Library\, 29 W. Whitney Ave.\, Shelby\, OH\, 44875
CATEGORIES:Teens
END:VEVENT
BEGIN:VEVENT
DTSTART;TZID=America/New_York:20250604T130000
DTEND;TZID=America/New_York:20250604T140000
DTSTAMP:20260419T100438
CREATED:20250513T225652Z
LAST-MODIFIED:20250516T160208Z
UID:10007307-1749042000-1749045600@marvinlibrary.org
SUMMARY:Book & Craft KERR
DESCRIPTION:Story Times are in the Kerr Garden Room\, unless otherwise stated.  The following times are effective during Summer Reading June 1 – July 18.\nLap Sit  Ages 0-2 Wednesdays at 10:00 AM Theme: Colors of the Rainbow\nStory Time Ages 2-5 Tuesdays and Thursdays at 10:30 AM Theme: Our Colorful World\nBook & Craft Grades 1-3 Wednesdays at 1:00 PM Theme: Animal Colors\nFarmers’ Market Story Time (Meet at Blackfork Commons) Saturday 6/7\, 7/21 & 7/5 at 10:30 AM Theme: Art in Nature \n 
URL:https://marvinlibrary.org/event-2/book-craft/2025-06-04/
LOCATION:Marvin Memorial Library\, 29 W. Whitney Ave.\, Shelby\, OH\, 44875
CATEGORIES:Children
END:VEVENT
BEGIN:VEVENT
DTSTART;TZID=America/New_York:20250604T100000
DTEND;TZID=America/New_York:20250604T120000
DTSTAMP:20260419T100438
CREATED:20250604T144912Z
LAST-MODIFIED:20250604T144912Z
UID:10006347-1749031200-1749038400@marvinlibrary.org
SUMMARY:MPR in Use
DESCRIPTION:
URL:https://marvinlibrary.org/event-2/mpr-in-use-77/
LOCATION:Marvin Memorial Library\, 29 W. Whitney Ave.\, Shelby\, OH\, 44875
CATEGORIES:Community
END:VEVENT
BEGIN:VEVENT
DTSTART;TZID=America/New_York:20250604T100000
DTEND;TZID=America/New_York:20250604T110000
DTSTAMP:20260419T100438
CREATED:20250513T225505Z
LAST-MODIFIED:20250515T154604Z
UID:10007300-1749031200-1749034800@marvinlibrary.org
SUMMARY:Lap Sit Story Time KERR
DESCRIPTION:Story Times are in the Kerr Garden Room\, unless otherwise stated.  The following times are effective during Summer Reading June 1 – July 18.\nLap Sit  Ages 0-2 Wednesdays at 10:00 AM Theme: Colors of the Rainbow\nStory Time Ages 2-5 Tuesdays and Thursdays at 10:30 AM Theme: Our Colorful World\nBook & Craft Grades 1-3 Wednesdays at 1:00 PM Theme: Animal Colors\nFarmers’ Market Story Time (Meet at Blackfork Commons) Saturday 6/7\, 7/21 & 7/5 at 10:30 AM Theme: Art in Nature \n 
URL:https://marvinlibrary.org/event-2/lap-sit-story-time-kerr/2025-06-04/
LOCATION:Marvin Memorial Library\, 29 W. Whitney Ave.\, Shelby\, OH\, 44875
CATEGORIES:Pre-school
END:VEVENT
BEGIN:VEVENT
DTSTART;TZID=America/New_York:20250604T100000
DTEND;TZID=America/New_York:20250604T110000
DTSTAMP:20260419T100438
CREATED:20250508T145318Z
LAST-MODIFIED:20250905T161457Z
UID:10006097-1749031200-1749034800@marvinlibrary.org
SUMMARY:Walking Club
DESCRIPTION:We’ll meet in the lobby every Wednesday at 10:00 AM for Walking Club.\nWear comfortable clothes/walking shoes and we’ll walk for approximately one hour. Feel free to wear wrist or ankle weights and bring a water bottle. If we have bad weather\, or it is cold\, we will follow an indoor walking video.
URL:https://marvinlibrary.org/event-2/walking-club/2025-06-04/
LOCATION:Marvin Memorial Library\, 29 W. Whitney Ave.\, Shelby\, OH\, 44875
CATEGORIES:Adults
END:VEVENT
BEGIN:VEVENT
DTSTART;TZID=America/New_York:20250603T180000
DTEND;TZID=America/New_York:20250603T190000
DTSTAMP:20260419T100438
CREATED:20250508T144212Z
LAST-MODIFIED:20250508T144212Z
UID:10006095-1748973600-1748977200@marvinlibrary.org
SUMMARY:The History of Malabar Farm MPR
DESCRIPTION:Join author Tom Bachelder and Malabar Farm Park Naturalist Mark Sommer as they share the story of Richland County’s Pulitzer Prize winning novelist Louis Bromfield. Hear about:\n\nHis early years in Mansfield\nHis experiences in World War I driving an ambulance in France\nHis life in France during the 1920s and 30s\nHis creation of Malabar Farm\, now Malabar Farm State Park.\n\nBoth Tom and Mark are retired Shelby City School teachers. Tom re-retired from Malabar Farm as a Park Naturalist and is now part of the Malabar Farm Foundation. He has written several books related to the life of Louis Bromfield. Mark is also a tour guide of Bromfield’s Big House and farm property.
URL:https://marvinlibrary.org/event-2/the-history-of-malabar-farm-mpr/
LOCATION:Marvin Memorial Library\, 29 W. Whitney Ave.\, Shelby\, OH\, 44875
CATEGORIES:Adults
END:VEVENT
BEGIN:VEVENT
DTSTART;TZID=America/New_York:20250603T173000
DTEND;TZID=America/New_York:20250603T183000
DTSTAMP:20260419T100438
CREATED:20250515T160223Z
LAST-MODIFIED:20250515T194438Z
UID:10007332-1748971800-1748975400@marvinlibrary.org
SUMMARY:Messy Art Night KERR
DESCRIPTION:Messy Art Night are in the KERR Garden Room at 5:30 \nJune 3   Hands on Art – Handprint and Fingerprint Art\nJune 17 Let’s Get Sticky – Glue Art\nJuly 1    Painting – Tissue Paper Painting \n\nRemember to get your 5 prize slips for attending!
URL:https://marvinlibrary.org/event-2/messy-art-night-kerr/2025-06-03/
LOCATION:Marvin Memorial Library\, 29 W. Whitney Ave.\, Shelby\, OH\, 44875
CATEGORIES:Family
END:VEVENT
BEGIN:VEVENT
DTSTART;TZID=America/New_York:20250603T153000
DTEND;TZID=America/New_York:20250603T163000
DTSTAMP:20260419T100438
CREATED:20250515T153136Z
LAST-MODIFIED:20250515T153136Z
UID:10007325-1748964600-1748968200@marvinlibrary.org
SUMMARY:Crafternoon KERR
DESCRIPTION:Teens in 7th – 12th grade will have fun hands-on learning activities focused on the following: \nJune 3 Photography – Photo comic Club and Collages\nJune 10 Fabric Arts – Woven Bookmarks/Bracelets and String Art\nJune 16 Painting – Rock Painting and Thrift Store Painting\nJune 24 Crayon Art – Candle Making\, Drip Paintings and Making New Crayons\nJuly 1 Drawing – Reimagined Book Covers and Shadow Bouquet Drawings\nJuly 8 Tie-Dye – Spray Tie-Dye and Alcohol Ink Marbling on Mugs and Coasters\nJuly 15 Jewelry – Fiddle Key Rings\, Friendship Bracelets\, and Perler Beads \nRemember to get your 5 prize slips when you attend!
URL:https://marvinlibrary.org/event-2/crafternoon-kerr/2025-06-03/
LOCATION:Marvin Memorial Library\, 29 W. Whitney Ave.\, Shelby\, OH\, 44875
CATEGORIES:Teens
END:VEVENT
BEGIN:VEVENT
DTSTART;TZID=America/New_York:20250603T130000
DTEND;TZID=America/New_York:20250603T140000
DTSTAMP:20260419T100438
CREATED:20250515T150415Z
LAST-MODIFIED:20250515T150634Z
UID:10007318-1748955600-1748959200@marvinlibrary.org
SUMMARY:Tween Group KERR
DESCRIPTION:Tweens in 4th – 6th grade are welcome to join us for Summer Reading Tuesdays at 1:00 for fun hands-on activities focused on the following art topics: \nJune 3 What is Art?\nJune 10 Vincent Van Gogh\nJune 16th Henri Matisse\nJune 24 Messy Painting\nJuly 1 Collages and Mixed Media\nJuly 8 Children’s Books and Animation\nJuly 15 That’s Art!?! \n 
URL:https://marvinlibrary.org/event-2/tween-group-kerr/2025-06-03/
LOCATION:Marvin Memorial Library\, 29 W. Whitney Ave.\, Shelby\, OH\, 44875
CATEGORIES:Tweens
END:VEVENT
BEGIN:VEVENT
DTSTART;TZID=America/New_York:20250603T103000
DTEND;TZID=America/New_York:20250603T113000
DTSTAMP:20260419T100438
CREATED:20250513T220422Z
LAST-MODIFIED:20250515T201724Z
UID:10007286-1748946600-1748950200@marvinlibrary.org
SUMMARY:Story Time Ages 2-5 KERR
DESCRIPTION:Story Times are in the Kerr Garden Room\, unless otherwise stated.  The following times are effective during Summer Reading June 1 – July 18.\nLap Sit  Ages 0-2 Wednesdays at 10:00 AM Theme: Colors of the Rainbow\nStory Time Ages 2-5 Tuesdays and Thursdays at 10:30 AM Theme: Our Colorful World\nBook & Craft Grades 1-3 Wednesdays at 1:00 PM Theme: Animal Colors\nFarmers’ Market Story Time (Meet at Blackfork Commons) Saturday 6/7\, 7/21 & 7/5 at 10:30 AM Theme: Art in Nature \n 
URL:https://marvinlibrary.org/event-2/story-time-ages-2-5-6/2025-06-03/
LOCATION:Marvin Memorial Library\, 29 W. Whitney Ave.\, Shelby\, OH\, 44875
CATEGORIES:Pre-school
END:VEVENT
BEGIN:VEVENT
DTSTART;TZID=America/New_York:20250603T090000
DTEND;TZID=America/New_York:20250603T130000
DTSTAMP:20260419T100438
CREATED:20250527T160916Z
LAST-MODIFIED:20250527T160916Z
UID:10007361-1748941200-1748955600@marvinlibrary.org
SUMMARY:MPR in Use
DESCRIPTION:
URL:https://marvinlibrary.org/event-2/mpr-in-use-75/
LOCATION:Marvin Memorial Library\, 29 W. Whitney Ave.\, Shelby\, OH\, 44875
CATEGORIES:Community
END:VEVENT
BEGIN:VEVENT
DTSTART;TZID=America/New_York:20250602T180000
DTEND;TZID=America/New_York:20250602T190000
DTSTAMP:20260419T100438
CREATED:20250507T204140Z
LAST-MODIFIED:20250507T204140Z
UID:10006087-1748887200-1748890800@marvinlibrary.org
SUMMARY:The History of Travel in America MPR
DESCRIPTION:Presented by Mark Holbrook of The Ohio Humanities this program will explore how the industrial age\, new technologies\, and shifting perspectives on work and leisure changed the way Americans travel and how this has changed the economy and culture.
URL:https://marvinlibrary.org/event-2/the-history-of-travel-in-america-mpr/
LOCATION:Marvin Memorial Library\, 29 W. Whitney Ave.\, Shelby\, OH\, 44875
CATEGORIES:Adults
END:VEVENT
END:VCALENDAR