BEGIN:VCALENDAR
VERSION:2.0
PRODID:-//Marvin Memorial Library - ECPv6.15.18//NONSGML v1.0//EN
CALSCALE:GREGORIAN
METHOD:PUBLISH
X-WR-CALNAME:Marvin Memorial Library
X-ORIGINAL-URL:https://marvinlibrary.org
X-WR-CALDESC:Events for Marvin Memorial Library
REFRESH-INTERVAL;VALUE=DURATION:PT1H
X-Robots-Tag:noindex
X-PUBLISHED-TTL:PT1H
BEGIN:VTIMEZONE
TZID:America/New_York
BEGIN:DAYLIGHT
TZOFFSETFROM:-0500
TZOFFSETTO:-0400
TZNAME:EDT
DTSTART:20240310T070000
END:DAYLIGHT
BEGIN:STANDARD
TZOFFSETFROM:-0400
TZOFFSETTO:-0500
TZNAME:EST
DTSTART:20241103T060000
END:STANDARD
BEGIN:DAYLIGHT
TZOFFSETFROM:-0500
TZOFFSETTO:-0400
TZNAME:EDT
DTSTART:20250309T070000
END:DAYLIGHT
BEGIN:STANDARD
TZOFFSETFROM:-0400
TZOFFSETTO:-0500
TZNAME:EST
DTSTART:20251102T060000
END:STANDARD
BEGIN:DAYLIGHT
TZOFFSETFROM:-0500
TZOFFSETTO:-0400
TZNAME:EDT
DTSTART:20260308T070000
END:DAYLIGHT
BEGIN:STANDARD
TZOFFSETFROM:-0400
TZOFFSETTO:-0500
TZNAME:EST
DTSTART:20261101T060000
END:STANDARD
END:VTIMEZONE
BEGIN:VEVENT
DTSTART;TZID=America/New_York:20250219T110000
DTEND;TZID=America/New_York:20250219T120000
DTSTAMP:20260419T122303
CREATED:20250108T155602Z
LAST-MODIFIED:20250124T194515Z
UID:10005967-1739962800-1739966400@marvinlibrary.org
SUMMARY:Tech It Easy Class -Points of View Reference Source MPR
DESCRIPTION:Containing resources that present multiple sides of an issue\, this resource provides the basis from which students can realize and develop persuasive arguments and essays\, better understand controversial issues and develop analytical thinking skills. Join us to learn how to us The Points of View Reference Source
URL:https://marvinlibrary.org/event-2/tech-it-easy-class-points-of-view-reference-source/
LOCATION:Marvin Memorial Library\, 29 W. Whitney Ave.\, Shelby\, OH\, 44875
CATEGORIES:Adults
END:VEVENT
BEGIN:VEVENT
DTSTART;TZID=America/New_York:20250218T180000
DTEND;TZID=America/New_York:20250218T190000
DTSTAMP:20260419T122303
CREATED:20250108T154536Z
LAST-MODIFIED:20250205T005010Z
UID:10005965-1739901600-1739905200@marvinlibrary.org
SUMMARY:DIY Design Night *RR MPR
DESCRIPTION:Registration opens Feb. 1st for DIY Night.  We’ll be making Folded Heart Books.
URL:https://marvinlibrary.org/event-2/diy-design-night-rr-3/
LOCATION:Marvin Memorial Library\, 29 W. Whitney Ave.\, Shelby\, OH\, 44875
CATEGORIES:Adults
END:VEVENT
BEGIN:VEVENT
DTSTART;TZID=America/New_York:20250218T160000
DTEND;TZID=America/New_York:20250218T170000
DTSTAMP:20260419T122303
CREATED:20250731T135325Z
LAST-MODIFIED:20250731T135325Z
UID:10006797-1739894400-1739898000@marvinlibrary.org
SUMMARY:Builders Club
DESCRIPTION:Bring the whole family and join us twice a month to test your building skills. We’ll have monthly challenges and themes.
URL:https://marvinlibrary.org/event-2/builders-club-2/2025-02-18/
LOCATION:Marvin Memorial Library\, 29 W. Whitney Ave.\, Shelby\, OH\, 44875
CATEGORIES:Family
END:VEVENT
BEGIN:VEVENT
DTSTART;TZID=America/New_York:20250218T103000
DTEND;TZID=America/New_York:20250218T113000
DTSTAMP:20260419T122303
CREATED:20240809T144538Z
LAST-MODIFIED:20240809T201751Z
UID:10005604-1739874600-1739878200@marvinlibrary.org
SUMMARY:Story Time  for Ages 2-5
DESCRIPTION:
URL:https://marvinlibrary.org/event-2/story-time-for-ages-2-5-3/2025-02-18/
LOCATION:Marvin Memorial Library\, 29 W. Whitney Ave.\, Shelby\, OH\, 44875
CATEGORIES:Children
END:VEVENT
BEGIN:VEVENT
DTSTART;TZID=America/New_York:20250218T090000
DTEND;TZID=America/New_York:20250218T120000
DTSTAMP:20260419T122303
CREATED:20250128T193906Z
LAST-MODIFIED:20250128T193906Z
UID:10007155-1739869200-1739880000@marvinlibrary.org
SUMMARY:MPR in Use
DESCRIPTION:
URL:https://marvinlibrary.org/event-2/mpr-in-use-53/
LOCATION:Marvin Memorial Library\, 29 W. Whitney Ave.\, Shelby\, OH\, 44875
CATEGORIES:Community
END:VEVENT
BEGIN:VEVENT
DTSTART;TZID=America/New_York:20250217T173000
DTEND;TZID=America/New_York:20250217T190000
DTSTAMP:20260419T122303
CREATED:20201110T170625Z
LAST-MODIFIED:20201110T170625Z
UID:10004808-1739813400-1739818800@marvinlibrary.org
SUMMARY:Teen Writers & Artists Club - Virtual
DESCRIPTION:Teens 7th-12th Grade are invited to join us via Zoom for this year’s Writers/Artists Club. We’ll share ideas\, beat writers’ block\, play Pictionary\, and have fun! Email Jami at childrens@marvinlibrary.org for all the Zoom Login information.
URL:https://marvinlibrary.org/event-2/teen-writers-artists-club-virtual/2025-02-17/
LOCATION:Marvin Memorial Library\, 29 W. Whitney Ave.\, Shelby\, OH\, 44875
CATEGORIES:Teens
END:VEVENT
BEGIN:VEVENT
DTSTART;TZID=America/New_York:20250217T090000
DTEND;TZID=America/New_York:20250217T200000
DTSTAMP:20260419T122303
CREATED:20250108T151851Z
LAST-MODIFIED:20250108T151851Z
UID:10005964-1739782800-1739822400@marvinlibrary.org
SUMMARY:Closed for President's Day
DESCRIPTION:
URL:https://marvinlibrary.org/event-2/closed-for-presidents-day/
LOCATION:Marvin Memorial Library\, 29 W. Whitney Ave.\, Shelby\, OH\, 44875
CATEGORIES:Community
END:VEVENT
BEGIN:VEVENT
DTSTART;TZID=America/New_York:20250215T103000
DTEND;TZID=America/New_York:20250215T130000
DTSTAMP:20260419T122303
CREATED:20250124T194203Z
LAST-MODIFIED:20250124T194203Z
UID:10007148-1739615400-1739624400@marvinlibrary.org
SUMMARY:Take Your Child to the Library Day
DESCRIPTION:Bring all the kids to the Children’s Department where we’ll read books\, make crafts\, try a passive program\, have snacks\, explore\, make friends\, and get take home goodie bags!
URL:https://marvinlibrary.org/event-2/take-your-child-to-the-library-day-5/
LOCATION:Marvin Memorial Library\, 29 W. Whitney Ave.\, Shelby\, OH\, 44875
CATEGORIES:Children
END:VEVENT
BEGIN:VEVENT
DTSTART;TZID=America/New_York:20250214T090000
DTEND;TZID=America/New_York:20250214T170000
DTSTAMP:20260419T122303
CREATED:20250205T004701Z
LAST-MODIFIED:20250205T004701Z
UID:10007170-1739523600-1739552400@marvinlibrary.org
SUMMARY:LOVE OUR PATRONS DAY! Free refreshments for patrons.
DESCRIPTION:
URL:https://marvinlibrary.org/event-2/love-our-patrons-day-free-refreshments-for-patrons/
LOCATION:Marvin Memorial Library\, 29 W. Whitney Ave.\, Shelby\, OH\, 44875
CATEGORIES:Community
END:VEVENT
BEGIN:VEVENT
DTSTART;TZID=America/New_York:20250213T180000
DTEND;TZID=America/New_York:20250213T190000
DTSTAMP:20260419T122303
CREATED:20250108T164725Z
LAST-MODIFIED:20250108T184138Z
UID:10005975-1739469600-1739473200@marvinlibrary.org
SUMMARY:Line Dancing *RR MPR
DESCRIPTION:Registration opens Feb. 1st for both of our February Line Dancing Classes. One is on a Thursday and the other is on a Tuesday. Call 419-347-5576 to save your spot!
URL:https://marvinlibrary.org/event-2/line-dancing-rr-mpr/2025-02-13/
LOCATION:Marvin Memorial Library\, 29 W. Whitney Ave.\, Shelby\, OH\, 44875
CATEGORIES:Adults
END:VEVENT
BEGIN:VEVENT
DTSTART;TZID=America/New_York:20250213T180000
DTEND;TZID=America/New_York:20250213T190000
DTSTAMP:20260419T122303
CREATED:20250108T001434Z
LAST-MODIFIED:20250205T004559Z
UID:10007147-1739469600-1739473200@marvinlibrary.org
SUMMARY:The Reading Room BAVIN
DESCRIPTION:The Reading Room Book Club (formerly Book Vault) meets at the library on the 2nd Thurs. of even numbered months at 6:00 PM. Join any time!\n2025 Themes are:\nFeb 13: Written by an African-American Author\nApril 10: A Color in the Title\nJune 12: Published the Year You Graduated High School\nAug 14: A Beach Read\nOct 9: Haunted Ohio\nDec 11: Winter/Holidays in other Cultures or Major Weather Events
URL:https://marvinlibrary.org/event-2/the-reading-room-book-club-mpr/
LOCATION:Marvin Memorial Library\, 29 W. Whitney Ave.\, Shelby\, OH\, 44875
CATEGORIES:Adults
END:VEVENT
BEGIN:VEVENT
DTSTART;TZID=America/New_York:20250213T153000
DTEND;TZID=America/New_York:20250213T173000
DTSTAMP:20260419T122303
CREATED:20240809T152322Z
LAST-MODIFIED:20240809T152322Z
UID:10006870-1739460600-1739467800@marvinlibrary.org
SUMMARY:Teen Studio
DESCRIPTION:Teens in 7th – 12th grade are welcome to come in after school to work on homework\, play games\, get creative and crafty\, or just hang out with friends.
URL:https://marvinlibrary.org/event-2/teen-studio/2025-02-13/
LOCATION:Marvin Memorial Library\, 29 W. Whitney Ave.\, Shelby\, OH\, 44875
CATEGORIES:Teens
END:VEVENT
BEGIN:VEVENT
DTSTART;TZID=America/New_York:20250213T140000
DTEND;TZID=America/New_York:20250213T150000
DTSTAMP:20260419T122303
CREATED:20250213T194555Z
LAST-MODIFIED:20250213T194555Z
UID:10007175-1739455200-1739458800@marvinlibrary.org
SUMMARY:BAVIN in Use
DESCRIPTION:
URL:https://marvinlibrary.org/event-2/bavin-in-use-86/
LOCATION:Marvin Memorial Library\, 29 W. Whitney Ave.\, Shelby\, OH\, 44875
CATEGORIES:Community
END:VEVENT
BEGIN:VEVENT
DTSTART;TZID=America/New_York:20250213T130000
DTEND;TZID=America/New_York:20250213T140000
DTSTAMP:20260419T122303
CREATED:20241118T214427Z
LAST-MODIFIED:20250910T201918Z
UID:10007082-1739451600-1739455200@marvinlibrary.org
SUMMARY:Knotty Knitters BAVIN
DESCRIPTION:Knotty Knitters meet on the 2nd & 4th Thursday of each month at 1:00PM.  Beginners are always welcome! Join the club anytime!
URL:https://marvinlibrary.org/event-2/knotty-knitters-mpr-3/2025-02-13/
LOCATION:Marvin Memorial Library\, 29 W. Whitney Ave.\, Shelby\, OH\, 44875
CATEGORIES:Community
END:VEVENT
BEGIN:VEVENT
DTSTART;TZID=America/New_York:20250213T110000
DTEND;TZID=America/New_York:20250213T120000
DTSTAMP:20260419T122303
CREATED:20250107T000350Z
LAST-MODIFIED:20250211T193044Z
UID:10007140-1739444400-1739448000@marvinlibrary.org
SUMMARY:Coffee with the Shelby Health Department - Heart Health MPR
DESCRIPTION:February is Heart Health Month. This event was rescheduled from the original Feb. 6th date which was cancelled. Join the Shelby City Health Department’s Director of Nursing/Health Education\, Lisa Kilgore RN\, for a discussion about risk factors\, prevention\, and early detection of heart disease. Refreshments will be served.
URL:https://marvinlibrary.org/event-2/coffee-with-the-shelby-health-department-heart-health-mpr/
LOCATION:Marvin Memorial Library\, 29 W. Whitney Ave.\, Shelby\, OH\, 44875
CATEGORIES:Adults
END:VEVENT
BEGIN:VEVENT
DTSTART;TZID=America/New_York:20250213T103000
DTEND;TZID=America/New_York:20250213T113000
DTSTAMP:20260419T122303
CREATED:20240809T144538Z
LAST-MODIFIED:20240809T201751Z
UID:10005603-1739442600-1739446200@marvinlibrary.org
SUMMARY:Story Time  for Ages 2-5
DESCRIPTION:
URL:https://marvinlibrary.org/event-2/story-time-for-ages-2-5-3/2025-02-13/
LOCATION:Marvin Memorial Library\, 29 W. Whitney Ave.\, Shelby\, OH\, 44875
CATEGORIES:Children
END:VEVENT
BEGIN:VEVENT
DTSTART;TZID=America/New_York:20250212T173000
DTEND;TZID=America/New_York:20250212T183000
DTSTAMP:20260419T122303
CREATED:20240812T181520Z
LAST-MODIFIED:20240812T182352Z
UID:10006950-1739381400-1739385000@marvinlibrary.org
SUMMARY:Teen Book Club
DESCRIPTION:Teens in 7th – 12th grade are welcome to join us on the second Wednesday of each month at 5:30PM  for Teen Book Club!
URL:https://marvinlibrary.org/event-2/teen-book-club-8/2025-02-12/
LOCATION:Marvin Memorial Library\, 29 W. Whitney Ave.\, Shelby\, OH\, 44875
CATEGORIES:Teens
END:VEVENT
BEGIN:VEVENT
DTSTART;TZID=America/New_York:20250212T160000
DTEND;TZID=America/New_York:20250212T170000
DTSTAMP:20260419T122303
CREATED:20240809T150136Z
LAST-MODIFIED:20240809T150136Z
UID:10006823-1739376000-1739379600@marvinlibrary.org
SUMMARY:Study Buddies
DESCRIPTION:Get free peer tutoring in the Children’s Department every Wednesday at 4:00 PM.
URL:https://marvinlibrary.org/event-2/study-buddies-5/2025-02-12/
LOCATION:Marvin Memorial Library\, 29 W. Whitney Ave.\, Shelby\, OH\, 44875
CATEGORIES:Children
END:VEVENT
BEGIN:VEVENT
DTSTART;TZID=America/New_York:20250212T130000
DTEND;TZID=America/New_York:20250212T140000
DTSTAMP:20260419T122303
CREATED:20241119T004405Z
LAST-MODIFIED:20241119T004405Z
UID:10005903-1739365200-1739368800@marvinlibrary.org
SUMMARY:Cover to Cover Book Club MPR
DESCRIPTION:Join us anytime on the 2nd Wednesday of each month at 1:00 PM  for Cover to Cover Book Club!
URL:https://marvinlibrary.org/event-2/cover-to-cover-book-club-mpr/2025-02-12/
LOCATION:Marvin Memorial Library\, 29 W. Whitney Ave.\, Shelby\, OH\, 44875
CATEGORIES:Adults
END:VEVENT
BEGIN:VEVENT
DTSTART;TZID=America/New_York:20250211T160000
DTEND;TZID=America/New_York:20250211T170000
DTSTAMP:20260419T122303
CREATED:20241226T210554Z
LAST-MODIFIED:20251015T182329Z
UID:10007128-1739289600-1739293200@marvinlibrary.org
SUMMARY:Board of Trustees Meeting BAVIN
DESCRIPTION:
URL:https://marvinlibrary.org/event-2/board-of-trustees-meeting-mpr-2/2025-02-11/
LOCATION:Marvin Memorial Library\, 29 W. Whitney Ave.\, Shelby\, OH\, 44875
CATEGORIES:Community
END:VEVENT
BEGIN:VEVENT
DTSTART;TZID=America/New_York:20250211T130000
DTEND;TZID=America/New_York:20250211T150000
DTSTAMP:20260419T122303
CREATED:20210802T184854Z
LAST-MODIFIED:20230901T143646Z
UID:10005047-1739278800-1739286000@marvinlibrary.org
SUMMARY:Cookbook Club
DESCRIPTION:Cookbook Club\nWe are back!  Our meetings will be every 2nd Tuesday of the month @ 1 pm. \nEach month there will be a theme.  Bring a dish to share and its recipe and a cookbook will be made by the end of the meeting. \nThemes: \n\nSeptember – CELEBRATION\nOctober – Harvest\nNovember – Pizza Party\nDecember – Holiday Party\n\nWe look forward to seeing you there and trying your delicious recipes!
URL:https://marvinlibrary.org/event-2/cookbook-club-21/2025-02-11/
LOCATION:Marvin Memorial Library\, 29 W. Whitney Ave.\, Shelby\, OH\, 44875
CATEGORIES:Adults,Community,Family
END:VEVENT
BEGIN:VEVENT
DTSTART;TZID=America/New_York:20250211T103000
DTEND;TZID=America/New_York:20250211T113000
DTSTAMP:20260419T122303
CREATED:20240809T144538Z
LAST-MODIFIED:20240809T201751Z
UID:10005602-1739269800-1739273400@marvinlibrary.org
SUMMARY:Story Time  for Ages 2-5
DESCRIPTION:
URL:https://marvinlibrary.org/event-2/story-time-for-ages-2-5-3/2025-02-11/
LOCATION:Marvin Memorial Library\, 29 W. Whitney Ave.\, Shelby\, OH\, 44875
CATEGORIES:Children
END:VEVENT
BEGIN:VEVENT
DTSTART;TZID=America/New_York:20250211T090000
DTEND;TZID=America/New_York:20250211T120000
DTSTAMP:20260419T122303
CREATED:20250129T145404Z
LAST-MODIFIED:20250129T145404Z
UID:10007158-1739264400-1739275200@marvinlibrary.org
SUMMARY:MPR in Use
DESCRIPTION:
URL:https://marvinlibrary.org/event-2/mpr-in-use-55/2025-02-11/
LOCATION:Marvin Memorial Library\, 29 W. Whitney Ave.\, Shelby\, OH\, 44875
CATEGORIES:Community
END:VEVENT
BEGIN:VEVENT
DTSTART;TZID=America/New_York:20250210T180000
DTEND;TZID=America/New_York:20250210T190000
DTSTAMP:20260419T122303
CREATED:20240809T204018Z
LAST-MODIFIED:20240809T204634Z
UID:10006932-1739210400-1739214000@marvinlibrary.org
SUMMARY:Family Story Time
DESCRIPTION:Bring all of the kids and join us for stories\, games\, crafts\, and snacks.
URL:https://marvinlibrary.org/event-2/family-story-time-37/2025-02-10/
LOCATION:Marvin Memorial Library\, 29 W. Whitney Ave.\, Shelby\, OH\, 44875
CATEGORIES:Family
END:VEVENT
BEGIN:VEVENT
DTSTART;TZID=America/New_York:20250210T153000
DTEND;TZID=America/New_York:20250210T173000
DTSTAMP:20260419T122303
CREATED:20240809T153044Z
LAST-MODIFIED:20250219T201731Z
UID:10006891-1739201400-1739208600@marvinlibrary.org
SUMMARY:Teen Studio
DESCRIPTION:Teens in 7th – 12th grade are welcome to come in after school to work on homework\, play games\, get creative and crafty\, or just hang out with friends.
URL:https://marvinlibrary.org/event-2/teen-studio-2/2025-02-10/
LOCATION:Marvin Memorial Library\, 29 W. Whitney Ave.\, Shelby\, OH\, 44875
CATEGORIES:Teens
END:VEVENT
BEGIN:VEVENT
DTSTART;TZID=America/New_York:20250210T130000
DTEND;TZID=America/New_York:20250210T140000
DTSTAMP:20260419T122303
CREATED:20241118T222714Z
LAST-MODIFIED:20241118T224622Z
UID:10007104-1739192400-1739196000@marvinlibrary.org
SUMMARY:Cookbook Club MPR
DESCRIPTION:“Off the Shelf” Cookbook Club meets on the 2nd Monday of each month at 1:00 PM.  Bring a dish of themed food and the recipe to share. Join anytime!\n2025 Themes:\nJan 13 Soup Swap\nFeb 10: Breakfast\nMar 10: International\nApr 14: Easter\nMay 13: Mexican\nSept 8: Tailgate\nOct 13: Food from a Book\nNov 10: Thanksgiving\nDec 8: Holiday Party
URL:https://marvinlibrary.org/event-2/cookbook-club-mpr/2025-02-10/
LOCATION:Marvin Memorial Library\, 29 W. Whitney Ave.\, Shelby\, OH\, 44875
CATEGORIES:Adults
END:VEVENT
BEGIN:VEVENT
DTSTART;TZID=America/New_York:20250210T090000
DTEND;TZID=America/New_York:20250210T200000
DTSTAMP:20260419T122303
CREATED:20250107T194450Z
LAST-MODIFIED:20250107T232213Z
UID:10007144-1739178000-1739217600@marvinlibrary.org
SUMMARY:Registration OPENS for Family Fort Night
DESCRIPTION:Registration opens Feb. 10th and closes Feb. 22nd. Register your family to test your blanket for making skills\, eat s’mores\, and share stories with us!
URL:https://marvinlibrary.org/event-2/registration-opens-for-family-fort-night-3/
LOCATION:Marvin Memorial Library\, 29 W. Whitney Ave.\, Shelby\, OH\, 44875
CATEGORIES:Children
END:VEVENT
BEGIN:VEVENT
DTSTART;TZID=America/New_York:20250210T090000
DTEND;TZID=America/New_York:20250210T200000
DTSTAMP:20260419T122303
CREATED:20250107T193539Z
LAST-MODIFIED:20250107T233237Z
UID:10007143-1739178000-1739217600@marvinlibrary.org
SUMMARY:Registration OPENS for Cupcake Wars
DESCRIPTION:Registration opens for Cupcake Wars! Teens in 7th – 12th grade are welcome to register to decorate cupcakes and win prizes!
URL:https://marvinlibrary.org/event-2/registration-opens-for-cupcake-wars/
LOCATION:Marvin Memorial Library\, 29 W. Whitney Ave.\, Shelby\, OH\, 44875
CATEGORIES:Teens
END:VEVENT
BEGIN:VEVENT
DTSTART;TZID=America/New_York:20250208T090000
DTEND;TZID=America/New_York:20250208T134500
DTSTAMP:20260419T122303
CREATED:20250107T193140Z
LAST-MODIFIED:20250129T200234Z
UID:10007142-1739005200-1739022300@marvinlibrary.org
SUMMARY:Friends of the Library *BOOK SALE* MPR
DESCRIPTION:
URL:https://marvinlibrary.org/event-2/friends-of-the-library-book-sale-11/
LOCATION:Marvin Memorial Library\, 29 W. Whitney Ave.\, Shelby\, OH\, 44875
CATEGORIES:Community
END:VEVENT
BEGIN:VEVENT
DTSTART;TZID=America/New_York:20250207T090000
DTEND;TZID=America/New_York:20250207T164500
DTSTAMP:20260419T122303
CREATED:20250107T193053Z
LAST-MODIFIED:20250107T193740Z
UID:10007141-1738918800-1738946700@marvinlibrary.org
SUMMARY:Friends of the Library *BOOK SALE* MPR
DESCRIPTION:
URL:https://marvinlibrary.org/event-2/friends-of-the-library-book-sale-10/
LOCATION:Marvin Memorial Library\, 29 W. Whitney Ave.\, Shelby\, OH\, 44875
CATEGORIES:Community
END:VEVENT
END:VCALENDAR