BEGIN:VCALENDAR
VERSION:2.0
PRODID:-//Marvin Memorial Library - ECPv6.15.18//NONSGML v1.0//EN
CALSCALE:GREGORIAN
METHOD:PUBLISH
X-ORIGINAL-URL:https://marvinlibrary.org
X-WR-CALDESC:Events for Marvin Memorial Library
REFRESH-INTERVAL;VALUE=DURATION:PT1H
X-Robots-Tag:noindex
X-PUBLISHED-TTL:PT1H
BEGIN:VTIMEZONE
TZID:America/New_York
BEGIN:DAYLIGHT
TZOFFSETFROM:-0500
TZOFFSETTO:-0400
TZNAME:EDT
DTSTART:20240310T070000
END:DAYLIGHT
BEGIN:STANDARD
TZOFFSETFROM:-0400
TZOFFSETTO:-0500
TZNAME:EST
DTSTART:20241103T060000
END:STANDARD
BEGIN:DAYLIGHT
TZOFFSETFROM:-0500
TZOFFSETTO:-0400
TZNAME:EDT
DTSTART:20250309T070000
END:DAYLIGHT
BEGIN:STANDARD
TZOFFSETFROM:-0400
TZOFFSETTO:-0500
TZNAME:EST
DTSTART:20251102T060000
END:STANDARD
BEGIN:DAYLIGHT
TZOFFSETFROM:-0500
TZOFFSETTO:-0400
TZNAME:EDT
DTSTART:20260308T070000
END:DAYLIGHT
BEGIN:STANDARD
TZOFFSETFROM:-0400
TZOFFSETTO:-0500
TZNAME:EST
DTSTART:20261101T060000
END:STANDARD
END:VTIMEZONE
BEGIN:VEVENT
DTSTART;TZID=America/New_York:20250721T100000
DTEND;TZID=America/New_York:20250721T110000
DTSTAMP:20260423T151405
CREATED:20250327T201909Z
LAST-MODIFIED:20250701T193343Z
UID:10007247-1753092000-1753095600@marvinlibrary.org
SUMMARY:Rompin' Stompin' Book Club BAVIN
DESCRIPTION:Rompin’ Stompin’ Book Club meets on the 3rd Monday of each month at 10:00 AM. Join any time! \nThe following are 2025 selections.\nApril 21 The Frozen River\nMay 19 The Pull of the Stars\nJune 16 Meet Me in Monaco\nJuly 21 The Girl Behind the Gates\nAug 18 The Water Keeper\nSept 15 Dear Edward
URL:https://marvinlibrary.org/event-2/rompin-stompin-book-club-bavin/2025-07-21/
LOCATION:Marvin Memorial Library\, 29 W. Whitney Ave.\, Shelby\, OH\, 44875
CATEGORIES:Adults
END:VEVENT
BEGIN:VEVENT
DTSTART;TZID=America/New_York:20250721T173000
DTEND;TZID=America/New_York:20250721T190000
DTSTAMP:20260423T151405
CREATED:20201110T170625Z
LAST-MODIFIED:20201110T170625Z
UID:10004813-1753119000-1753124400@marvinlibrary.org
SUMMARY:Teen Writers & Artists Club - Virtual
DESCRIPTION:Teens 7th-12th Grade are invited to join us via Zoom for this year’s Writers/Artists Club. We’ll share ideas\, beat writers’ block\, play Pictionary\, and have fun! Email Jami at childrens@marvinlibrary.org for all the Zoom Login information.
URL:https://marvinlibrary.org/event-2/teen-writers-artists-club-virtual/2025-07-21/
LOCATION:Marvin Memorial Library\, 29 W. Whitney Ave.\, Shelby\, OH\, 44875
CATEGORIES:Teens
END:VEVENT
BEGIN:VEVENT
DTSTART;TZID=America/New_York:20250721T180000
DTEND;TZID=America/New_York:20250721T190000
DTSTAMP:20260423T151405
CREATED:20250603T184422Z
LAST-MODIFIED:20250603T184422Z
UID:10006277-1753120800-1753124400@marvinlibrary.org
SUMMARY:Modern Art...Cars...in Popular Culture MPR
DESCRIPTION:Join Matthew Donahue from The Ohio Humanities for a night of car talk\, highlighting the modern art and outsider art movement of the art car and how the art car is intrinsically linked to popular culture.  An art car is a modern art movement in which artists use the automobile as a canvas for artistic expression.  The art car is associated with the 1960s during the rise of the pop art movement and since then the art car has developed into a modern art force with exhibitions taking place all across the United States and in galleries and museums. \nPresenter\, Dr. Matthew Donahue\, artist\, musician\, filmmaker and teaching professor from the Department of Popular Culture at Bowling Green State University is a long time art car artist\, creating over 20 different art cars and exhibiting his art cars at exhibitions and museums all across the country. \nThis program is made possible\, in part\, by Ohio Humanities and the National Endowment for the Humanities. Any views\, findings\, conclusions or recommendations expressed in this (publication/program/exhibition/website) do not necessarily represent those of Ohio Humanities or the National Endowment for the Humanities.”
URL:https://marvinlibrary.org/event-2/modern-art-cars-in-popular-culture-mpr/
LOCATION:Marvin Memorial Library\, 29 W. Whitney Ave.\, Shelby\, OH\, 44875
CATEGORIES:Adults
END:VEVENT
BEGIN:VEVENT
DTSTART;TZID=America/New_York:20250723T100000
DTEND;TZID=America/New_York:20250723T110000
DTSTAMP:20260423T151405
CREATED:20250508T145318Z
LAST-MODIFIED:20250905T161457Z
UID:10006104-1753264800-1753268400@marvinlibrary.org
SUMMARY:Walking Club
DESCRIPTION:We’ll meet in the lobby every Wednesday at 10:00 AM for Walking Club.\nWear comfortable clothes/walking shoes and we’ll walk for approximately one hour. Feel free to wear wrist or ankle weights and bring a water bottle. If we have bad weather\, or it is cold\, we will follow an indoor walking video.
URL:https://marvinlibrary.org/event-2/walking-club/2025-07-23/
LOCATION:Marvin Memorial Library\, 29 W. Whitney Ave.\, Shelby\, OH\, 44875
CATEGORIES:Adults
END:VEVENT
BEGIN:VEVENT
DTSTART;TZID=America/New_York:20250723T140000
DTEND;TZID=America/New_York:20250723T160000
DTSTAMP:20260423T151405
CREATED:20250716T191113Z
LAST-MODIFIED:20250716T191113Z
UID:10006418-1753279200-1753286400@marvinlibrary.org
SUMMARY:BAVIN in Use
DESCRIPTION:
URL:https://marvinlibrary.org/event-2/bavin-in-use-126/
LOCATION:Marvin Memorial Library\, 29 W. Whitney Ave.\, Shelby\, OH\, 44875
CATEGORIES:Community
END:VEVENT
BEGIN:VEVENT
DTSTART;TZID=America/New_York:20250723T170000
DTEND;TZID=America/New_York:20250723T200000
DTSTAMP:20260423T151405
CREATED:20250731T135535Z
LAST-MODIFIED:20250731T135535Z
UID:10007074-1753290000-1753300800@marvinlibrary.org
SUMMARY:KERR in Use
DESCRIPTION:
URL:https://marvinlibrary.org/event-2/kerr-in-use-41/2025-07-23/
LOCATION:Marvin Memorial Library\, 29 W. Whitney Ave.\, Shelby\, OH\, 44875
CATEGORIES:Community
END:VEVENT
BEGIN:VEVENT
DTSTART;TZID=America/New_York:20250724T130000
DTEND;TZID=America/New_York:20250724T140000
DTSTAMP:20260423T151405
CREATED:20250731T135538Z
LAST-MODIFIED:20250910T201338Z
UID:10007098-1753362000-1753365600@marvinlibrary.org
SUMMARY:Knotty Knitters BAVIN
DESCRIPTION:Knotty Knitters meet on the 2nd & 4th Thursday of each month at 1:00PM.  Beginners are always welcome! Join the club anytime!
URL:https://marvinlibrary.org/event-2/knotty-knitters-mpr-3-2/2025-07-24/
LOCATION:Marvin Memorial Library\, 29 W. Whitney Ave.\, Shelby\, OH\, 44875
CATEGORIES:Community
END:VEVENT
BEGIN:VEVENT
DTSTART;TZID=America/New_York:20250724T160000
DTEND;TZID=America/New_York:20250724T180000
DTSTAMP:20260423T151405
CREATED:20250603T185054Z
LAST-MODIFIED:20250603T185054Z
UID:10006285-1753372800-1753380000@marvinlibrary.org
SUMMARY:MPR in Use
DESCRIPTION:
URL:https://marvinlibrary.org/event-2/mpr-in-use-76/
LOCATION:Marvin Memorial Library\, 29 W. Whitney Ave.\, Shelby\, OH\, 44875
CATEGORIES:Community
END:VEVENT
BEGIN:VEVENT
DTSTART;TZID=America/New_York:20250725T100000
DTEND;TZID=America/New_York:20250725T120000
DTSTAMP:20260423T151405
CREATED:20250521T190558Z
LAST-MODIFIED:20250910T172513Z
UID:10006249-1753437600-1753444800@marvinlibrary.org
SUMMARY:Free Blood Pressure & Blood Glucose Testing
DESCRIPTION:Stop by the library every Friday morning from 10:00AM to 12:00 PM for a free blood pressure and/or blood glucose check with the Shelby Health Department’s Director of Nursing. Get health tips and free information.
URL:https://marvinlibrary.org/event-2/free-blood-pressure-blood-glucose-testing/2025-07-25/
LOCATION:Marvin Memorial Library\, 29 W. Whitney Ave.\, Shelby\, OH\, 44875
CATEGORIES:Community
END:VEVENT
BEGIN:VEVENT
DTSTART;TZID=America/New_York:20250726T103000
DTEND;TZID=America/New_York:20250726T113000
DTSTAMP:20260423T151405
CREATED:20250711T191134Z
LAST-MODIFIED:20250731T184900Z
UID:10006376-1753525800-1753529400@marvinlibrary.org
SUMMARY:Story Time at The Farmers' Market
DESCRIPTION:Meet us at the Blackfork Commons for Story Time.
URL:https://marvinlibrary.org/event-2/story-time-at-the-farmers-market/2025-07-26/
LOCATION:Marvin Memorial Library\, 29 W. Whitney Ave.\, Shelby\, OH\, 44875
CATEGORIES:Children
END:VEVENT
BEGIN:VEVENT
DTSTART;TZID=America/New_York:20250729T130000
DTEND;TZID=America/New_York:20250729T140000
DTSTAMP:20260423T151405
CREATED:20250624T174428Z
LAST-MODIFIED:20250718T151438Z
UID:10007404-1753794000-1753797600@marvinlibrary.org
SUMMARY:BAVIN in Use
DESCRIPTION:
URL:https://marvinlibrary.org/event-2/bavin-in-use-121-2025-07-28/
LOCATION:Marvin Memorial Library\, 29 W. Whitney Ave.\, Shelby\, OH\, 44875
CATEGORIES:Community
END:VEVENT
BEGIN:VEVENT
DTSTART;TZID=America/New_York:20250729T150000
DTEND;TZID=America/New_York:20250729T163000
DTSTAMP:20260423T151405
CREATED:20250707T201432Z
LAST-MODIFIED:20250707T201432Z
UID:10006372-1753801200-1753806600@marvinlibrary.org
SUMMARY:BAVIN in Use
DESCRIPTION:
URL:https://marvinlibrary.org/event-2/bavin-in-use-124/
LOCATION:Marvin Memorial Library\, 29 W. Whitney Ave.\, Shelby\, OH\, 44875
CATEGORIES:Community
END:VEVENT
BEGIN:VEVENT
DTSTART;TZID=America/New_York:20250730T100000
DTEND;TZID=America/New_York:20250730T110000
DTSTAMP:20260423T151405
CREATED:20250508T145318Z
LAST-MODIFIED:20250905T161457Z
UID:10006105-1753869600-1753873200@marvinlibrary.org
SUMMARY:Walking Club
DESCRIPTION:We’ll meet in the lobby every Wednesday at 10:00 AM for Walking Club.\nWear comfortable clothes/walking shoes and we’ll walk for approximately one hour. Feel free to wear wrist or ankle weights and bring a water bottle. If we have bad weather\, or it is cold\, we will follow an indoor walking video.
URL:https://marvinlibrary.org/event-2/walking-club/2025-07-30/
LOCATION:Marvin Memorial Library\, 29 W. Whitney Ave.\, Shelby\, OH\, 44875
CATEGORIES:Adults
END:VEVENT
BEGIN:VEVENT
DTSTART;TZID=America/New_York:20250730T123000
DTEND;TZID=America/New_York:20250730T143000
DTSTAMP:20260423T151405
CREATED:20250723T204237Z
LAST-MODIFIED:20250723T204237Z
UID:10007572-1753878600-1753885800@marvinlibrary.org
SUMMARY:BAVIN in Use
DESCRIPTION:
URL:https://marvinlibrary.org/event-2/bavin-in-use-127/
LOCATION:Marvin Memorial Library\, 29 W. Whitney Ave.\, Shelby\, OH\, 44875
CATEGORIES:Community
END:VEVENT
BEGIN:VEVENT
DTSTART;TZID=America/New_York:20250730T180000
DTEND;TZID=America/New_York:20250730T190000
DTSTAMP:20260423T151405
CREATED:20250611T163329Z
LAST-MODIFIED:20250611T163329Z
UID:10007380-1753898400-1753902000@marvinlibrary.org
SUMMARY:BBQ with The Vault Wine Bar Owner\, Ben Lash
DESCRIPTION:Join us out by the Kerr Garden Room for a BBQ with Ben Lash. Ben will share some of his BBQ techniques and when done\, will share free samples with everyone.  This is a free event. Bring a lawn chair.
URL:https://marvinlibrary.org/event-2/bbq-with-the-vault-wine-bar-owner-ben-lash/
LOCATION:Marvin Memorial Library\, 29 W. Whitney Ave.\, Shelby\, OH\, 44875
CATEGORIES:Community
END:VEVENT
BEGIN:VEVENT
DTSTART;TZID=America/New_York:20250731T100000
DTEND;TZID=America/New_York:20250731T113000
DTSTAMP:20260423T151405
CREATED:20250721T224454Z
LAST-MODIFIED:20250721T224454Z
UID:10007571-1753956000-1753961400@marvinlibrary.org
SUMMARY:MPR in Use
DESCRIPTION:
URL:https://marvinlibrary.org/event-2/mpr-in-use-80/
LOCATION:Marvin Memorial Library\, 29 W. Whitney Ave.\, Shelby\, OH\, 44875
CATEGORIES:Community
END:VEVENT
BEGIN:VEVENT
DTSTART;TZID=America/New_York:20250731T130000
DTEND;TZID=America/New_York:20250731T140000
DTSTAMP:20260423T151405
CREATED:20250624T174428Z
LAST-MODIFIED:20250624T174428Z
UID:10007400-1753966800-1753970400@marvinlibrary.org
SUMMARY:BAVIN in Use
DESCRIPTION:
URL:https://marvinlibrary.org/event-2/bavin-in-use-121/2025-07-31/
LOCATION:Marvin Memorial Library\, 29 W. Whitney Ave.\, Shelby\, OH\, 44875
CATEGORIES:Community
END:VEVENT
BEGIN:VEVENT
DTSTART;TZID=America/New_York:20250731T130000
DTEND;TZID=America/New_York:20250731T150000
DTSTAMP:20260423T151405
CREATED:20250603T185358Z
LAST-MODIFIED:20250603T185358Z
UID:10006340-1753966800-1753974000@marvinlibrary.org
SUMMARY:Knotty Knitters MPR
DESCRIPTION:
URL:https://marvinlibrary.org/event-2/knotty-knitters-mpr-6/
LOCATION:Marvin Memorial Library\, 29 W. Whitney Ave.\, Shelby\, OH\, 44875
CATEGORIES:Community
END:VEVENT
BEGIN:VEVENT
DTSTART;TZID=America/New_York:20250801T100000
DTEND;TZID=America/New_York:20250801T120000
DTSTAMP:20260423T151405
CREATED:20250521T190558Z
LAST-MODIFIED:20250910T172513Z
UID:10006250-1754042400-1754049600@marvinlibrary.org
SUMMARY:Free Blood Pressure & Blood Glucose Testing
DESCRIPTION:Stop by the library every Friday morning from 10:00AM to 12:00 PM for a free blood pressure and/or blood glucose check with the Shelby Health Department’s Director of Nursing. Get health tips and free information.
URL:https://marvinlibrary.org/event-2/free-blood-pressure-blood-glucose-testing/2025-08-01/
LOCATION:Marvin Memorial Library\, 29 W. Whitney Ave.\, Shelby\, OH\, 44875
CATEGORIES:Community
END:VEVENT
BEGIN:VEVENT
DTSTART;TZID=America/New_York:20250804T090000
DTEND;TZID=America/New_York:20250804T120000
DTSTAMP:20260423T151405
CREATED:20250731T132033Z
LAST-MODIFIED:20250731T132033Z
UID:10007574-1754298000-1754308800@marvinlibrary.org
SUMMARY:BAVIN in Use
DESCRIPTION:
URL:https://marvinlibrary.org/event-2/bavin-in-use-129/2025-08-04/
LOCATION:Marvin Memorial Library\, 29 W. Whitney Ave.\, Shelby\, OH\, 44875
CATEGORIES:Community
END:VEVENT
BEGIN:VEVENT
DTSTART;TZID=America/New_York:20250804T150000
DTEND;TZID=America/New_York:20250804T160000
DTSTAMP:20260423T151405
CREATED:20250725T161421Z
LAST-MODIFIED:20250725T161421Z
UID:10007573-1754319600-1754323200@marvinlibrary.org
SUMMARY:BAVIN in Use
DESCRIPTION:
URL:https://marvinlibrary.org/event-2/bavin-in-use-128/
LOCATION:Marvin Memorial Library\, 29 W. Whitney Ave.\, Shelby\, OH\, 44875
CATEGORIES:Community
END:VEVENT
BEGIN:VEVENT
DTSTART;TZID=America/New_York:20250804T170000
DTEND;TZID=America/New_York:20250804T180000
DTSTAMP:20260423T151405
CREATED:20241118T195834Z
LAST-MODIFIED:20250910T191432Z
UID:10007056-1754326800-1754330400@marvinlibrary.org
SUMMARY:Book & Bean KERR
DESCRIPTION:Theme driven book club that meets on the 1st Monday of each month at 5pm. Join any time.\n2025 Themes:\nJan 6: Snow & Winter\nFeb 3: Futuristic Romance\nMar 3: A Book You’d Recommend to a Stranger\nApr 7: Food in the Title\nMay 5: Published the Year You Graduated\nJun 2: Second Chance (A Book You Didn’t Finish)\nJul 7: Blue (Cover\, Title\, Character Name\, etc.)\nAug 4: Published Over 100 Years Ago\nSept 8: A Banned Book (Closed Sept. 1)\nOct 6: Title TBD\nNov 3: School Reading List Classic\nDec 1: Blizzards and Frozen Things
URL:https://marvinlibrary.org/event-2/book-bean-kerr/2025-08-04/
LOCATION:Marvin Memorial Library\, 29 W. Whitney Ave.\, Shelby\, OH\, 44875
CATEGORIES:Adults
END:VEVENT
BEGIN:VEVENT
DTSTART;TZID=America/New_York:20250804T170000
DTEND;TZID=America/New_York:20250804T180000
DTSTAMP:20260423T151405
CREATED:20241118T195834Z
LAST-MODIFIED:20250721T212036Z
UID:10007061-1754326800-1754330400@marvinlibrary.org
SUMMARY:Book & Bean KERR
DESCRIPTION:Theme driven book club that meets on the 1st Monday of each month at 5pm. Join any time.\n2025 Themes:\nJan 6: Snow & Winter\nFeb 3: Futuristic Romance\nMar 3: A Book You’d Recommend to a Stranger\nApr 7: Food in the Title\nMay 5: Published the Year You Graduated\nJun 2: Second Chance (A Book You Didn’t Finish)\nJul 7: Blue (Cover\, Title\, Character Name\, etc.)\nAug 4: Published Over 100 Years Ago\nSept 8: A Banned Book (Closed Sept. 1)\nOct 6: Title TBD\nNov 3: School Reading List Classic\nDec 1: Blizzards and Frozen Things
URL:https://marvinlibrary.org/event-2/book-bean-kerr-2025-06-02-2025-06-02-2025-06-02-2025-06-02-2025-06-02-2025-06-02-2025-06-02-2025-06-02-2025-06-02-2025-06-02-2025-06-02-2025-06-02-2025-06-02-2025-06-02-2025-06-02-2025-06-02-2025-06-3/
LOCATION:OH
CATEGORIES:Adults
END:VEVENT
BEGIN:VEVENT
DTSTART;TZID=America/New_York:20250805T090000
DTEND;TZID=America/New_York:20250805T120000
DTSTAMP:20260423T151405
CREATED:20250731T132033Z
LAST-MODIFIED:20250731T132033Z
UID:10007575-1754384400-1754395200@marvinlibrary.org
SUMMARY:BAVIN in Use
DESCRIPTION:
URL:https://marvinlibrary.org/event-2/bavin-in-use-129/2025-08-05/
LOCATION:Marvin Memorial Library\, 29 W. Whitney Ave.\, Shelby\, OH\, 44875
CATEGORIES:Community
END:VEVENT
BEGIN:VEVENT
DTSTART;TZID=America/New_York:20250805T180000
DTEND;TZID=America/New_York:20250805T190000
DTSTAMP:20260423T151405
CREATED:20250617T175203Z
LAST-MODIFIED:20250617T175203Z
UID:10007382-1754416800-1754420400@marvinlibrary.org
SUMMARY:Butterflies 101 with Naturalist Kyle Bailey KERR
DESCRIPTION:Join Naturalist\, Kyle Bailey\, as he shares a presentation on Ohio’s butterflies – how to attract them to your yard\, how to find and identify them\, and how to raise them.
URL:https://marvinlibrary.org/event-2/butterflies-101-with-naturalist-kyle-bailey-kerr/
LOCATION:Marvin Memorial Library\, 29 W. Whitney Ave.\, Shelby\, OH\, 44875
CATEGORIES:Community
END:VEVENT
BEGIN:VEVENT
DTSTART;TZID=America/New_York:20250806T090000
DTEND;TZID=America/New_York:20250806T120000
DTSTAMP:20260423T151405
CREATED:20250731T132033Z
LAST-MODIFIED:20250731T132033Z
UID:10007576-1754470800-1754481600@marvinlibrary.org
SUMMARY:BAVIN in Use
DESCRIPTION:
URL:https://marvinlibrary.org/event-2/bavin-in-use-129/2025-08-06/
LOCATION:Marvin Memorial Library\, 29 W. Whitney Ave.\, Shelby\, OH\, 44875
CATEGORIES:Community
END:VEVENT
BEGIN:VEVENT
DTSTART;TZID=America/New_York:20250806T100000
DTEND;TZID=America/New_York:20250806T110000
DTSTAMP:20260423T151405
CREATED:20250508T145318Z
LAST-MODIFIED:20250905T161457Z
UID:10006106-1754474400-1754478000@marvinlibrary.org
SUMMARY:Walking Club
DESCRIPTION:We’ll meet in the lobby every Wednesday at 10:00 AM for Walking Club.\nWear comfortable clothes/walking shoes and we’ll walk for approximately one hour. Feel free to wear wrist or ankle weights and bring a water bottle. If we have bad weather\, or it is cold\, we will follow an indoor walking video.
URL:https://marvinlibrary.org/event-2/walking-club/2025-08-06/
LOCATION:Marvin Memorial Library\, 29 W. Whitney Ave.\, Shelby\, OH\, 44875
CATEGORIES:Adults
END:VEVENT
BEGIN:VEVENT
DTSTART;TZID=America/New_York:20250807T090000
DTEND;TZID=America/New_York:20250807T120000
DTSTAMP:20260423T151405
CREATED:20250731T132033Z
LAST-MODIFIED:20250731T132033Z
UID:10007577-1754557200-1754568000@marvinlibrary.org
SUMMARY:BAVIN in Use
DESCRIPTION:
URL:https://marvinlibrary.org/event-2/bavin-in-use-129/2025-08-07/
LOCATION:Marvin Memorial Library\, 29 W. Whitney Ave.\, Shelby\, OH\, 44875
CATEGORIES:Community
END:VEVENT
BEGIN:VEVENT
DTSTART;TZID=America/New_York:20250807T163000
DTEND;TZID=America/New_York:20250807T193000
DTSTAMP:20260423T151405
CREATED:20250617T181441Z
LAST-MODIFIED:20250617T181441Z
UID:10007383-1754584200-1754595000@marvinlibrary.org
SUMMARY:Friend of Library BOOK SALE
DESCRIPTION:The book sale will be open: \nThursday 4:30 – 7:30\nFriday 9:00 – 4:30\nSaturday 9:00 – 1:30
URL:https://marvinlibrary.org/event-2/friend-of-library-book-sale/2025-08-07/
LOCATION:Marvin Memorial Library\, 29 W. Whitney Ave.\, Shelby\, OH\, 44875
CATEGORIES:Friends of the Library
END:VEVENT
BEGIN:VEVENT
DTSTART;TZID=America/New_York:20250807T170000
DTEND;TZID=America/New_York:20250807T200000
DTSTAMP:20260423T151405
CREATED:20250721T220244Z
LAST-MODIFIED:20250721T220244Z
UID:10006422-1754586000-1754596800@marvinlibrary.org
SUMMARY:KERR inUse
DESCRIPTION:
URL:https://marvinlibrary.org/event-2/kerr-inuse/
LOCATION:Marvin Memorial Library\, 29 W. Whitney Ave.\, Shelby\, OH\, 44875
CATEGORIES:Community
END:VEVENT
END:VCALENDAR