BEGIN:VCALENDAR
VERSION:2.0
PRODID:-//Marvin Memorial Library - ECPv6.15.18//NONSGML v1.0//EN
CALSCALE:GREGORIAN
METHOD:PUBLISH
X-WR-CALNAME:Marvin Memorial Library
X-ORIGINAL-URL:https://marvinlibrary.org
X-WR-CALDESC:Events for Marvin Memorial Library
REFRESH-INTERVAL;VALUE=DURATION:PT1H
X-Robots-Tag:noindex
X-PUBLISHED-TTL:PT1H
BEGIN:VTIMEZONE
TZID:America/New_York
BEGIN:DAYLIGHT
TZOFFSETFROM:-0500
TZOFFSETTO:-0400
TZNAME:EDT
DTSTART:20240310T070000
END:DAYLIGHT
BEGIN:STANDARD
TZOFFSETFROM:-0400
TZOFFSETTO:-0500
TZNAME:EST
DTSTART:20241103T060000
END:STANDARD
BEGIN:DAYLIGHT
TZOFFSETFROM:-0500
TZOFFSETTO:-0400
TZNAME:EDT
DTSTART:20250309T070000
END:DAYLIGHT
BEGIN:STANDARD
TZOFFSETFROM:-0400
TZOFFSETTO:-0500
TZNAME:EST
DTSTART:20251102T060000
END:STANDARD
BEGIN:DAYLIGHT
TZOFFSETFROM:-0500
TZOFFSETTO:-0400
TZNAME:EDT
DTSTART:20260308T070000
END:DAYLIGHT
BEGIN:STANDARD
TZOFFSETFROM:-0400
TZOFFSETTO:-0500
TZNAME:EST
DTSTART:20261101T060000
END:STANDARD
END:VTIMEZONE
BEGIN:VEVENT
DTSTART;TZID=America/New_York:20250421T090000
DTEND;TZID=America/New_York:20250421T120000
DTSTAMP:20260422T030531
CREATED:20250421T135541Z
LAST-MODIFIED:20250421T135541Z
UID:10007263-1745226000-1745236800@marvinlibrary.org
SUMMARY:MPR in Use
DESCRIPTION:
URL:https://marvinlibrary.org/event-2/mpr-in-use-69/
LOCATION:Marvin Memorial Library\, 29 W. Whitney Ave.\, Shelby\, OH\, 44875
CATEGORIES:Community
END:VEVENT
BEGIN:VEVENT
DTSTART;TZID=America/New_York:20250419T103000
DTEND;TZID=America/New_York:20250419T130000
DTSTAMP:20260422T030531
CREATED:20250219T191752Z
LAST-MODIFIED:20250219T191752Z
UID:10007191-1745058600-1745067600@marvinlibrary.org
SUMMARY:Earth Day Carnival KERR
DESCRIPTION:Drop in anytime for a Spring Carnival celebrating the earth! We’ll play games\, make recycled crafts\, plants seeds\, and more! Richland Soil & Water will also be joining us with resources and activities!
URL:https://marvinlibrary.org/event-2/earth-day-carnival-kerr/
LOCATION:Marvin Memorial Library\, 29 W. Whitney Ave.\, Shelby\, OH\, 44875
CATEGORIES:Children
END:VEVENT
BEGIN:VEVENT
DTSTART;TZID=America/New_York:20250419T090000
DTEND;TZID=America/New_York:20250419T140000
DTSTAMP:20260422T030531
CREATED:20250314T192550Z
LAST-MODIFIED:20250314T192823Z
UID:10006061-1745053200-1745071200@marvinlibrary.org
SUMMARY:MPR in Use
DESCRIPTION:
URL:https://marvinlibrary.org/event-2/mpr-in-use-65/
LOCATION:Marvin Memorial Library\, 29 W. Whitney Ave.\, Shelby\, OH\, 44875
CATEGORIES:Community
END:VEVENT
BEGIN:VEVENT
DTSTART;TZID=America/New_York:20250418T150000
DTEND;TZID=America/New_York:20250418T160000
DTSTAMP:20260422T030531
CREATED:20250414T131529Z
LAST-MODIFIED:20250414T131529Z
UID:10007255-1744988400-1744992000@marvinlibrary.org
SUMMARY:BAVIN in Use
DESCRIPTION:
URL:https://marvinlibrary.org/event-2/bavin-in-use-101/2025-04-18/
LOCATION:Marvin Memorial Library\, 29 W. Whitney Ave.\, Shelby\, OH\, 44875
CATEGORIES:Community
END:VEVENT
BEGIN:VEVENT
DTSTART;TZID=America/New_York:20250418T090000
DTEND;TZID=America/New_York:20250418T170000
DTSTAMP:20260422T030531
CREATED:20250219T191530Z
LAST-MODIFIED:20250219T191530Z
UID:10007190-1744966800-1744995600@marvinlibrary.org
SUMMARY:KERR in Use
DESCRIPTION:
URL:https://marvinlibrary.org/event-2/kerr-in-use-43/
LOCATION:Marvin Memorial Library\, 29 W. Whitney Ave.\, Shelby\, OH\, 44875
CATEGORIES:Community
END:VEVENT
BEGIN:VEVENT
DTSTART;TZID=America/New_York:20250417T173000
DTEND;TZID=America/New_York:20250417T183000
DTSTAMP:20260422T030531
CREATED:20250129T153632Z
LAST-MODIFIED:20250129T153632Z
UID:10007164-1744911000-1744914600@marvinlibrary.org
SUMMARY:T.A.C. KERR
DESCRIPTION:TAC meets on the 1st and 3rd Thursday of each month at 5:30.
URL:https://marvinlibrary.org/event-2/t-a-c-kerr-2/2025-04-17/
LOCATION:Marvin Memorial Library\, 29 W. Whitney Ave.\, Shelby\, OH\, 44875
CATEGORIES:Teens
END:VEVENT
BEGIN:VEVENT
DTSTART;TZID=America/New_York:20250417T160000
DTEND;TZID=America/New_York:20250417T173000
DTSTAMP:20260422T030531
CREATED:20250314T192451Z
LAST-MODIFIED:20250314T192451Z
UID:10007242-1744905600-1744911000@marvinlibrary.org
SUMMARY:MPR in Use
DESCRIPTION:
URL:https://marvinlibrary.org/event-2/mpr-in-use-64/
LOCATION:Marvin Memorial Library\, 29 W. Whitney Ave.\, Shelby\, OH\, 44875
CATEGORIES:Community
END:VEVENT
BEGIN:VEVENT
DTSTART;TZID=America/New_York:20250417T153000
DTEND;TZID=America/New_York:20250417T173000
DTSTAMP:20260422T030531
CREATED:20240809T151915Z
LAST-MODIFIED:20240809T151915Z
UID:10006856-1744903800-1744911000@marvinlibrary.org
SUMMARY:Teen Studio KERR
DESCRIPTION:Teens in 7th – 12th grade are welcome to come in after school to work on homework\, play games\, get creative and crafty\, or just hang out with friends.
URL:https://marvinlibrary.org/event-2/teen-studio-kerr-3/2025-04-17/
LOCATION:Marvin Memorial Library\, 29 W. Whitney Ave.\, Shelby\, OH\, 44875
CATEGORIES:Teens
END:VEVENT
BEGIN:VEVENT
DTSTART;TZID=America/New_York:20250417T103000
DTEND;TZID=America/New_York:20250417T113000
DTSTAMP:20260422T030531
CREATED:20240809T144538Z
LAST-MODIFIED:20240809T201751Z
UID:10005621-1744885800-1744889400@marvinlibrary.org
SUMMARY:Story Time  for Ages 2-5
DESCRIPTION:
URL:https://marvinlibrary.org/event-2/story-time-for-ages-2-5-3/2025-04-17/
LOCATION:Marvin Memorial Library\, 29 W. Whitney Ave.\, Shelby\, OH\, 44875
CATEGORIES:Children
END:VEVENT
BEGIN:VEVENT
DTSTART;TZID=America/New_York:20250416T160000
DTEND;TZID=America/New_York:20250416T170000
DTSTAMP:20260422T030531
CREATED:20240809T150136Z
LAST-MODIFIED:20240809T150136Z
UID:10006832-1744819200-1744822800@marvinlibrary.org
SUMMARY:Study Buddies
DESCRIPTION:Get free peer tutoring in the Children’s Department every Wednesday at 4:00 PM.
URL:https://marvinlibrary.org/event-2/study-buddies-5/2025-04-16/
LOCATION:Marvin Memorial Library\, 29 W. Whitney Ave.\, Shelby\, OH\, 44875
CATEGORIES:Children
END:VEVENT
BEGIN:VEVENT
DTSTART;TZID=America/New_York:20250416T130000
DTEND;TZID=America/New_York:20250416T140000
DTSTAMP:20260422T030531
CREATED:20240814T204139Z
LAST-MODIFIED:20250219T191154Z
UID:10006982-1744808400-1744812000@marvinlibrary.org
SUMMARY:Homeschool Program MPR
DESCRIPTION:Calling all homeschoolers! Join us for our Homeschool Program on the 3rd Wednesday of each month at 1:00 PM. This program is best suited for middle school age group\, but can be adjusted for younger kids. The overall theme for the year is “Interesting People”.SEP 18 – Artists: Famous Painters\nOCT 16: Inventors\nNOV 20: Writers\nDEC 18: Animal Protectors\nJAN 15: Change Makers\nFEB 19: Presidents\nMAR 19: Athletes\nAPR 16: Environmentalists\nMAY 21: Musicians \n 
URL:https://marvinlibrary.org/event-2/homeschool-program-5-2025-04-16/
LOCATION:Marvin Memorial Library\, 29 W. Whitney Ave.\, Shelby\, OH\, 44875
CATEGORIES:Children
END:VEVENT
BEGIN:VEVENT
DTSTART;TZID=America/New_York:20250416T110000
DTEND;TZID=America/New_York:20250416T120000
DTSTAMP:20260422T030531
CREATED:20250305T203402Z
LAST-MODIFIED:20250305T203402Z
UID:10007227-1744801200-1744804800@marvinlibrary.org
SUMMARY:Tech It Easy - What Tree Is It? MPR
DESCRIPTION:Whether wandering through the woods or the neighborhood\, users can use What Tree Is It? to identify their surrounding trees by leaf or fruit. Learn more about using this free website digital resource\, at the Tech It Easy class on April 16th.
URL:https://marvinlibrary.org/event-2/tech-it-easy-what-tree-is-it-mpr/
LOCATION:Marvin Memorial Library\, 29 W. Whitney Ave.\, Shelby\, OH\, 44875
CATEGORIES:Adults
END:VEVENT
BEGIN:VEVENT
DTSTART;TZID=America/New_York:20250415T180000
DTEND;TZID=America/New_York:20250415T190000
DTSTAMP:20260422T030531
CREATED:20250219T190752Z
LAST-MODIFIED:20250219T190752Z
UID:10007189-1744740000-1744743600@marvinlibrary.org
SUMMARY:D.I.Y. Design Night MPR
DESCRIPTION:Registration opens April 1st for Upcycled Crafts.
URL:https://marvinlibrary.org/event-2/d-i-y-design-night-mpr/
LOCATION:Marvin Memorial Library\, 29 W. Whitney Ave.\, Shelby\, OH\, 44875
CATEGORIES:Adults
END:VEVENT
BEGIN:VEVENT
DTSTART;TZID=America/New_York:20250415T173000
DTEND;TZID=America/New_York:20250415T183000
DTSTAMP:20260422T030531
CREATED:20250327T185800Z
LAST-MODIFIED:20250327T193837Z
UID:10007243-1744738200-1744741800@marvinlibrary.org
SUMMARY:Teach Me Tuesday KERR
DESCRIPTION:Teens in 7th – 12th grade are welcome to join us for Teach Me Tuesdays.  We will be learning something new each month!
URL:https://marvinlibrary.org/event-2/teach-me-tuesday-kerr/
LOCATION:Marvin Memorial Library\, 29 W. Whitney Ave.\, Shelby\, OH\, 44875
CATEGORIES:Teens
END:VEVENT
BEGIN:VEVENT
DTSTART;TZID=America/New_York:20250415T160000
DTEND;TZID=America/New_York:20250415T170000
DTSTAMP:20260422T030531
CREATED:20250731T135325Z
LAST-MODIFIED:20250731T135325Z
UID:10006799-1744732800-1744736400@marvinlibrary.org
SUMMARY:Builders Club
DESCRIPTION:Bring the whole family and join us twice a month to test your building skills. We’ll have monthly challenges and themes.
URL:https://marvinlibrary.org/event-2/builders-club-2/2025-04-15/
LOCATION:Marvin Memorial Library\, 29 W. Whitney Ave.\, Shelby\, OH\, 44875
CATEGORIES:Family
END:VEVENT
BEGIN:VEVENT
DTSTART;TZID=America/New_York:20250415T103000
DTEND;TZID=America/New_York:20250415T113000
DTSTAMP:20260422T030531
CREATED:20240809T144538Z
LAST-MODIFIED:20240809T201751Z
UID:10005620-1744713000-1744716600@marvinlibrary.org
SUMMARY:Story Time  for Ages 2-5
DESCRIPTION:
URL:https://marvinlibrary.org/event-2/story-time-for-ages-2-5-3/2025-04-15/
LOCATION:Marvin Memorial Library\, 29 W. Whitney Ave.\, Shelby\, OH\, 44875
CATEGORIES:Children
END:VEVENT
BEGIN:VEVENT
DTSTART;TZID=America/New_York:20250415T090000
DTEND;TZID=America/New_York:20250415T120000
DTSTAMP:20260422T030531
CREATED:20241112T175218Z
LAST-MODIFIED:20250219T191003Z
UID:10007044-1744707600-1744718400@marvinlibrary.org
SUMMARY:MPR in Use
DESCRIPTION:
URL:https://marvinlibrary.org/event-2/bavin-in-use-75-2025-04-15/
LOCATION:Marvin Memorial Library\, 29 W. Whitney Ave.\, Shelby\, OH\, 44875
CATEGORIES:Community
END:VEVENT
BEGIN:VEVENT
DTSTART;TZID=America/New_York:20250414T180000
DTEND;TZID=America/New_York:20250414T190000
DTSTAMP:20260422T030531
CREATED:20250305T202611Z
LAST-MODIFIED:20250305T202611Z
UID:10007226-1744653600-1744657200@marvinlibrary.org
SUMMARY:Coffee Tasting with The Blueberry Patch *RR MPR
DESCRIPTION:Lisa\, from the Blueberry Patch Restaurant will be joining us to talk about and let us sample different coffee flavors. Register by calling 419-347-5576.
URL:https://marvinlibrary.org/event-2/coffee-tasting-with-the-blueberry-patch-rr-mpr/
LOCATION:Marvin Memorial Library\, 29 W. Whitney Ave.\, Shelby\, OH\, 44875
CATEGORIES:Adults
END:VEVENT
BEGIN:VEVENT
DTSTART;TZID=America/New_York:20250414T180000
DTEND;TZID=America/New_York:20250414T190000
DTSTAMP:20260422T030531
CREATED:20240809T204018Z
LAST-MODIFIED:20240809T204634Z
UID:10006940-1744653600-1744657200@marvinlibrary.org
SUMMARY:Family Story Time
DESCRIPTION:Bring all of the kids and join us for stories\, games\, crafts\, and snacks.
URL:https://marvinlibrary.org/event-2/family-story-time-37/2025-04-14/
LOCATION:Marvin Memorial Library\, 29 W. Whitney Ave.\, Shelby\, OH\, 44875
CATEGORIES:Family
END:VEVENT
BEGIN:VEVENT
DTSTART;TZID=America/New_York:20250414T153000
DTEND;TZID=America/New_York:20250414T173000
DTSTAMP:20260422T030532
CREATED:20240809T153044Z
LAST-MODIFIED:20250219T184949Z
UID:10006901-1744644600-1744651800@marvinlibrary.org
SUMMARY:Teen Studio KERR
DESCRIPTION:Teens in 7th – 12th grade are welcome to come in after school to work on homework\, play games\, get creative and crafty\, or just hang out with friends.
URL:https://marvinlibrary.org/event-2/teen-studio-2-2025-04-14/
LOCATION:Marvin Memorial Library\, 29 W. Whitney Ave.\, Shelby\, OH\, 44875
CATEGORIES:Teens
END:VEVENT
BEGIN:VEVENT
DTSTART;TZID=America/New_York:20250414T130000
DTEND;TZID=America/New_York:20250414T140000
DTSTAMP:20260422T030532
CREATED:20241118T222714Z
LAST-MODIFIED:20241118T224622Z
UID:10007106-1744635600-1744639200@marvinlibrary.org
SUMMARY:Cookbook Club MPR
DESCRIPTION:“Off the Shelf” Cookbook Club meets on the 2nd Monday of each month at 1:00 PM.  Bring a dish of themed food and the recipe to share. Join anytime!\n2025 Themes:\nJan 13 Soup Swap\nFeb 10: Breakfast\nMar 10: International\nApr 14: Easter\nMay 13: Mexican\nSept 8: Tailgate\nOct 13: Food from a Book\nNov 10: Thanksgiving\nDec 8: Holiday Party
URL:https://marvinlibrary.org/event-2/cookbook-club-mpr/2025-04-14/
LOCATION:Marvin Memorial Library\, 29 W. Whitney Ave.\, Shelby\, OH\, 44875
CATEGORIES:Adults
END:VEVENT
BEGIN:VEVENT
DTSTART;TZID=America/New_York:20250412T110000
DTEND;TZID=America/New_York:20250412T120000
DTSTAMP:20260422T030532
CREATED:20250305T201412Z
LAST-MODIFIED:20250305T201656Z
UID:10007225-1744455600-1744459200@marvinlibrary.org
SUMMARY:Crafturday KERR
DESCRIPTION:Join us in the Kerr Garden Room to make recylcable crafts.
URL:https://marvinlibrary.org/event-2/crafturday-kerr/
LOCATION:Marvin Memorial Library\, 29 W. Whitney Ave.\, Shelby\, OH\, 44875
CATEGORIES:Children
END:VEVENT
BEGIN:VEVENT
DTSTART;TZID=America/New_York:20250412T093000
DTEND;TZID=America/New_York:20250412T130000
DTSTAMP:20260422T030532
CREATED:20250226T205808Z
LAST-MODIFIED:20250314T192300Z
UID:10006032-1744450200-1744462800@marvinlibrary.org
SUMMARY:Author Fair
DESCRIPTION:Check back for more information as the event gets closer.
URL:https://marvinlibrary.org/event-2/author-fair-2/
LOCATION:Marvin Memorial Library\, 29 W. Whitney Ave.\, Shelby\, OH\, 44875
CATEGORIES:Community
END:VEVENT
BEGIN:VEVENT
DTSTART;TZID=America/New_York:20250412T090000
DTEND;TZID=America/New_York:20250412T134500
DTSTAMP:20260422T030532
CREATED:20250219T164824Z
LAST-MODIFIED:20250305T195233Z
UID:10007187-1744448400-1744465500@marvinlibrary.org
SUMMARY:*BOOK SALE* MPR
DESCRIPTION:
URL:https://marvinlibrary.org/event-2/book-sale-mpr/2025-04-12/
LOCATION:Marvin Memorial Library\, 29 W. Whitney Ave.\, Shelby\, OH\, 44875
CATEGORIES:Friends of the Library
END:VEVENT
BEGIN:VEVENT
DTSTART;TZID=America/New_York:20250411T130000
DTEND;TZID=America/New_York:20250411T160000
DTSTAMP:20260422T030532
CREATED:20250219T164935Z
LAST-MODIFIED:20250219T164935Z
UID:10007188-1744376400-1744387200@marvinlibrary.org
SUMMARY:KERR in Use
DESCRIPTION:
URL:https://marvinlibrary.org/event-2/kerr-in-use-42/
LOCATION:Marvin Memorial Library\, 29 W. Whitney Ave.\, Shelby\, OH\, 44875
CATEGORIES:Community
END:VEVENT
BEGIN:VEVENT
DTSTART;TZID=America/New_York:20250411T090000
DTEND;TZID=America/New_York:20250411T164500
DTSTAMP:20260422T030532
CREATED:20250219T164824Z
LAST-MODIFIED:20250305T195233Z
UID:10007186-1744362000-1744389900@marvinlibrary.org
SUMMARY:*BOOK SALE* MPR
DESCRIPTION:
URL:https://marvinlibrary.org/event-2/book-sale-mpr/2025-04-11/
LOCATION:Marvin Memorial Library\, 29 W. Whitney Ave.\, Shelby\, OH\, 44875
CATEGORIES:Friends of the Library
END:VEVENT
BEGIN:VEVENT
DTSTART;TZID=America/New_York:20250410T180000
DTEND;TZID=America/New_York:20250410T190000
DTSTAMP:20260422T030532
CREATED:20250305T195806Z
LAST-MODIFIED:20250305T195806Z
UID:10007224-1744308000-1744311600@marvinlibrary.org
SUMMARY:Line Dancing *RR KERR
DESCRIPTION:
URL:https://marvinlibrary.org/event-2/line-dancing-rr-kerr/
LOCATION:Marvin Memorial Library\, 29 W. Whitney Ave.\, Shelby\, OH\, 44875
CATEGORIES:Adults
END:VEVENT
BEGIN:VEVENT
DTSTART;TZID=America/New_York:20250410T180000
DTEND;TZID=America/New_York:20250410T190000
DTSTAMP:20260422T030532
CREATED:20250108T001434Z
LAST-MODIFIED:20250305T194901Z
UID:10007169-1744308000-1744311600@marvinlibrary.org
SUMMARY:The Reading Room (Main Floor)
DESCRIPTION:The Reading Room Book Club (formerly Book Vault) meets at the library on the 2nd Thurs. of even numbered months at 6:00 PM. Join any time!\n2025 Themes are:\nFeb 13: Written by an African-American Author\nApril 10: A Color in the Title\nJune 12: Published the Year You Graduated High School\nAug 14: A Beach Read\nOct 9: Haunted Ohio\nDec 11: Winter/Holidays in other Cultures or Major Weather Events
URL:https://marvinlibrary.org/event-2/the-reading-room-book-club-mpr-2025-04-10-908/
LOCATION:Marvin Memorial Library\, 29 W. Whitney Ave.\, Shelby\, OH\, 44875
CATEGORIES:Adults
END:VEVENT
BEGIN:VEVENT
DTSTART;TZID=America/New_York:20250410T173000
DTEND;TZID=America/New_York:20250410T183000
DTSTAMP:20260422T030532
CREATED:20250305T195035Z
LAST-MODIFIED:20250314T205255Z
UID:10007222-1744306200-1744309800@marvinlibrary.org
SUMMARY:TAC Officers
DESCRIPTION:
URL:https://marvinlibrary.org/event-2/tac-officers-bavin/
LOCATION:Marvin Memorial Library\, 29 W. Whitney Ave.\, Shelby\, OH\, 44875
CATEGORIES:Teens
END:VEVENT
BEGIN:VEVENT
DTSTART;TZID=America/New_York:20250410T163000
DTEND;TZID=America/New_York:20250410T193000
DTSTAMP:20260422T030532
CREATED:20250219T164824Z
LAST-MODIFIED:20250305T195233Z
UID:10007185-1744302600-1744313400@marvinlibrary.org
SUMMARY:*BOOK SALE* MPR
DESCRIPTION:
URL:https://marvinlibrary.org/event-2/book-sale-mpr/2025-04-10/
LOCATION:Marvin Memorial Library\, 29 W. Whitney Ave.\, Shelby\, OH\, 44875
CATEGORIES:Friends of the Library
END:VEVENT
END:VCALENDAR