BEGIN:VCALENDAR
VERSION:2.0
PRODID:-//Marvin Memorial Library - ECPv6.15.18//NONSGML v1.0//EN
CALSCALE:GREGORIAN
METHOD:PUBLISH
X-WR-CALNAME:Marvin Memorial Library
X-ORIGINAL-URL:https://marvinlibrary.org
X-WR-CALDESC:Events for Marvin Memorial Library
REFRESH-INTERVAL;VALUE=DURATION:PT1H
X-Robots-Tag:noindex
X-PUBLISHED-TTL:PT1H
BEGIN:VTIMEZONE
TZID:America/New_York
BEGIN:DAYLIGHT
TZOFFSETFROM:-0500
TZOFFSETTO:-0400
TZNAME:EDT
DTSTART:20240310T070000
END:DAYLIGHT
BEGIN:STANDARD
TZOFFSETFROM:-0400
TZOFFSETTO:-0500
TZNAME:EST
DTSTART:20241103T060000
END:STANDARD
BEGIN:DAYLIGHT
TZOFFSETFROM:-0500
TZOFFSETTO:-0400
TZNAME:EDT
DTSTART:20250309T070000
END:DAYLIGHT
BEGIN:STANDARD
TZOFFSETFROM:-0400
TZOFFSETTO:-0500
TZNAME:EST
DTSTART:20251102T060000
END:STANDARD
BEGIN:DAYLIGHT
TZOFFSETFROM:-0500
TZOFFSETTO:-0400
TZNAME:EDT
DTSTART:20260308T070000
END:DAYLIGHT
BEGIN:STANDARD
TZOFFSETFROM:-0400
TZOFFSETTO:-0500
TZNAME:EST
DTSTART:20261101T060000
END:STANDARD
END:VTIMEZONE
BEGIN:VEVENT
DTSTART;TZID=America/New_York:20250903T093000
DTEND;TZID=America/New_York:20250903T233000
DTSTAMP:20260424T031633
CREATED:20250902T202732Z
LAST-MODIFIED:20250902T202732Z
UID:10007995-1756891800-1756942200@marvinlibrary.org
SUMMARY:KERR in Use
DESCRIPTION:
URL:https://marvinlibrary.org/event-2/kerr-in-use-51/
LOCATION:Marvin Memorial Library\, 29 W. Whitney Ave.\, Shelby\, OH\, 44875
CATEGORIES:Community
END:VEVENT
BEGIN:VEVENT
DTSTART;TZID=America/New_York:20250903T100000
DTEND;TZID=America/New_York:20250903T110000
DTSTAMP:20260424T031633
CREATED:20250508T145318Z
LAST-MODIFIED:20250905T161457Z
UID:10006110-1756893600-1756897200@marvinlibrary.org
SUMMARY:Walking Club
DESCRIPTION:We’ll meet in the lobby every Wednesday at 10:00 AM for Walking Club.\nWear comfortable clothes/walking shoes and we’ll walk for approximately one hour. Feel free to wear wrist or ankle weights and bring a water bottle. If we have bad weather\, or it is cold\, we will follow an indoor walking video.
URL:https://marvinlibrary.org/event-2/walking-club/2025-09-03/
LOCATION:Marvin Memorial Library\, 29 W. Whitney Ave.\, Shelby\, OH\, 44875
CATEGORIES:Adults
END:VEVENT
BEGIN:VEVENT
DTSTART;TZID=America/New_York:20250903T140000
DTEND;TZID=America/New_York:20250903T150000
DTSTAMP:20260424T031633
CREATED:20250903T180245Z
LAST-MODIFIED:20250903T180245Z
UID:10008007-1756908000-1756911600@marvinlibrary.org
SUMMARY:BAVIN in Use
DESCRIPTION:
URL:https://marvinlibrary.org/event-2/bavin-in-use-134/
LOCATION:Marvin Memorial Library\, 29 W. Whitney Ave.\, Shelby\, OH\, 44875
CATEGORIES:Community
END:VEVENT
BEGIN:VEVENT
DTSTART;TZID=America/New_York:20250903T160000
DTEND;TZID=America/New_York:20250903T170000
DTSTAMP:20260424T031633
CREATED:20250811T225013Z
LAST-MODIFIED:20260123T193951Z
UID:10007728-1756915200-1756918800@marvinlibrary.org
SUMMARY:Picture Book Club for Families STR
DESCRIPTION:Picture Book Club is for families who enjoy sharing about their favorite picture books or finding new ones.  Join us on the 1 Wednesday of each month at 4:00pm in the Story Time Room in the Children’s Department.  We’ll talk about the following themes or authors:\nSept – Mo Willems\nOct Halloween – Favorites\nNov – Patricia Polacco\nDec – Holiday Favorites\nJan – Favorite Character\nFeb – Jan Brett
URL:https://marvinlibrary.org/event-2/picture-book-club-for-families/2025-09-03/
LOCATION:Marvin Memorial Library\, 29 W. Whitney Ave.\, Shelby\, OH\, 44875
CATEGORIES:Family
END:VEVENT
BEGIN:VEVENT
DTSTART;TZID=America/New_York:20250904T080000
DTEND;TZID=America/New_York:20250904T170000
DTSTAMP:20260424T031633
CREATED:20250812T151441Z
LAST-MODIFIED:20251017T180759Z
UID:10008204-1756972800-1757005200@marvinlibrary.org
SUMMARY:Teen Advisory Council Meeting *RR KERR
DESCRIPTION:T.A.C. meets on the first Thursday of each month at 5:30 in the Kerr Garden Room. (Story Time Room in winter months)\n\nTAC holds regular meetings\, elects officers and plans and executes the teen activities at the library. Join us!\n\n2025-2026 Meeting Dates\n Sept. 4 TAC\nSept. 18 – Officers\nOct. 2 TAC\nOct. 16 Officers\nNov. 6 TAC\nNov. 20 Officers\nDec. 4 TAC\nDec. 18 Officers\nJan. 8 TAC\nJan. 22 Officers\nFeb. 5 TAC\nFeb. 19 Officers\nMar. 5 TAC\nMar. 19 Officers\nApr. 2 TAC\nApr. 16 Officers\nMay 7 TAC\nMay 21 Officers
URL:https://marvinlibrary.org/event-2/teen-advisory-council-meeting-rr-kerr/2025-09-04/1/
LOCATION:Marvin Memorial Library\, 29 W. Whitney Ave.\, Shelby\, OH\, 44875
CATEGORIES:Teens
END:VEVENT
BEGIN:VEVENT
DTSTART;TZID=America/New_York:20250904T103000
DTEND;TZID=America/New_York:20250904T113000
DTSTAMP:20260424T031633
CREATED:20250721T223627Z
LAST-MODIFIED:20260407T142208Z
UID:10007497-1756981800-1756985400@marvinlibrary.org
SUMMARY:Story Time Ages 2-5 STR
DESCRIPTION:Story Times consist of books\, games\, crafts\, music and lots of fun!
URL:https://marvinlibrary.org/event-2/story-time-for-ages-2-5-6/2025-09-04/
LOCATION:Marvin Memorial Library\, 29 W. Whitney Ave.\, Shelby\, OH\, 44875
CATEGORIES:Pre-school
END:VEVENT
BEGIN:VEVENT
DTSTART;TZID=America/New_York:20250904T130000
DTEND;TZID=America/New_York:20250904T140000
DTSTAMP:20260424T031633
CREATED:20250812T145637Z
LAST-MODIFIED:20251013T210141Z
UID:10007737-1756990800-1756994400@marvinlibrary.org
SUMMARY:Homeschool Book Club MPR
DESCRIPTION:Bring your homeschoolers and join us for our Book Club on the first Thursday of each month at 1:00 in the Multipurpose Room.  Each month will discuss a theme and have an activity that matches.
URL:https://marvinlibrary.org/event-2/homeschool-book-club-mpr/2025-09-04/
LOCATION:Marvin Memorial Library\, 29 W. Whitney Ave.\, Shelby\, OH\, 44875
CATEGORIES:Family
END:VEVENT
BEGIN:VEVENT
DTSTART;TZID=America/New_York:20250904T173000
DTEND;TZID=America/New_York:20250904T183000
DTSTAMP:20260424T031633
CREATED:20250812T151441Z
LAST-MODIFIED:20251017T180759Z
UID:10007746-1757007000-1757010600@marvinlibrary.org
SUMMARY:Teen Advisory Council Meeting *RR KERR
DESCRIPTION:T.A.C. meets on the first Thursday of each month at 5:30 in the Kerr Garden Room. (Story Time Room in winter months)\n\nTAC holds regular meetings\, elects officers and plans and executes the teen activities at the library. Join us!\n\n2025-2026 Meeting Dates\n Sept. 4 TAC\nSept. 18 – Officers\nOct. 2 TAC\nOct. 16 Officers\nNov. 6 TAC\nNov. 20 Officers\nDec. 4 TAC\nDec. 18 Officers\nJan. 8 TAC\nJan. 22 Officers\nFeb. 5 TAC\nFeb. 19 Officers\nMar. 5 TAC\nMar. 19 Officers\nApr. 2 TAC\nApr. 16 Officers\nMay 7 TAC\nMay 21 Officers
URL:https://marvinlibrary.org/event-2/teen-advisory-council-meeting-rr-kerr/2025-09-04/2/
LOCATION:Marvin Memorial Library\, 29 W. Whitney Ave.\, Shelby\, OH\, 44875
CATEGORIES:Teens
END:VEVENT
BEGIN:VEVENT
DTSTART;TZID=America/New_York:20250905T100000
DTEND;TZID=America/New_York:20250905T120000
DTSTAMP:20260424T031633
CREATED:20250521T190558Z
LAST-MODIFIED:20250910T172513Z
UID:10006255-1757066400-1757073600@marvinlibrary.org
SUMMARY:Free Blood Pressure & Blood Glucose Testing
DESCRIPTION:Stop by the library every Friday morning from 10:00AM to 12:00 PM for a free blood pressure and/or blood glucose check with the Shelby Health Department’s Director of Nursing. Get health tips and free information.
URL:https://marvinlibrary.org/event-2/free-blood-pressure-blood-glucose-testing/2025-09-05/
LOCATION:Marvin Memorial Library\, 29 W. Whitney Ave.\, Shelby\, OH\, 44875
CATEGORIES:Community
END:VEVENT
BEGIN:VEVENT
DTSTART;TZID=America/New_York:20250905T103000
DTEND;TZID=America/New_York:20250905T113000
DTSTAMP:20260424T031633
CREATED:20250721T223900Z
LAST-MODIFIED:20260407T144335Z
UID:10007535-1757068200-1757071800@marvinlibrary.org
SUMMARY:Music & Movement for Ages 0-5 MPR
DESCRIPTION:Music & Movement is for children 0-5\, where they’ll engage in both physical activity and the creation of music while having interaction with their caregivers.
URL:https://marvinlibrary.org/event-2/music-movement-for-ages-0-5/2025-09-05/
LOCATION:Marvin Memorial Library\, 29 W. Whitney Ave.\, Shelby\, OH\, 44875
CATEGORIES:Pre-school
END:VEVENT
BEGIN:VEVENT
DTSTART;TZID=America/New_York:20250908T100000
DTEND;TZID=America/New_York:20250908T110000
DTSTAMP:20260424T031633
CREATED:20250711T202045Z
LAST-MODIFIED:20260407T142000Z
UID:10006383-1757325600-1757329200@marvinlibrary.org
SUMMARY:Lap Sit Story Time for Ages 0-2 STR
DESCRIPTION:Join us in the Story Time Room at 10:00 am every Monday for Lap Sit Story Time.  For children ages 0-2 and their caregivers\, Lap Sit will focus on connecting with baby through lap time\, books\, songs\, bubbles\, and more!
URL:https://marvinlibrary.org/event-2/lap-sit-story-time-for-ages-0-2/2025-09-08/
LOCATION:Marvin Memorial Library\, 29 W. Whitney Ave.\, Shelby\, OH\, 44875
CATEGORIES:Pre-school
END:VEVENT
BEGIN:VEVENT
DTSTART;TZID=America/New_York:20250908T130000
DTEND;TZID=America/New_York:20250908T140000
DTSTAMP:20260424T031633
CREATED:20241118T222714Z
LAST-MODIFIED:20241118T224622Z
UID:10007108-1757336400-1757340000@marvinlibrary.org
SUMMARY:Cookbook Club MPR
DESCRIPTION:“Off the Shelf” Cookbook Club meets on the 2nd Monday of each month at 1:00 PM.  Bring a dish of themed food and the recipe to share. Join anytime!\n2025 Themes:\nJan 13 Soup Swap\nFeb 10: Breakfast\nMar 10: International\nApr 14: Easter\nMay 13: Mexican\nSept 8: Tailgate\nOct 13: Food from a Book\nNov 10: Thanksgiving\nDec 8: Holiday Party
URL:https://marvinlibrary.org/event-2/cookbook-club-mpr/2025-09-08/
LOCATION:Marvin Memorial Library\, 29 W. Whitney Ave.\, Shelby\, OH\, 44875
CATEGORIES:Adults
END:VEVENT
BEGIN:VEVENT
DTSTART;TZID=America/New_York:20250908T160000
DTEND;TZID=America/New_York:20250908T170000
DTSTAMP:20260424T031633
CREATED:20250812T155059Z
LAST-MODIFIED:20250821T195213Z
UID:10007773-1757347200-1757350800@marvinlibrary.org
SUMMARY:Study Buddies CD
DESCRIPTION:Need Homework help? Stop by the Children’s Dept on Mondays at 4:00 for peer tutoring.  Best suited for K-6th grade\, you can sign up to get help in specific areas or just stop by when help is needed.  Stop by the front desk or the Children’s Department Office to sign up to be a helper.
URL:https://marvinlibrary.org/event-2/study-buddies-cd/2025-09-08/
LOCATION:Marvin Memorial Library\, 29 W. Whitney Ave.\, Shelby\, OH\, 44875
CATEGORIES:Children
END:VEVENT
BEGIN:VEVENT
DTSTART;TZID=America/New_York:20250908T170000
DTEND;TZID=America/New_York:20250908T180000
DTSTAMP:20260424T031633
CREATED:20241118T195834Z
LAST-MODIFIED:20250910T191432Z
UID:10007057-1757350800-1757354400@marvinlibrary.org
SUMMARY:Book & Bean KERR
DESCRIPTION:Theme driven book club that meets on the 1st Monday of each month at 5pm. Join any time.\n2025 Themes:\nJan 6: Snow & Winter\nFeb 3: Futuristic Romance\nMar 3: A Book You’d Recommend to a Stranger\nApr 7: Food in the Title\nMay 5: Published the Year You Graduated\nJun 2: Second Chance (A Book You Didn’t Finish)\nJul 7: Blue (Cover\, Title\, Character Name\, etc.)\nAug 4: Published Over 100 Years Ago\nSept 8: A Banned Book (Closed Sept. 1)\nOct 6: Title TBD\nNov 3: School Reading List Classic\nDec 1: Blizzards and Frozen Things
URL:https://marvinlibrary.org/event-2/book-bean-kerr/2025-09-08/
LOCATION:Marvin Memorial Library\, 29 W. Whitney Ave.\, Shelby\, OH\, 44875
CATEGORIES:Adults
END:VEVENT
BEGIN:VEVENT
DTSTART;TZID=America/New_York:20250908T180000
DTEND;TZID=America/New_York:20250908T193000
DTSTAMP:20260424T031633
CREATED:20250821T194112Z
LAST-MODIFIED:20251013T213659Z
UID:10007936-1757354400-1757359800@marvinlibrary.org
SUMMARY:Kids Cook *RR MPR
DESCRIPTION:Call 419-347-5576 to register your K-6th Grader for Kids Cook! We’ll be learning basic cooking skills.\nUpcoming Themes:\nSept 8 – Basic Skills Overview I\nOct 13 – Basic Skills Overview II\nNov 10 – Homemade Hot Pockets\nDec 8 – Cookies\nJan – Soup\nFeb – Brownies
URL:https://marvinlibrary.org/event-2/kids-cook-rr-mpr/2025-09-08/
LOCATION:Marvin Memorial Library\, 29 W. Whitney Ave.\, Shelby\, OH\, 44875
CATEGORIES:Children
END:VEVENT
BEGIN:VEVENT
DTSTART;TZID=America/New_York:20250909T090000
DTEND;TZID=America/New_York:20250909T130000
DTSTAMP:20260424T031633
CREATED:20250902T202526Z
LAST-MODIFIED:20250902T202526Z
UID:10007960-1757408400-1757422800@marvinlibrary.org
SUMMARY:MPR in Use
DESCRIPTION:
URL:https://marvinlibrary.org/event-2/mpr-in-use-81/2025-09-09/
LOCATION:Marvin Memorial Library\, 29 W. Whitney Ave.\, Shelby\, OH\, 44875
CATEGORIES:Community
END:VEVENT
BEGIN:VEVENT
DTSTART;TZID=America/New_York:20250909T103000
DTEND;TZID=America/New_York:20250909T113000
DTSTAMP:20260424T031633
CREATED:20250721T221355Z
LAST-MODIFIED:20260407T142357Z
UID:10006430-1757413800-1757417400@marvinlibrary.org
SUMMARY:Story Time Ages 2-5 STR
DESCRIPTION:Story Times consist of books\, games\, toys\, crafts\, music\, and lots of fun!
URL:https://marvinlibrary.org/event-2/story-time-for-ages-2-5-4/2025-09-09/
LOCATION:Marvin Memorial Library\, 29 W. Whitney Ave.\, Shelby\, OH\, 44875
CATEGORIES:Pre-school
END:VEVENT
BEGIN:VEVENT
DTSTART;TZID=America/New_York:20250909T130000
DTEND;TZID=America/New_York:20250909T140000
DTSTAMP:20260424T031633
CREATED:20250721T221511Z
LAST-MODIFIED:20260123T193357Z
UID:10007457-1757422800-1757426400@marvinlibrary.org
SUMMARY:Story Time Ages 2-5 STR
DESCRIPTION:Story Times consist of books\, games\, toys\, crafts\, music\, and lots of fun!
URL:https://marvinlibrary.org/event-2/story-time-for-ages-2-5-5/2025-09-09/
LOCATION:Marvin Memorial Library\, 29 W. Whitney Ave.\, Shelby\, OH\, 44875
CATEGORIES:Pre-school
END:VEVENT
BEGIN:VEVENT
DTSTART;TZID=America/New_York:20250909T160000
DTEND;TZID=America/New_York:20250909T170000
DTSTAMP:20260424T031633
CREATED:20241226T210554Z
LAST-MODIFIED:20251015T182329Z
UID:10007134-1757433600-1757437200@marvinlibrary.org
SUMMARY:Board of Trustees Meeting BAVIN
DESCRIPTION:
URL:https://marvinlibrary.org/event-2/board-of-trustees-meeting-mpr-2/2025-09-09/
LOCATION:Marvin Memorial Library\, 29 W. Whitney Ave.\, Shelby\, OH\, 44875
CATEGORIES:Community
END:VEVENT
BEGIN:VEVENT
DTSTART;TZID=America/New_York:20250909T160000
DTEND;TZID=America/New_York:20250909T170000
DTSTAMP:20260424T031633
CREATED:20250812T182952Z
LAST-MODIFIED:20250812T182952Z
UID:10007814-1757433600-1757437200@marvinlibrary.org
SUMMARY:Artists' Club CD
DESCRIPTION:Every Other Tuesday at 4:00\nChildren’s Department\n\n2025-2026 Themes:\nSept. 9 & 23 – Colors\nOct. 14 & 28 – Lines\nNov. 11 & 25 – Shapes\nDec. 9 – Patterns\nJan. 13 & 27 – Textures\nFeb. 10 & 24 – Painting\nMar. 10 & 24 – Drawing\nApr. 14 & 28 – Collage\nMay12 & 26 – Free Art
URL:https://marvinlibrary.org/event-2/artists-club-cd/2025-09-09/
LOCATION:Marvin Memorial Library\, 29 W. Whitney Ave.\, Shelby\, OH\, 44875
CATEGORIES:Family
END:VEVENT
BEGIN:VEVENT
DTSTART;TZID=America/New_York:20250909T180000
DTEND;TZID=America/New_York:20250909T190000
DTSTAMP:20260424T031633
CREATED:20250812T160912Z
LAST-MODIFIED:20260408T155622Z
UID:10007805-1757440800-1757444400@marvinlibrary.org
SUMMARY:Book Bingo MPR
DESCRIPTION:  \n2nd Tuesday of Each Month\n6:00 PM\nMultipurpose Room\nOpen to All Ages\n\n2025 – 2026 Dates\nSept. 9\nOct. 14\nNov. 11\nDec. 9\nJan. 14\nFeb. 11\nMar. 11\nApr. 8\nMay 13
URL:https://marvinlibrary.org/event-2/bobs-book-bingo-mpr-3/2025-09-09/
LOCATION:Marvin Memorial Library\, 29 W. Whitney Ave.\, Shelby\, OH\, 44875
CATEGORIES:Family
END:VEVENT
BEGIN:VEVENT
DTSTART;TZID=America/New_York:20250910T093000
DTEND;TZID=America/New_York:20250910T130000
DTSTAMP:20260424T031633
CREATED:20250902T202941Z
LAST-MODIFIED:20250902T202941Z
UID:10007996-1757496600-1757509200@marvinlibrary.org
SUMMARY:MPR in Use
DESCRIPTION:
URL:https://marvinlibrary.org/event-2/mpr-in-use-82/
LOCATION:Marvin Memorial Library\, 29 W. Whitney Ave.\, Shelby\, OH\, 44875
CATEGORIES:Community
END:VEVENT
BEGIN:VEVENT
DTSTART;TZID=America/New_York:20250910T100000
DTEND;TZID=America/New_York:20250910T110000
DTSTAMP:20260424T031633
CREATED:20250508T145318Z
LAST-MODIFIED:20250905T161457Z
UID:10006111-1757498400-1757502000@marvinlibrary.org
SUMMARY:Walking Club
DESCRIPTION:We’ll meet in the lobby every Wednesday at 10:00 AM for Walking Club.\nWear comfortable clothes/walking shoes and we’ll walk for approximately one hour. Feel free to wear wrist or ankle weights and bring a water bottle. If we have bad weather\, or it is cold\, we will follow an indoor walking video.
URL:https://marvinlibrary.org/event-2/walking-club/2025-09-10/
LOCATION:Marvin Memorial Library\, 29 W. Whitney Ave.\, Shelby\, OH\, 44875
CATEGORIES:Adults
END:VEVENT
BEGIN:VEVENT
DTSTART;TZID=America/New_York:20250910T130000
DTEND;TZID=America/New_York:20250910T140000
DTSTAMP:20260424T031633
CREATED:20250611T155627Z
LAST-MODIFIED:20250611T161420Z
UID:10006358-1757509200-1757512800@marvinlibrary.org
SUMMARY:Cover to Cover Book Club MPR
DESCRIPTION:Cover to Cover meets on the 2nd Wednesday of each month at 1:00 PM. No need to register; join any time.
URL:https://marvinlibrary.org/event-2/cover-to-cover-book-club/2025-09-10/
LOCATION:Marvin Memorial Library\, 29 W. Whitney Ave.\, Shelby\, OH\, 44875
CATEGORIES:Adults
END:VEVENT
BEGIN:VEVENT
DTSTART;TZID=America/New_York:20250910T160000
DTEND;TZID=America/New_York:20250910T170000
DTSTAMP:20260424T031633
CREATED:20250813T165541Z
LAST-MODIFIED:20260417T192000Z
UID:10007831-1757520000-1757523600@marvinlibrary.org
SUMMARY:Science Club MPR
DESCRIPTION:K-6th Grade\nEvery Other Wednesday at 4:00 PM\nIn the Multipurpose Room\nWe’ll be doing science experiments where we’ll learn by doing. \nEarth Science\nSept 10th & 24\nOct 8th & 22nd\nNov 12th & 26th\nAstronomy\nDec 10th\nJan 14th & 26th\nFeb 11th & 25th\nEcology\nMar 11th & 25th\nApr 8th & 22nd\nMay 13th & 27th
URL:https://marvinlibrary.org/event-2/science-club-mpr/2025-09-10/
LOCATION:Marvin Memorial Library\, 29 W. Whitney Ave.\, Shelby\, OH\, 44875
CATEGORIES:Children
END:VEVENT
BEGIN:VEVENT
DTSTART;TZID=America/New_York:20250910T170000
DTEND;TZID=America/New_York:20250910T200000
DTSTAMP:20260424T031633
CREATED:20241118T203919Z
LAST-MODIFIED:20241118T203919Z
UID:10007070-1757523600-1757534400@marvinlibrary.org
SUMMARY:KERR in Use
DESCRIPTION:
URL:https://marvinlibrary.org/event-2/kerr-in-use-41/2025-09-10/
LOCATION:Marvin Memorial Library\, 29 W. Whitney Ave.\, Shelby\, OH\, 44875
CATEGORIES:Community
END:VEVENT
BEGIN:VEVENT
DTSTART;TZID=America/New_York:20250910T180000
DTEND;TZID=America/New_York:20250910T200000
DTSTAMP:20260424T031633
CREATED:20250624T182503Z
LAST-MODIFIED:20250624T182503Z
UID:10007997-1757527200-1757534400@marvinlibrary.org
SUMMARY:Mid-Ohio Adult Education Class BAVIN & BR
DESCRIPTION:FREE in person Basic Adult Education Courses\, funded by an Ohio Department of Education Aspire grant.– Earn a GED\,– Gain skills to advance employment– Prepare for the ASVAB– Prepare for college entrance exams– Complete a Career Tech Program (Madison\, Pioneer\, Ashland W. Holmes)– Complete the adult diploma program and get a credential to work in a chosen fieldMondays & Wednesdays at 6:00 PMMid-Ohio Adult Education serves Richland\, Ashland\, and Crawford Counties. For more information\, please call 419-525-6380.
URL:https://marvinlibrary.org/event-2/mid-ohio-adult-education-class-bavin-br/
LOCATION:Marvin Memorial Library\, 29 W. Whitney Ave.\, Shelby\, OH\, 44875
CATEGORIES:Adults
END:VEVENT
BEGIN:VEVENT
DTSTART;TZID=America/New_York:20250911T103000
DTEND;TZID=America/New_York:20250911T113000
DTSTAMP:20260424T031633
CREATED:20250721T223627Z
LAST-MODIFIED:20260407T142208Z
UID:10007498-1757586600-1757590200@marvinlibrary.org
SUMMARY:Story Time Ages 2-5 STR
DESCRIPTION:Story Times consist of books\, games\, crafts\, music and lots of fun!
URL:https://marvinlibrary.org/event-2/story-time-for-ages-2-5-6/2025-09-11/
LOCATION:Marvin Memorial Library\, 29 W. Whitney Ave.\, Shelby\, OH\, 44875
CATEGORIES:Pre-school
END:VEVENT
BEGIN:VEVENT
DTSTART;TZID=America/New_York:20250911T110000
DTEND;TZID=America/New_York:20250911T130000
DTSTAMP:20260424T031633
CREATED:20250911T144942Z
LAST-MODIFIED:20250911T144942Z
UID:10008043-1757588400-1757595600@marvinlibrary.org
SUMMARY:BAVIN in Use
DESCRIPTION:
URL:https://marvinlibrary.org/event-2/bavin-in-use-138/
LOCATION:Marvin Memorial Library\, 29 W. Whitney Ave.\, Shelby\, OH\, 44875
CATEGORIES:Community
END:VEVENT
BEGIN:VEVENT
DTSTART;TZID=America/New_York:20250911T130000
DTEND;TZID=America/New_York:20250911T140000
DTSTAMP:20260424T031633
CREATED:20241118T214427Z
LAST-MODIFIED:20250910T201918Z
UID:10007088-1757595600-1757599200@marvinlibrary.org
SUMMARY:Knotty Knitters BAVIN
DESCRIPTION:Knotty Knitters meet on the 2nd & 4th Thursday of each month at 1:00PM.  Beginners are always welcome! Join the club anytime!
URL:https://marvinlibrary.org/event-2/knotty-knitters-mpr-3/2025-09-11/
LOCATION:Marvin Memorial Library\, 29 W. Whitney Ave.\, Shelby\, OH\, 44875
CATEGORIES:Community
END:VEVENT
END:VCALENDAR