BEGIN:VCALENDAR
VERSION:2.0
PRODID:-//Marvin Memorial Library - ECPv6.15.18//NONSGML v1.0//EN
CALSCALE:GREGORIAN
METHOD:PUBLISH
X-WR-CALNAME:Marvin Memorial Library
X-ORIGINAL-URL:https://marvinlibrary.org
X-WR-CALDESC:Events for Marvin Memorial Library
REFRESH-INTERVAL;VALUE=DURATION:PT1H
X-Robots-Tag:noindex
X-PUBLISHED-TTL:PT1H
BEGIN:VTIMEZONE
TZID:America/New_York
BEGIN:DAYLIGHT
TZOFFSETFROM:-0500
TZOFFSETTO:-0400
TZNAME:EDT
DTSTART:20240310T070000
END:DAYLIGHT
BEGIN:STANDARD
TZOFFSETFROM:-0400
TZOFFSETTO:-0500
TZNAME:EST
DTSTART:20241103T060000
END:STANDARD
BEGIN:DAYLIGHT
TZOFFSETFROM:-0500
TZOFFSETTO:-0400
TZNAME:EDT
DTSTART:20250309T070000
END:DAYLIGHT
BEGIN:STANDARD
TZOFFSETFROM:-0400
TZOFFSETTO:-0500
TZNAME:EST
DTSTART:20251102T060000
END:STANDARD
BEGIN:DAYLIGHT
TZOFFSETFROM:-0500
TZOFFSETTO:-0400
TZNAME:EDT
DTSTART:20260308T070000
END:DAYLIGHT
BEGIN:STANDARD
TZOFFSETFROM:-0400
TZOFFSETTO:-0500
TZNAME:EST
DTSTART:20261101T060000
END:STANDARD
END:VTIMEZONE
BEGIN:VEVENT
DTSTART;TZID=America/New_York:20250520T090000
DTEND;TZID=America/New_York:20250520T120000
DTSTAMP:20260421T114203
CREATED:20241112T175218Z
LAST-MODIFIED:20250128T194545Z
UID:10007042-1747731600-1747742400@marvinlibrary.org
SUMMARY:MPR in Use
DESCRIPTION:
URL:https://marvinlibrary.org/event-2/bavin-in-use-75/2025-05-20/
LOCATION:Marvin Memorial Library\, 29 W. Whitney Ave.\, Shelby\, OH\, 44875
CATEGORIES:Community
END:VEVENT
BEGIN:VEVENT
DTSTART;TZID=America/New_York:20250520T100000
DTEND;TZID=America/New_York:20250520T130000
DTSTAMP:20260421T114203
CREATED:20250327T181438Z
LAST-MODIFIED:20250327T181501Z
UID:10006075-1747735200-1747746000@marvinlibrary.org
SUMMARY:School Visit to MML KERR
DESCRIPTION:
URL:https://marvinlibrary.org/event-2/school-visit-to-mml/
LOCATION:Marvin Memorial Library\, 29 W. Whitney Ave.\, Shelby\, OH\, 44875
CATEGORIES:Tweens
END:VEVENT
BEGIN:VEVENT
DTSTART;TZID=America/New_York:20250520T160000
DTEND;TZID=America/New_York:20250520T170000
DTSTAMP:20260421T114203
CREATED:20250731T135325Z
LAST-MODIFIED:20250731T135325Z
UID:10006800-1747756800-1747760400@marvinlibrary.org
SUMMARY:Builders Club
DESCRIPTION:Bring the whole family and join us twice a month to test your building skills. We’ll have monthly challenges and themes.
URL:https://marvinlibrary.org/event-2/builders-club-2/2025-05-20/
LOCATION:Marvin Memorial Library\, 29 W. Whitney Ave.\, Shelby\, OH\, 44875
CATEGORIES:Family
END:VEVENT
BEGIN:VEVENT
DTSTART;TZID=America/New_York:20250520T173000
DTEND;TZID=America/New_York:20250520T190000
DTSTAMP:20260421T114203
CREATED:20240813T171339Z
LAST-MODIFIED:20250520T195218Z
UID:10005730-1747762200-1747767600@marvinlibrary.org
SUMMARY:Teach Me Tuesday MPR
DESCRIPTION:Teens in 7th – 12th grade are welcome to join us on the 3rd Tuesday of each month for Teach Me Tuesday.  In September we will be making our own pizza.
URL:https://marvinlibrary.org/event-2/teach-me-tuesday-2025-05-20-2025-05-20/
LOCATION:OH
CATEGORIES:Teens
END:VEVENT
BEGIN:VEVENT
DTSTART;TZID=America/New_York:20250520T180000
DTEND;TZID=America/New_York:20250520T190000
DTSTAMP:20260421T114203
CREATED:20250220T175439Z
LAST-MODIFIED:20250314T195501Z
UID:10007219-1747764000-1747767600@marvinlibrary.org
SUMMARY:D.I.Y. Design Night - Terrariums KERR
DESCRIPTION:
URL:https://marvinlibrary.org/event-2/d-i-y-design-night-terrariums/
LOCATION:Marvin Memorial Library\, 29 W. Whitney Ave.\, Shelby\, OH\, 44875
CATEGORIES:Adults
END:VEVENT
BEGIN:VEVENT
DTSTART;TZID=America/New_York:20250521T100000
DTEND;TZID=America/New_York:20250521T120000
DTSTAMP:20260421T114203
CREATED:20250521T135414Z
LAST-MODIFIED:20250521T135414Z
UID:10006225-1747821600-1747828800@marvinlibrary.org
SUMMARY:BAVIN in Use
DESCRIPTION:
URL:https://marvinlibrary.org/event-2/bavin-in-use-115/
LOCATION:Marvin Memorial Library\, 29 W. Whitney Ave.\, Shelby\, OH\, 44875
CATEGORIES:Community
END:VEVENT
BEGIN:VEVENT
DTSTART;TZID=America/New_York:20250521T110000
DTEND;TZID=America/New_York:20250521T120000
DTSTAMP:20260421T114203
CREATED:20250226T184326Z
LAST-MODIFIED:20250314T195642Z
UID:10006028-1747825200-1747828800@marvinlibrary.org
SUMMARY:Tech It Easy (Heritage Quest) MPR
DESCRIPTION:Join us in the Multipurpose Room to learn how to search census records\, books\, serials\, and other historical records to trace your genealogy.
URL:https://marvinlibrary.org/event-2/tech-it-easy-heritage-quest/
LOCATION:Marvin Memorial Library\, 29 W. Whitney Ave.\, Shelby\, OH\, 44875
CATEGORIES:Adults
END:VEVENT
BEGIN:VEVENT
DTSTART;TZID=America/New_York:20250521T130000
DTEND;TZID=America/New_York:20250521T140000
DTSTAMP:20260421T114203
CREATED:20240814T204139Z
LAST-MODIFIED:20250314T195738Z
UID:10006983-1747832400-1747836000@marvinlibrary.org
SUMMARY:Homeschool Program MPR
DESCRIPTION:Calling all homeschoolers! Join us for our Homeschool Program on the 3rd Wednesday of each month at 1:00 PM. This program is best suited for middle school age group\, but can be adjusted for younger kids. The overall theme for the year is “Interesting People”.SEP 18 – Artists: Famous Painters\nOCT 16: Inventors\nNOV 20: Writers\nDEC 18: Animal Protectors\nJAN 15: Change Makers\nFEB 19: Presidents\nMAR 19: Athletes\nAPR 16: Environmentalists\nMAY 21: Musicians \n 
URL:https://marvinlibrary.org/event-2/homeschool-program-5-2025-05-21/
LOCATION:Marvin Memorial Library\, 29 W. Whitney Ave.\, Shelby\, OH\, 44875
CATEGORIES:Children
END:VEVENT
BEGIN:VEVENT
DTSTART;TZID=America/New_York:20250521T160000
DTEND;TZID=America/New_York:20250521T170000
DTSTAMP:20260421T114203
CREATED:20240809T150136Z
LAST-MODIFIED:20240809T150136Z
UID:10006837-1747843200-1747846800@marvinlibrary.org
SUMMARY:Study Buddies
DESCRIPTION:Get free peer tutoring in the Children’s Department every Wednesday at 4:00 PM.
URL:https://marvinlibrary.org/event-2/study-buddies-5/2025-05-21/
LOCATION:Marvin Memorial Library\, 29 W. Whitney Ave.\, Shelby\, OH\, 44875
CATEGORIES:Children
END:VEVENT
BEGIN:VEVENT
DTSTART;TZID=America/New_York:20250522T100000
DTEND;TZID=America/New_York:20250522T130000
DTSTAMP:20260421T114203
CREATED:20250327T181556Z
LAST-MODIFIED:20250327T181556Z
UID:10006076-1747908000-1747918800@marvinlibrary.org
SUMMARY:School Visit to MML MPR
DESCRIPTION:
URL:https://marvinlibrary.org/event-2/school-visit-to-mml-mpr/
LOCATION:Marvin Memorial Library\, 29 W. Whitney Ave.\, Shelby\, OH\, 44875
CATEGORIES:Tweens
END:VEVENT
BEGIN:VEVENT
DTSTART;TZID=America/New_York:20250522T130000
DTEND;TZID=America/New_York:20250522T140000
DTSTAMP:20260421T114203
CREATED:20250731T135538Z
LAST-MODIFIED:20250910T201338Z
UID:10007096-1747918800-1747922400@marvinlibrary.org
SUMMARY:Knotty Knitters BAVIN
DESCRIPTION:Knotty Knitters meet on the 2nd & 4th Thursday of each month at 1:00PM.  Beginners are always welcome! Join the club anytime!
URL:https://marvinlibrary.org/event-2/knotty-knitters-mpr-3-2/2025-05-22/
LOCATION:Marvin Memorial Library\, 29 W. Whitney Ave.\, Shelby\, OH\, 44875
CATEGORIES:Community
END:VEVENT
BEGIN:VEVENT
DTSTART;TZID=America/New_York:20250522T140000
DTEND;TZID=America/New_York:20250522T160000
DTSTAMP:20260421T114203
CREATED:20250521T134510Z
LAST-MODIFIED:20250521T134510Z
UID:10006223-1747922400-1747929600@marvinlibrary.org
SUMMARY:BAVIN in USE
DESCRIPTION:
URL:https://marvinlibrary.org/event-2/bavin-in-use-114/
LOCATION:Marvin Memorial Library\, 29 W. Whitney Ave.\, Shelby\, OH\, 44875
CATEGORIES:Community
END:VEVENT
BEGIN:VEVENT
DTSTART;TZID=America/New_York:20250522T153000
DTEND;TZID=America/New_York:20250522T173000
DTSTAMP:20260421T114203
CREATED:20240809T151915Z
LAST-MODIFIED:20240809T151915Z
UID:10006861-1747927800-1747935000@marvinlibrary.org
SUMMARY:Teen Studio KERR
DESCRIPTION:Teens in 7th – 12th grade are welcome to come in after school to work on homework\, play games\, get creative and crafty\, or just hang out with friends.
URL:https://marvinlibrary.org/event-2/teen-studio-kerr-3/2025-05-22/
LOCATION:Marvin Memorial Library\, 29 W. Whitney Ave.\, Shelby\, OH\, 44875
CATEGORIES:Teens
END:VEVENT
BEGIN:VEVENT
DTSTART;TZID=America/New_York:20250522T153000
DTEND;TZID=America/New_York:20250522T173000
DTSTAMP:20260421T114203
CREATED:20250219T195635Z
LAST-MODIFIED:20250219T195635Z
UID:10007199-1747927800-1747935000@marvinlibrary.org
SUMMARY:Teen Studio KERR
DESCRIPTION:Teens can stop by to do homework\, work on projects\, get creative and crafty or just hang out with friends.
URL:https://marvinlibrary.org/event-2/teen-studio-kerr-4/2025-05-22/
LOCATION:Marvin Memorial Library\, 29 W. Whitney Ave.\, Shelby\, OH\, 44875
CATEGORIES:Teens
END:VEVENT
BEGIN:VEVENT
DTSTART;TZID=America/New_York:20250522T173000
DTEND;TZID=America/New_York:20250522T183000
DTSTAMP:20260421T114203
CREATED:20250305T205152Z
LAST-MODIFIED:20250305T205152Z
UID:10007230-1747935000-1747938600@marvinlibrary.org
SUMMARY:Teen Terrariums KERR
DESCRIPTION:Teens in 7th – 12th grade are welcome to join us in the Kerr Garden Room to get creative and a little messy by making our own terrariums to take home!
URL:https://marvinlibrary.org/event-2/teen-terrariums-kerr/
LOCATION:Marvin Memorial Library\, 29 W. Whitney Ave.\, Shelby\, OH\, 44875
CATEGORIES:Teens
END:VEVENT
BEGIN:VEVENT
DTSTART;TZID=America/New_York:20250522T173000
DTEND;TZID=America/New_York:20250522T193000
DTSTAMP:20260421T114203
CREATED:20250317T233200Z
LAST-MODIFIED:20250317T233334Z
UID:10006070-1747935000-1747942200@marvinlibrary.org
SUMMARY:Justice Mobile On Site
DESCRIPTION:Bring your questions to Justice Mobile!\nThey have attorneys and advocates available in the Mobile Legal Clinic to answer your questions and to help you understand your rights.
URL:https://marvinlibrary.org/event-2/justice-mobile-on-site-6/2025-05-22/
LOCATION:Marvin Memorial Library\, 29 W. Whitney Ave.\, Shelby\, OH\, 44875
CATEGORIES:Adults
END:VEVENT
BEGIN:VEVENT
DTSTART;TZID=America/New_York:20250523T150000
DTEND;TZID=America/New_York:20250523T160000
DTSTAMP:20260421T114203
CREATED:20250414T131529Z
LAST-MODIFIED:20250414T131529Z
UID:10007260-1748012400-1748016000@marvinlibrary.org
SUMMARY:BAVIN in Use
DESCRIPTION:
URL:https://marvinlibrary.org/event-2/bavin-in-use-101/2025-05-23/
LOCATION:Marvin Memorial Library\, 29 W. Whitney Ave.\, Shelby\, OH\, 44875
CATEGORIES:Community
END:VEVENT
BEGIN:VEVENT
DTSTART;TZID=America/New_York:20250523T150000
DTEND;TZID=America/New_York:20250523T170000
DTSTAMP:20260421T114203
CREATED:20250506T194632Z
LAST-MODIFIED:20250506T194632Z
UID:10007276-1748012400-1748019600@marvinlibrary.org
SUMMARY:MARVIN in Use
DESCRIPTION:
URL:https://marvinlibrary.org/event-2/marvin-in-use-17/
LOCATION:Marvin Memorial Library\, 29 W. Whitney Ave.\, Shelby\, OH\, 44875
CATEGORIES:Community
END:VEVENT
BEGIN:VEVENT
DTSTART;TZID=America/New_York:20250524T093000
DTEND;TZID=America/New_York:20250524T113000
DTSTAMP:20260421T114203
CREATED:20250421T140901Z
LAST-MODIFIED:20250421T140901Z
UID:10007268-1748079000-1748086200@marvinlibrary.org
SUMMARY:KERR in Use
DESCRIPTION:
URL:https://marvinlibrary.org/event-2/kerr-in-use-45/2025-05-24/
LOCATION:Marvin Memorial Library\, 29 W. Whitney Ave.\, Shelby\, OH\, 44875
CATEGORIES:Community
END:VEVENT
BEGIN:VEVENT
DTSTART;TZID=America/New_York:20250526T090000
DTEND;TZID=America/New_York:20250526T200000
DTSTAMP:20260421T114203
CREATED:20250305T205326Z
LAST-MODIFIED:20250305T205326Z
UID:10007231-1748250000-1748289600@marvinlibrary.org
SUMMARY:Closed for Memorial Day
DESCRIPTION:
URL:https://marvinlibrary.org/event-2/closed-for-memorial-day/
LOCATION:Marvin Memorial Library\, 29 W. Whitney Ave.\, Shelby\, OH\, 44875
CATEGORIES:Community
END:VEVENT
BEGIN:VEVENT
DTSTART;TZID=America/New_York:20250527T090000
DTEND;TZID=America/New_York:20250527T120000
DTSTAMP:20260421T114203
CREATED:20241112T175218Z
LAST-MODIFIED:20250128T194545Z
UID:10007043-1748336400-1748347200@marvinlibrary.org
SUMMARY:MPR in Use
DESCRIPTION:
URL:https://marvinlibrary.org/event-2/bavin-in-use-75/2025-05-27/
LOCATION:Marvin Memorial Library\, 29 W. Whitney Ave.\, Shelby\, OH\, 44875
CATEGORIES:Community
END:VEVENT
BEGIN:VEVENT
DTSTART;TZID=America/New_York:20250527T180000
DTEND;TZID=America/New_York:20250527T190000
DTSTAMP:20260421T114203
CREATED:20250226T202558Z
LAST-MODIFIED:20250226T202712Z
UID:10006029-1748368800-1748372400@marvinlibrary.org
SUMMARY:Family Game Night - Pet Cents MPR
DESCRIPTION:Pets are great\, but it costs money to take care of them. Watch your available funds\, and buy things your pet needs and wants to keep it happy.
URL:https://marvinlibrary.org/event-2/family-game-night-mpr/
LOCATION:Marvin Memorial Library\, 29 W. Whitney Ave.\, Shelby\, OH\, 44875
CATEGORIES:Family
END:VEVENT
BEGIN:VEVENT
DTSTART;TZID=America/New_York:20250528T090000
DTEND;TZID=America/New_York:20250528T120000
DTSTAMP:20260421T114203
CREATED:20250519T174444Z
LAST-MODIFIED:20250519T174444Z
UID:10007351-1748422800-1748433600@marvinlibrary.org
SUMMARY:MPR in Use
DESCRIPTION:
URL:https://marvinlibrary.org/event-2/mpr-in-use-73/
LOCATION:Marvin Memorial Library\, 29 W. Whitney Ave.\, Shelby\, OH\, 44875
CATEGORIES:Community
END:VEVENT
BEGIN:VEVENT
DTSTART;TZID=America/New_York:20250528T170000
DTEND;TZID=America/New_York:20250528T200000
DTSTAMP:20260421T114203
CREATED:20241118T203919Z
LAST-MODIFIED:20250226T205051Z
UID:10007078-1748451600-1748462400@marvinlibrary.org
SUMMARY:MPR in Use
DESCRIPTION:
URL:https://marvinlibrary.org/event-2/kerr-in-use-41-2025-05-28/
LOCATION:Marvin Memorial Library\, 29 W. Whitney Ave.\, Shelby\, OH\, 44875
CATEGORIES:Community
END:VEVENT
BEGIN:VEVENT
DTSTART;TZID=America/New_York:20250529T130000
DTEND;TZID=America/New_York:20250529T143000
DTSTAMP:20260421T114203
CREATED:20250226T205328Z
LAST-MODIFIED:20250226T205328Z
UID:10006030-1748523600-1748529000@marvinlibrary.org
SUMMARY:Knotty Knitters MPR
DESCRIPTION:Do you knit or crochet? Join the Knotty Knitters on the 2nd and 4th (and 5th) Thursday of each month at 1:00pm.  Bring a current project or start something new! Beginners are always welcome!
URL:https://marvinlibrary.org/event-2/knotty-knitters-mpr-5/
LOCATION:Marvin Memorial Library\, 29 W. Whitney Ave.\, Shelby\, OH\, 44875
CATEGORIES:Community
END:VEVENT
BEGIN:VEVENT
DTSTART;TZID=America/New_York:20250529T160000
DTEND;TZID=America/New_York:20250529T170000
DTSTAMP:20260421T114203
CREATED:20250226T205418Z
LAST-MODIFIED:20250226T205626Z
UID:10006031-1748534400-1748538000@marvinlibrary.org
SUMMARY:Friends of MML Meeting MPR
DESCRIPTION:
URL:https://marvinlibrary.org/event-2/friends-of-mml-meeting-mpr/
LOCATION:Marvin Memorial Library\, 29 W. Whitney Ave.\, Shelby\, OH\, 44875
CATEGORIES:Friends of the Library
END:VEVENT
BEGIN:VEVENT
DTSTART;TZID=America/New_York:20250530T100000
DTEND;TZID=America/New_York:20250530T120000
DTSTAMP:20260421T114203
CREATED:20250521T190558Z
LAST-MODIFIED:20250910T172513Z
UID:10006243-1748599200-1748606400@marvinlibrary.org
SUMMARY:Free Blood Pressure & Blood Glucose Testing
DESCRIPTION:Stop by the library every Friday morning from 10:00AM to 12:00 PM for a free blood pressure and/or blood glucose check with the Shelby Health Department’s Director of Nursing. Get health tips and free information.
URL:https://marvinlibrary.org/event-2/free-blood-pressure-blood-glucose-testing/2025-05-30/
LOCATION:Marvin Memorial Library\, 29 W. Whitney Ave.\, Shelby\, OH\, 44875
CATEGORIES:Community
END:VEVENT
BEGIN:VEVENT
DTSTART;TZID=America/New_York:20250530T150000
DTEND;TZID=America/New_York:20250530T160000
DTSTAMP:20260421T114203
CREATED:20250414T131529Z
LAST-MODIFIED:20250414T131529Z
UID:10007261-1748617200-1748620800@marvinlibrary.org
SUMMARY:BAVIN in Use
DESCRIPTION:
URL:https://marvinlibrary.org/event-2/bavin-in-use-101/2025-05-30/
LOCATION:Marvin Memorial Library\, 29 W. Whitney Ave.\, Shelby\, OH\, 44875
CATEGORIES:Community
END:VEVENT
BEGIN:VEVENT
DTSTART;TZID=America/New_York:20250531T110000
DTEND;TZID=America/New_York:20250531T130000
DTSTAMP:20260421T114203
CREATED:20250218T192709Z
LAST-MODIFIED:20250430T162324Z
UID:10007179-1748689200-1748696400@marvinlibrary.org
SUMMARY:Summer Reading Kick-Off Party KERR
DESCRIPTION:All the fun starts at 11:00 AM at the Kerr Garden Room! \nNature Bingo\nScavenger Hunt\nColoring Pages\nDesign Your Own Bookmark\nButterfly Suncatchers\nDoor Prizes for Each Age Group\nMagic Themed Door Prize at the LIVE SHOW with Magician Michael Mage at 11:30! \nThe Girl Scouts of America will be joining us with information about their program!
URL:https://marvinlibrary.org/event-2/summer-reading-kick-off-party/
LOCATION:Marvin Memorial Library\, 29 W. Whitney Ave.\, Shelby\, OH\, 44875
CATEGORIES:Community
END:VEVENT
BEGIN:VEVENT
DTSTART;TZID=America/New_York:20250602T090000
DTEND;TZID=America/New_York:20250602T120000
DTSTAMP:20260421T114203
CREATED:20250516T160448Z
LAST-MODIFIED:20250516T160448Z
UID:10007343-1748854800-1748865600@marvinlibrary.org
SUMMARY:MPR in Use
DESCRIPTION:
URL:https://marvinlibrary.org/event-2/mpr-in-use-72/2025-06-02/
LOCATION:Marvin Memorial Library\, 29 W. Whitney Ave.\, Shelby\, OH\, 44875
CATEGORIES:Community
END:VEVENT
END:VCALENDAR