BEGIN:VCALENDAR
VERSION:2.0
PRODID:-//Marvin Memorial Library - ECPv6.15.18//NONSGML v1.0//EN
CALSCALE:GREGORIAN
METHOD:PUBLISH
X-WR-CALNAME:Marvin Memorial Library
X-ORIGINAL-URL:https://marvinlibrary.org
X-WR-CALDESC:Events for Marvin Memorial Library
REFRESH-INTERVAL;VALUE=DURATION:PT1H
X-Robots-Tag:noindex
X-PUBLISHED-TTL:PT1H
BEGIN:VTIMEZONE
TZID:America/New_York
BEGIN:DAYLIGHT
TZOFFSETFROM:-0500
TZOFFSETTO:-0400
TZNAME:EDT
DTSTART:20240310T070000
END:DAYLIGHT
BEGIN:STANDARD
TZOFFSETFROM:-0400
TZOFFSETTO:-0500
TZNAME:EST
DTSTART:20241103T060000
END:STANDARD
BEGIN:DAYLIGHT
TZOFFSETFROM:-0500
TZOFFSETTO:-0400
TZNAME:EDT
DTSTART:20250309T070000
END:DAYLIGHT
BEGIN:STANDARD
TZOFFSETFROM:-0400
TZOFFSETTO:-0500
TZNAME:EST
DTSTART:20251102T060000
END:STANDARD
BEGIN:DAYLIGHT
TZOFFSETFROM:-0500
TZOFFSETTO:-0400
TZNAME:EDT
DTSTART:20260308T070000
END:DAYLIGHT
BEGIN:STANDARD
TZOFFSETFROM:-0400
TZOFFSETTO:-0500
TZNAME:EST
DTSTART:20261101T060000
END:STANDARD
END:VTIMEZONE
BEGIN:VEVENT
DTSTART;TZID=America/New_York:20250402T160000
DTEND;TZID=America/New_York:20250402T170000
DTSTAMP:20260421T073639
CREATED:20240809T150136Z
LAST-MODIFIED:20240809T150136Z
UID:10006830-1743609600-1743613200@marvinlibrary.org
SUMMARY:Study Buddies
DESCRIPTION:Get free peer tutoring in the Children’s Department every Wednesday at 4:00 PM.
URL:https://marvinlibrary.org/event-2/study-buddies-5/2025-04-02/
LOCATION:Marvin Memorial Library\, 29 W. Whitney Ave.\, Shelby\, OH\, 44875
CATEGORIES:Children
END:VEVENT
BEGIN:VEVENT
DTSTART;TZID=America/New_York:20250401T180000
DTEND;TZID=America/New_York:20250401T190000
DTSTAMP:20260421T073639
CREATED:20250219T155550Z
LAST-MODIFIED:20250219T155550Z
UID:10007181-1743530400-1743534000@marvinlibrary.org
SUMMARY:Money for Kids with Directions Credit Union *RR MPR
DESCRIPTION:Kids in grades K-4 are welcome to join us for a fun night of learning about money management. “Directions believes that a smarter financial community is a better community. That’s why we encourage our members to include their children in conversations about finances from a young age. Teaching them to budget\, save\, and spend responsibly will set them up for financial success as they grow.”
URL:https://marvinlibrary.org/event-2/money-for-kids-with-directions-credit-union-rr-mpr/
LOCATION:Marvin Memorial Library\, 29 W. Whitney Ave.\, Shelby\, OH\, 44875
CATEGORIES:Children
END:VEVENT
BEGIN:VEVENT
DTSTART;TZID=America/New_York:20250401T160000
DTEND;TZID=America/New_York:20250401T170000
DTSTAMP:20260421T073639
CREATED:20240809T145114Z
LAST-MODIFIED:20240809T145114Z
UID:10006790-1743523200-1743526800@marvinlibrary.org
SUMMARY:Builders Club
DESCRIPTION:Bring the whole family and join us twice a month to test your building skills. We’ll have monthly challenges and themes.
URL:https://marvinlibrary.org/event-2/builders-club-2/2025-04-01/
LOCATION:Marvin Memorial Library\, 29 W. Whitney Ave.\, Shelby\, OH\, 44875
CATEGORIES:Family
END:VEVENT
BEGIN:VEVENT
DTSTART;TZID=America/New_York:20250401T103000
DTEND;TZID=America/New_York:20250401T113000
DTSTAMP:20260421T073639
CREATED:20240809T144538Z
LAST-MODIFIED:20240809T201751Z
UID:10005616-1743503400-1743507000@marvinlibrary.org
SUMMARY:Story Time  for Ages 2-5
DESCRIPTION:
URL:https://marvinlibrary.org/event-2/story-time-for-ages-2-5-3/2025-04-01/
LOCATION:Marvin Memorial Library\, 29 W. Whitney Ave.\, Shelby\, OH\, 44875
CATEGORIES:Children
END:VEVENT
BEGIN:VEVENT
DTSTART;TZID=America/New_York:20250401T090000
DTEND;TZID=America/New_York:20250401T120000
DTSTAMP:20260421T073639
CREATED:20250305T191014Z
LAST-MODIFIED:20250305T192606Z
UID:10006049-1743498000-1743508800@marvinlibrary.org
SUMMARY:MPR in Use
DESCRIPTION:
URL:https://marvinlibrary.org/event-2/mpr-in-use-60/2025-04-01/
LOCATION:Marvin Memorial Library\, 29 W. Whitney Ave.\, Shelby\, OH\, 44875
CATEGORIES:Community
END:VEVENT
BEGIN:VEVENT
DTSTART;TZID=America/New_York:20250401T090000
DTEND;TZID=America/New_York:20250401T120000
DTSTAMP:20260421T073639
CREATED:20241112T175218Z
LAST-MODIFIED:20250128T194545Z
UID:10007037-1743498000-1743508800@marvinlibrary.org
SUMMARY:MPR in Use
DESCRIPTION:
URL:https://marvinlibrary.org/event-2/bavin-in-use-75/2025-04-01/
LOCATION:Marvin Memorial Library\, 29 W. Whitney Ave.\, Shelby\, OH\, 44875
CATEGORIES:Community
END:VEVENT
BEGIN:VEVENT
DTSTART;TZID=America/New_York:20250331T180000
DTEND;TZID=America/New_York:20250331T190000
DTSTAMP:20260421T073639
CREATED:20240809T204018Z
LAST-MODIFIED:20240809T204634Z
UID:10006938-1743444000-1743447600@marvinlibrary.org
SUMMARY:Family Story Time
DESCRIPTION:Bring all of the kids and join us for stories\, games\, crafts\, and snacks.
URL:https://marvinlibrary.org/event-2/family-story-time-37/2025-03-31/
LOCATION:Marvin Memorial Library\, 29 W. Whitney Ave.\, Shelby\, OH\, 44875
CATEGORIES:Family
END:VEVENT
BEGIN:VEVENT
DTSTART;TZID=America/New_York:20250331T153000
DTEND;TZID=America/New_York:20250331T173000
DTSTAMP:20260421T073639
CREATED:20240809T153044Z
LAST-MODIFIED:20250219T201731Z
UID:10006897-1743435000-1743442200@marvinlibrary.org
SUMMARY:Teen Studio
DESCRIPTION:Teens in 7th – 12th grade are welcome to come in after school to work on homework\, play games\, get creative and crafty\, or just hang out with friends.
URL:https://marvinlibrary.org/event-2/teen-studio-2/2025-03-31/
LOCATION:Marvin Memorial Library\, 29 W. Whitney Ave.\, Shelby\, OH\, 44875
CATEGORIES:Teens
END:VEVENT
BEGIN:VEVENT
DTSTART;TZID=America/New_York:20250329T090000
DTEND;TZID=America/New_York:20250329T120000
DTSTAMP:20260421T073639
CREATED:20250213T214709Z
LAST-MODIFIED:20250213T214733Z
UID:10007178-1743238800-1743249600@marvinlibrary.org
SUMMARY:Children's LEGO Competition *RR MPR
DESCRIPTION:For ages 7-13. Space is limited so registration is required.  You must bring your own LEGOs without instructions or pictures.  No late entries or walk-ins will be permitted to compete.
URL:https://marvinlibrary.org/event-2/childrens-lego-competition/
LOCATION:Marvin Memorial Library\, 29 W. Whitney Ave.\, Shelby\, OH\, 44875
CATEGORIES:Children
END:VEVENT
BEGIN:VEVENT
DTSTART;TZID=America/New_York:20250328T150000
DTEND;TZID=America/New_York:20250328T160000
DTSTAMP:20260421T073639
CREATED:20250305T210311Z
LAST-MODIFIED:20250328T131053Z
UID:10007232-1743174000-1743177600@marvinlibrary.org
SUMMARY:BAVIN in Use
DESCRIPTION:
URL:https://marvinlibrary.org/event-2/bain-in-use/
LOCATION:Marvin Memorial Library\, 29 W. Whitney Ave.\, Shelby\, OH\, 44875
CATEGORIES:Community
END:VEVENT
BEGIN:VEVENT
DTSTART;TZID=America/New_York:20250328T100000
DTEND;TZID=America/New_York:20250328T150000
DTSTAMP:20260421T073639
CREATED:20250327T184700Z
LAST-MODIFIED:20250327T184700Z
UID:10006077-1743156000-1743174000@marvinlibrary.org
SUMMARY:BAVIN in Use
DESCRIPTION:
URL:https://marvinlibrary.org/event-2/bavin-in-use-97/
LOCATION:Marvin Memorial Library\, 29 W. Whitney Ave.\, Shelby\, OH\, 44875
CATEGORIES:Community
END:VEVENT
BEGIN:VEVENT
DTSTART;TZID=America/New_York:20250327T180000
DTEND;TZID=America/New_York:20250327T190000
DTSTAMP:20260421T073639
CREATED:20250213T205328Z
LAST-MODIFIED:20250213T205407Z
UID:10005989-1743098400-1743102000@marvinlibrary.org
SUMMARY:Line Dancing *RR KERR
DESCRIPTION:Registration March 1st for both March Line Dancing Classes.
URL:https://marvinlibrary.org/event-2/line-dancing-kerr-2/2025-03-27/
LOCATION:Marvin Memorial Library\, 29 W. Whitney Ave.\, Shelby\, OH\, 44875
CATEGORIES:Adults
END:VEVENT
BEGIN:VEVENT
DTSTART;TZID=America/New_York:20250327T173000
DTEND;TZID=America/New_York:20250327T193000
DTSTAMP:20260421T073639
CREATED:20250317T233200Z
LAST-MODIFIED:20250317T233334Z
UID:10006069-1743096600-1743103800@marvinlibrary.org
SUMMARY:Justice Mobile On Site
DESCRIPTION:Bring your questions to Justice Mobile!\nThey have attorneys and advocates available in the Mobile Legal Clinic to answer your questions and to help you understand your rights.
URL:https://marvinlibrary.org/event-2/justice-mobile-on-site-6/2025-03-27/
LOCATION:Marvin Memorial Library\, 29 W. Whitney Ave.\, Shelby\, OH\, 44875
CATEGORIES:Adults
END:VEVENT
BEGIN:VEVENT
DTSTART;TZID=America/New_York:20250327T173000
DTEND;TZID=America/New_York:20250327T190000
DTSTAMP:20260421T073639
CREATED:20250213T214003Z
LAST-MODIFIED:20250213T214003Z
UID:10006008-1743096600-1743102000@marvinlibrary.org
SUMMARY:Teen Art Night MPR
DESCRIPTION:Come try some new art techniques.  We’ll provide the supplies\, you bring the creativity.
URL:https://marvinlibrary.org/event-2/teen-art-night-mpr/
LOCATION:Marvin Memorial Library\, 29 W. Whitney Ave.\, Shelby\, OH\, 44875
CATEGORIES:Teens
END:VEVENT
BEGIN:VEVENT
DTSTART;TZID=America/New_York:20250327T160000
DTEND;TZID=America/New_York:20250327T200000
DTSTAMP:20260421T073639
CREATED:20250310T155712Z
LAST-MODIFIED:20250310T155712Z
UID:10007233-1743091200-1743105600@marvinlibrary.org
SUMMARY:BAVIN in Use
DESCRIPTION:
URL:https://marvinlibrary.org/event-2/bavin-in-use-91/
LOCATION:Marvin Memorial Library\, 29 W. Whitney Ave.\, Shelby\, OH\, 44875
CATEGORIES:Community
END:VEVENT
BEGIN:VEVENT
DTSTART;TZID=America/New_York:20250327T153000
DTEND;TZID=America/New_York:20250327T173000
DTSTAMP:20260421T073639
CREATED:20240809T151915Z
LAST-MODIFIED:20240809T151915Z
UID:10006853-1743089400-1743096600@marvinlibrary.org
SUMMARY:Teen Studio KERR
DESCRIPTION:Teens in 7th – 12th grade are welcome to come in after school to work on homework\, play games\, get creative and crafty\, or just hang out with friends.
URL:https://marvinlibrary.org/event-2/teen-studio-kerr-3/2025-03-27/
LOCATION:Marvin Memorial Library\, 29 W. Whitney Ave.\, Shelby\, OH\, 44875
CATEGORIES:Teens
END:VEVENT
BEGIN:VEVENT
DTSTART;TZID=America/New_York:20250327T130000
DTEND;TZID=America/New_York:20250327T140000
DTSTAMP:20260421T073639
CREATED:20250731T135538Z
LAST-MODIFIED:20250910T201338Z
UID:10007094-1743080400-1743084000@marvinlibrary.org
SUMMARY:Knotty Knitters BAVIN
DESCRIPTION:Knotty Knitters meet on the 2nd & 4th Thursday of each month at 1:00PM.  Beginners are always welcome! Join the club anytime!
URL:https://marvinlibrary.org/event-2/knotty-knitters-mpr-3-2/2025-03-27/
LOCATION:Marvin Memorial Library\, 29 W. Whitney Ave.\, Shelby\, OH\, 44875
CATEGORIES:Community
END:VEVENT
BEGIN:VEVENT
DTSTART;TZID=America/New_York:20250327T103000
DTEND;TZID=America/New_York:20250327T113000
DTSTAMP:20260421T073639
CREATED:20240809T144538Z
LAST-MODIFIED:20240809T201751Z
UID:10005615-1743071400-1743075000@marvinlibrary.org
SUMMARY:Story Time  for Ages 2-5
DESCRIPTION:
URL:https://marvinlibrary.org/event-2/story-time-for-ages-2-5-3/2025-03-27/
LOCATION:Marvin Memorial Library\, 29 W. Whitney Ave.\, Shelby\, OH\, 44875
CATEGORIES:Children
END:VEVENT
BEGIN:VEVENT
DTSTART;TZID=America/New_York:20250326T170000
DTEND;TZID=America/New_York:20250326T200000
DTSTAMP:20260421T073639
CREATED:20250731T135534Z
LAST-MODIFIED:20250731T135534Z
UID:10007065-1743008400-1743019200@marvinlibrary.org
SUMMARY:MPR in Use
DESCRIPTION:
URL:https://marvinlibrary.org/event-2/mpr-in-use-48/2025-03-26/
LOCATION:Marvin Memorial Library\, 29 W. Whitney Ave.\, Shelby\, OH\, 44875
CATEGORIES:Community
END:VEVENT
BEGIN:VEVENT
DTSTART;TZID=America/New_York:20250326T160000
DTEND;TZID=America/New_York:20250326T170000
DTSTAMP:20260421T073639
CREATED:20240809T150136Z
LAST-MODIFIED:20240809T150136Z
UID:10006829-1743004800-1743008400@marvinlibrary.org
SUMMARY:Study Buddies
DESCRIPTION:Get free peer tutoring in the Children’s Department every Wednesday at 4:00 PM.
URL:https://marvinlibrary.org/event-2/study-buddies-5/2025-03-26/
LOCATION:Marvin Memorial Library\, 29 W. Whitney Ave.\, Shelby\, OH\, 44875
CATEGORIES:Children
END:VEVENT
BEGIN:VEVENT
DTSTART;TZID=America/New_York:20250325T180000
DTEND;TZID=America/New_York:20250325T190000
DTSTAMP:20260421T073639
CREATED:20250213T213159Z
LAST-MODIFIED:20250213T213159Z
UID:10006007-1742925600-1742929200@marvinlibrary.org
SUMMARY:Family Game Night - Currency Conga MPR
DESCRIPTION:Bring the whole family for a Twister Style game where kids will learn currency recognition and money math.
URL:https://marvinlibrary.org/event-2/family-game-night-currency-conga-mpr/
LOCATION:Marvin Memorial Library\, 29 W. Whitney Ave.\, Shelby\, OH\, 44875
CATEGORIES:Family
END:VEVENT
BEGIN:VEVENT
DTSTART;TZID=America/New_York:20250325T103000
DTEND;TZID=America/New_York:20250325T113000
DTSTAMP:20260421T073639
CREATED:20240809T144538Z
LAST-MODIFIED:20240809T201751Z
UID:10005614-1742898600-1742902200@marvinlibrary.org
SUMMARY:Story Time  for Ages 2-5
DESCRIPTION:
URL:https://marvinlibrary.org/event-2/story-time-for-ages-2-5-3/2025-03-25/
LOCATION:Marvin Memorial Library\, 29 W. Whitney Ave.\, Shelby\, OH\, 44875
CATEGORIES:Children
END:VEVENT
BEGIN:VEVENT
DTSTART;TZID=America/New_York:20250325T090000
DTEND;TZID=America/New_York:20250325T120000
DTSTAMP:20260421T073639
CREATED:20241112T175218Z
LAST-MODIFIED:20250128T194545Z
UID:10007036-1742893200-1742904000@marvinlibrary.org
SUMMARY:MPR in Use
DESCRIPTION:
URL:https://marvinlibrary.org/event-2/bavin-in-use-75/2025-03-25/
LOCATION:Marvin Memorial Library\, 29 W. Whitney Ave.\, Shelby\, OH\, 44875
CATEGORIES:Community
END:VEVENT
BEGIN:VEVENT
DTSTART;TZID=America/New_York:20250324T180000
DTEND;TZID=America/New_York:20250324T190000
DTSTAMP:20260421T073639
CREATED:20250213T212830Z
LAST-MODIFIED:20250213T212830Z
UID:10006005-1742839200-1742842800@marvinlibrary.org
SUMMARY:DIY Design Night - Egg Carton Flowers MPR *RR
DESCRIPTION:Registration opens March 1st for DIY Design Night. We’ll be making cute egg carton flowers.
URL:https://marvinlibrary.org/event-2/diy-design-night-egg-carton-flowers-mpr-rr/
LOCATION:Marvin Memorial Library\, 29 W. Whitney Ave.\, Shelby\, OH\, 44875
CATEGORIES:Adults
END:VEVENT
BEGIN:VEVENT
DTSTART;TZID=America/New_York:20250324T180000
DTEND;TZID=America/New_York:20250324T190000
DTSTAMP:20260421T073639
CREATED:20240809T204018Z
LAST-MODIFIED:20240809T204634Z
UID:10006937-1742839200-1742842800@marvinlibrary.org
SUMMARY:Family Story Time
DESCRIPTION:Bring all of the kids and join us for stories\, games\, crafts\, and snacks.
URL:https://marvinlibrary.org/event-2/family-story-time-37/2025-03-24/
LOCATION:Marvin Memorial Library\, 29 W. Whitney Ave.\, Shelby\, OH\, 44875
CATEGORIES:Family
END:VEVENT
BEGIN:VEVENT
DTSTART;TZID=America/New_York:20250324T153000
DTEND;TZID=America/New_York:20250324T173000
DTSTAMP:20260421T073639
CREATED:20240809T153044Z
LAST-MODIFIED:20250219T201731Z
UID:10006896-1742830200-1742837400@marvinlibrary.org
SUMMARY:Teen Studio
DESCRIPTION:Teens in 7th – 12th grade are welcome to come in after school to work on homework\, play games\, get creative and crafty\, or just hang out with friends.
URL:https://marvinlibrary.org/event-2/teen-studio-2/2025-03-24/
LOCATION:Marvin Memorial Library\, 29 W. Whitney Ave.\, Shelby\, OH\, 44875
CATEGORIES:Teens
END:VEVENT
BEGIN:VEVENT
DTSTART;TZID=America/New_York:20250324T120000
DTEND;TZID=America/New_York:20250324T130000
DTSTAMP:20260421T073639
CREATED:20250213T212638Z
LAST-MODIFIED:20250213T212638Z
UID:10005999-1742817600-1742821200@marvinlibrary.org
SUMMARY:Brown Bag History Program - The Shelby Floods MPR
DESCRIPTION:Bring a brown bag lunch and join us in the Mulitpurpose Room for a presentation on the Shelby Floods.  You’re welcome to bring your own stories and photos to share.  We’ll proved drinks.
URL:https://marvinlibrary.org/event-2/brown-bag-history-program-the-shelby-floods-mpr/
LOCATION:Marvin Memorial Library\, 29 W. Whitney Ave.\, Shelby\, OH\, 44875
CATEGORIES:Community
END:VEVENT
BEGIN:VEVENT
DTSTART;TZID=America/New_York:20250322T103000
DTEND;TZID=America/New_York:20250322T123000
DTSTAMP:20260421T073639
CREATED:20250213T212111Z
LAST-MODIFIED:20250213T212111Z
UID:10005997-1742639400-1742646600@marvinlibrary.org
SUMMARY:Family Movie Day MPR
DESCRIPTION:We’ll be watching the movie Snow Dogs and eating Pizza!
URL:https://marvinlibrary.org/event-2/family-movie-day-mpr/
LOCATION:Marvin Memorial Library\, 29 W. Whitney Ave.\, Shelby\, OH\, 44875
CATEGORIES:Family
END:VEVENT
BEGIN:VEVENT
DTSTART;TZID=America/New_York:20250321T130000
DTEND;TZID=America/New_York:20250321T160000
DTSTAMP:20260421T073639
CREATED:20250213T172718Z
LAST-MODIFIED:20250213T172718Z
UID:10007174-1742562000-1742572800@marvinlibrary.org
SUMMARY:MPR in Use
DESCRIPTION:
URL:https://marvinlibrary.org/event-2/mpr-in-use-56/2025-03-21/
LOCATION:Marvin Memorial Library\, 29 W. Whitney Ave.\, Shelby\, OH\, 44875
CATEGORIES:Community
END:VEVENT
BEGIN:VEVENT
DTSTART;TZID=America/New_York:20250320T180000
DTEND;TZID=America/New_York:20250320T200000
DTSTAMP:20260421T073639
CREATED:20250124T195721Z
LAST-MODIFIED:20250213T211720Z
UID:10007153-1742493600-1742500800@marvinlibrary.org
SUMMARY:America's Boating Course *RR BAVIN
DESCRIPTION:Presented by the Mansfield Power Squadron this Spring Class will be on Thursdays at 6:00 PM from Fe. 20 through Mar. 20. Registration is required and there is a one time $40 book fee.  Register here.
URL:https://marvinlibrary.org/event-2/americas-boating-course-rr-mpr-2025-03-20/
LOCATION:Marvin Memorial Library\, 29 W. Whitney Ave.\, Shelby\, OH\, 44875
CATEGORIES:Adults
END:VEVENT
END:VCALENDAR