BEGIN:VCALENDAR
VERSION:2.0
PRODID:-//Marvin Memorial Library - ECPv6.15.18//NONSGML v1.0//EN
CALSCALE:GREGORIAN
METHOD:PUBLISH
X-WR-CALNAME:Marvin Memorial Library
X-ORIGINAL-URL:https://marvinlibrary.org
X-WR-CALDESC:Events for Marvin Memorial Library
REFRESH-INTERVAL;VALUE=DURATION:PT1H
X-Robots-Tag:noindex
X-PUBLISHED-TTL:PT1H
BEGIN:VTIMEZONE
TZID:America/New_York
BEGIN:DAYLIGHT
TZOFFSETFROM:-0500
TZOFFSETTO:-0400
TZNAME:EDT
DTSTART:20250309T070000
END:DAYLIGHT
BEGIN:STANDARD
TZOFFSETFROM:-0400
TZOFFSETTO:-0500
TZNAME:EST
DTSTART:20251102T060000
END:STANDARD
BEGIN:DAYLIGHT
TZOFFSETFROM:-0500
TZOFFSETTO:-0400
TZNAME:EDT
DTSTART:20260308T070000
END:DAYLIGHT
BEGIN:STANDARD
TZOFFSETFROM:-0400
TZOFFSETTO:-0500
TZNAME:EST
DTSTART:20261101T060000
END:STANDARD
BEGIN:DAYLIGHT
TZOFFSETFROM:-0500
TZOFFSETTO:-0400
TZNAME:EDT
DTSTART:20270314T070000
END:DAYLIGHT
BEGIN:STANDARD
TZOFFSETFROM:-0400
TZOFFSETTO:-0500
TZNAME:EST
DTSTART:20271107T060000
END:STANDARD
END:VTIMEZONE
BEGIN:VEVENT
DTSTART;TZID=America/New_York:20260528T130000
DTEND;TZID=America/New_York:20260528T140000
DTSTAMP:20260424T114821
CREATED:20250815T170842Z
LAST-MODIFIED:20260109T171205Z
UID:10007902-1779973200-1779976800@marvinlibrary.org
SUMMARY:Homeschool Builders' Club MPR
DESCRIPTION:Meets on the 4th Thursday of each month at 1:00pm in the Multipurpose Room. Challenges and Themes:\nSept. 25 Bridges\nOct. 23 Buildings\nJan. 29 Ohio Firsts\nFeb. 26 Inventions\nMar. 26 Numbers\nApr. 23 Transportation\nMay 28 Art
URL:https://marvinlibrary.org/event-2/homeschool-builders-club-mpr/2026-05-28/
LOCATION:Marvin Memorial Library\, 29 W. Whitney Ave.\, Shelby\, OH\, 44875
CATEGORIES:Family
END:VEVENT
BEGIN:VEVENT
DTSTART;TZID=America/New_York:20260528T130000
DTEND;TZID=America/New_York:20260528T143000
DTSTAMP:20260424T114821
CREATED:20251201T195536Z
LAST-MODIFIED:20251201T195536Z
UID:10008254-1779973200-1779978600@marvinlibrary.org
SUMMARY:Knotty Knitters BAVIN
DESCRIPTION:Knotty Knitters meet on the 2nd and 4th Thursday of each month at 1:00 in the Bavin Room.  If there\, is a 5th Thursday they meet on that day also.
URL:https://marvinlibrary.org/event-2/knotty-knitters-bavin-4/2026-05-28/
LOCATION:Marvin Memorial Library\, 29 W. Whitney Ave.\, Shelby\, OH\, 44875
CATEGORIES:Community
END:VEVENT
BEGIN:VEVENT
DTSTART;TZID=America/New_York:20260528T160000
DTEND;TZID=America/New_York:20260528T170000
DTSTAMP:20260424T114821
CREATED:20251029T175651Z
LAST-MODIFIED:20251029T175918Z
UID:10008216-1779984000-1779987600@marvinlibrary.org
SUMMARY:Friends of the Library Meeting MPR
DESCRIPTION:The Friends help fund author visits\, event prizes\, refreshments\, and so much more! \n\nBook sales are a big part of how the Friends raise money to help fund the different requests from the library. They also do other fundraising throughout the year such as Soup and Sandwich Night\, an O’Charley’s Pie Raffle\, and the Lobby Book Sales. \nDONATIONS \n\n\n\nWe Accept: Donations of new or gently used books\, DVDs\, CDs\, puzzles\, and magazines that are dated within the last 12 months.\nWe Do Not Accept: Encyclopedias\, dictionaries\, text books\, VHS tapes\, cassette tapes\, or any books that are old\, damaged\, or have mold.\nIf you have questions\, please call 419-347-5576 before bringing in any donations. \n\nHOW TO BE A FRIEND\n\n\n\n\n\nNew Friends are always welcome! \nTo become a Friend\, pick up a membership form in the lobby of MML. They will be located above the Lobby Sale bookshelves.\nIf you have any questions\, please see the front desk or contact a Friend!\nCURRENT OFFICERS:\nPresident – Chelsey Anderson\nVice President – Hilary Finnegan\nTreasurer – Debra Muntis\nSecretary – Mary Durkin
URL:https://marvinlibrary.org/event-2/friends-of-the-library-meeting-mpr-2/2026-05-28/
LOCATION:Marvin Memorial Library\, 29 W. Whitney Ave.\, Shelby\, OH\, 44875
CATEGORIES:Friends of the Library
END:VEVENT
BEGIN:VEVENT
DTSTART;TZID=America/New_York:20260528T173000
DTEND;TZID=America/New_York:20260528T193000
DTSTAMP:20260424T114821
CREATED:20260121T145702Z
LAST-MODIFIED:20260121T145702Z
UID:10008504-1779989400-1779996600@marvinlibrary.org
SUMMARY:Justice Mobile On Site
DESCRIPTION:Bring all your questions to Justice Mobile for free legal advise. They will be in the library parking lot from 5:30 to 7:30 PM on the following dates.\nFEB 26\nAPR 30\nMAY 28\nJUL 30 \n 
URL:https://marvinlibrary.org/event-2/justice-mobile-on-site-8/2026-05-28/
LOCATION:Marvin Memorial Library\, 29 W. Whitney Ave.\, Shelby\, OH\, 44875
CATEGORIES:Adults
END:VEVENT
BEGIN:VEVENT
DTSTART;TZID=America/New_York:20260528T173000
DTEND;TZID=America/New_York:20260528T193000
DTSTAMP:20260424T114821
CREATED:20260417T195815Z
LAST-MODIFIED:20260417T195815Z
UID:10008664-1779989400-1779996600@marvinlibrary.org
SUMMARY:Teen Game Night KERR
DESCRIPTION:Teens in 7t – 12th grade are welcome to join us to play a variety of card\, board\, and video games.
URL:https://marvinlibrary.org/event-2/teen-game-night-kerr/
LOCATION:Marvin Memorial Library\, 29 W. Whitney Ave.\, Shelby\, OH\, 44875
CATEGORIES:Teens
END:VEVENT
END:VCALENDAR