BEGIN:VCALENDAR
VERSION:2.0
PRODID:-//Marvin Memorial Library - ECPv6.15.18//NONSGML v1.0//EN
CALSCALE:GREGORIAN
METHOD:PUBLISH
X-WR-CALNAME:Marvin Memorial Library
X-ORIGINAL-URL:https://marvinlibrary.org
X-WR-CALDESC:Events for Marvin Memorial Library
REFRESH-INTERVAL;VALUE=DURATION:PT1H
X-Robots-Tag:noindex
X-PUBLISHED-TTL:PT1H
BEGIN:VTIMEZONE
TZID:America/New_York
BEGIN:DAYLIGHT
TZOFFSETFROM:-0500
TZOFFSETTO:-0400
TZNAME:EDT
DTSTART:20250309T070000
END:DAYLIGHT
BEGIN:STANDARD
TZOFFSETFROM:-0400
TZOFFSETTO:-0500
TZNAME:EST
DTSTART:20251102T060000
END:STANDARD
BEGIN:DAYLIGHT
TZOFFSETFROM:-0500
TZOFFSETTO:-0400
TZNAME:EDT
DTSTART:20260308T070000
END:DAYLIGHT
BEGIN:STANDARD
TZOFFSETFROM:-0400
TZOFFSETTO:-0500
TZNAME:EST
DTSTART:20261101T060000
END:STANDARD
BEGIN:DAYLIGHT
TZOFFSETFROM:-0500
TZOFFSETTO:-0400
TZNAME:EDT
DTSTART:20270314T070000
END:DAYLIGHT
BEGIN:STANDARD
TZOFFSETFROM:-0400
TZOFFSETTO:-0500
TZNAME:EST
DTSTART:20271107T060000
END:STANDARD
END:VTIMEZONE
BEGIN:VEVENT
DTSTART;TZID=America/New_York:20260413T100000
DTEND;TZID=America/New_York:20260413T110000
DTSTAMP:20260422T090223
CREATED:20250711T202045Z
LAST-MODIFIED:20260407T142000Z
UID:10006411-1776074400-1776078000@marvinlibrary.org
SUMMARY:Lap Sit Story Time for Ages 0-2 STR
DESCRIPTION:Join us in the Story Time Room at 10:00 am every Monday for Lap Sit Story Time.  For children ages 0-2 and their caregivers\, Lap Sit will focus on connecting with baby through lap time\, books\, songs\, bubbles\, and more!
URL:https://marvinlibrary.org/event-2/lap-sit-story-time-for-ages-0-2/2026-04-13/
LOCATION:Marvin Memorial Library\, 29 W. Whitney Ave.\, Shelby\, OH\, 44875
CATEGORIES:Pre-school
END:VEVENT
BEGIN:VEVENT
DTSTART;TZID=America/New_York:20260413T130000
DTEND;TZID=America/New_York:20260413T140000
DTSTAMP:20260422T090223
CREATED:20251201T205647Z
LAST-MODIFIED:20251201T205647Z
UID:10008301-1776085200-1776088800@marvinlibrary.org
SUMMARY:Cookbook Club MPR
DESCRIPTION:Bring a dish of food and a copy of the recipe to share at Cookbook Club on the 2nd Monday of each month at 1:00. \n2026 Themes: \nJAN 12 Family Favorites\nFEB 9 Soup\nMAR 9 Tailgate\nAPR 13 Easter\nMAY 11 International\nJUN 8 Retro\nJUL 13 Picnic\nAUG 10 Casserole\nSEP 14 Crockpot\nOCT 12 Salad\nNOV 9 Thanksgiving\nDEC 14 Christmas
URL:https://marvinlibrary.org/event-2/cookbook-club-mpr-2/2026-04-13/
LOCATION:Marvin Memorial Library\, 29 W. Whitney Ave.\, Shelby\, OH\, 44875
CATEGORIES:Adults
END:VEVENT
BEGIN:VEVENT
DTSTART;TZID=America/New_York:20260413T160000
DTEND;TZID=America/New_York:20260413T170000
DTSTAMP:20260422T090223
CREATED:20250812T155059Z
LAST-MODIFIED:20250821T195213Z
UID:10007799-1776096000-1776099600@marvinlibrary.org
SUMMARY:Study Buddies CD
DESCRIPTION:Need Homework help? Stop by the Children’s Dept on Mondays at 4:00 for peer tutoring.  Best suited for K-6th grade\, you can sign up to get help in specific areas or just stop by when help is needed.  Stop by the front desk or the Children’s Department Office to sign up to be a helper.
URL:https://marvinlibrary.org/event-2/study-buddies-cd/2026-04-13/
LOCATION:Marvin Memorial Library\, 29 W. Whitney Ave.\, Shelby\, OH\, 44875
CATEGORIES:Children
END:VEVENT
BEGIN:VEVENT
DTSTART;TZID=America/New_York:20260413T180000
DTEND;TZID=America/New_York:20260413T193000
DTSTAMP:20260422T090223
CREATED:20260331T132050Z
LAST-MODIFIED:20260331T132235Z
UID:10007943-1776103200-1776108600@marvinlibrary.org
SUMMARY:Kids Cook *RR MPR
DESCRIPTION:Register for April Kids Cook Program where we’ll be making sandwiches. You may also call 419-347-5576 to register your K-6th Grader. \nEach month we’ll cook a different item while learning basic cooking skills.
URL:https://marvinlibrary.org/event-2/kids-cook-rr-mpr-2/
LOCATION:Marvin Memorial Library\, 29 W. Whitney Ave.\, Shelby\, OH\, 44875
CATEGORIES:Children
END:VEVENT
END:VCALENDAR