BEGIN:VCALENDAR
VERSION:2.0
PRODID:-//Marvin Memorial Library - ECPv6.15.18//NONSGML v1.0//EN
CALSCALE:GREGORIAN
METHOD:PUBLISH
X-ORIGINAL-URL:https://marvinlibrary.org
X-WR-CALDESC:Events for Marvin Memorial Library
REFRESH-INTERVAL;VALUE=DURATION:PT1H
X-Robots-Tag:noindex
X-PUBLISHED-TTL:PT1H
BEGIN:VTIMEZONE
TZID:America/New_York
BEGIN:DAYLIGHT
TZOFFSETFROM:-0500
TZOFFSETTO:-0400
TZNAME:EDT
DTSTART:20250309T070000
END:DAYLIGHT
BEGIN:STANDARD
TZOFFSETFROM:-0400
TZOFFSETTO:-0500
TZNAME:EST
DTSTART:20251102T060000
END:STANDARD
BEGIN:DAYLIGHT
TZOFFSETFROM:-0500
TZOFFSETTO:-0400
TZNAME:EDT
DTSTART:20260308T070000
END:DAYLIGHT
BEGIN:STANDARD
TZOFFSETFROM:-0400
TZOFFSETTO:-0500
TZNAME:EST
DTSTART:20261101T060000
END:STANDARD
BEGIN:DAYLIGHT
TZOFFSETFROM:-0500
TZOFFSETTO:-0400
TZNAME:EDT
DTSTART:20270314T070000
END:DAYLIGHT
BEGIN:STANDARD
TZOFFSETFROM:-0400
TZOFFSETTO:-0500
TZNAME:EST
DTSTART:20271107T060000
END:STANDARD
END:VTIMEZONE
BEGIN:VEVENT
DTSTART;TZID=America/New_York:20260411T103000
DTEND;TZID=America/New_York:20260411T113000
DTSTAMP:20260424T073004
CREATED:20250813T203425Z
LAST-MODIFIED:20250813T203725Z
UID:10007874-1775903400-1775907000@marvinlibrary.org
SUMMARY:Family Story Time STR
DESCRIPTION:Meets in the Story Time Room where we’ll have stories\, flannels\, games and crafts focusing on early literacy skills.\nThe Overall Theme is: A Year in the Life\n\n       2025-2026 Dates and Monthly Themes\n\nSeptember 13th – Fall Fun\nOctober 11th – Let’s Make Friends\nNovember 8th – Let’s Get Dressed\nDecember 13th – Let’s Throw a Party\nJanuary 10th – Winter Fun\nFebruary 14th – Let’s Share the Love\nMarch 14th – Spring Fun\nApril 11th – Let’s Go\nMay 9th – Let’s Get Ready for Summer
URL:https://marvinlibrary.org/event-2/family-story-time-str/2026-04-11/
LOCATION:Marvin Memorial Library\, 29 W. Whitney Ave.\, Shelby\, OH\, 44875
CATEGORIES:Family
END:VEVENT
BEGIN:VEVENT
DTSTART;TZID=America/New_York:20260411T140000
DTEND;TZID=America/New_York:20260411T140000
DTSTAMP:20260424T073004
CREATED:20260305T211624Z
LAST-MODIFIED:20260305T211624Z
UID:10008586-1775916000-1775916000@marvinlibrary.org
SUMMARY:Reg. for April Kids Cook Closes
DESCRIPTION:
URL:https://marvinlibrary.org/event-2/reg-for-april-kids-cook-closes/
LOCATION:Marvin Memorial Library\, 29 W. Whitney Ave.\, Shelby\, OH\, 44875
CATEGORIES:Children
END:VEVENT
END:VCALENDAR