BEGIN:VCALENDAR
VERSION:2.0
PRODID:-//Marvin Memorial Library - ECPv6.15.18//NONSGML v1.0//EN
CALSCALE:GREGORIAN
METHOD:PUBLISH
X-WR-CALNAME:Marvin Memorial Library
X-ORIGINAL-URL:https://marvinlibrary.org
X-WR-CALDESC:Events for Marvin Memorial Library
REFRESH-INTERVAL;VALUE=DURATION:PT1H
X-Robots-Tag:noindex
X-PUBLISHED-TTL:PT1H
BEGIN:VTIMEZONE
TZID:America/New_York
BEGIN:DAYLIGHT
TZOFFSETFROM:-0500
TZOFFSETTO:-0400
TZNAME:EDT
DTSTART:20240310T070000
END:DAYLIGHT
BEGIN:STANDARD
TZOFFSETFROM:-0400
TZOFFSETTO:-0500
TZNAME:EST
DTSTART:20241103T060000
END:STANDARD
BEGIN:DAYLIGHT
TZOFFSETFROM:-0500
TZOFFSETTO:-0400
TZNAME:EDT
DTSTART:20250309T070000
END:DAYLIGHT
BEGIN:STANDARD
TZOFFSETFROM:-0400
TZOFFSETTO:-0500
TZNAME:EST
DTSTART:20251102T060000
END:STANDARD
BEGIN:DAYLIGHT
TZOFFSETFROM:-0500
TZOFFSETTO:-0400
TZNAME:EDT
DTSTART:20260308T070000
END:DAYLIGHT
BEGIN:STANDARD
TZOFFSETFROM:-0400
TZOFFSETTO:-0500
TZNAME:EST
DTSTART:20261101T060000
END:STANDARD
END:VTIMEZONE
BEGIN:VEVENT
DTSTART;TZID=America/New_York:20250520T090000
DTEND;TZID=America/New_York:20250520T120000
DTSTAMP:20260421T113440
CREATED:20241112T175218Z
LAST-MODIFIED:20250128T194545Z
UID:10007042-1747731600-1747742400@marvinlibrary.org
SUMMARY:MPR in Use
DESCRIPTION:
URL:https://marvinlibrary.org/event-2/bavin-in-use-75/2025-05-20/
LOCATION:Marvin Memorial Library\, 29 W. Whitney Ave.\, Shelby\, OH\, 44875
CATEGORIES:Community
END:VEVENT
BEGIN:VEVENT
DTSTART;TZID=America/New_York:20250520T100000
DTEND;TZID=America/New_York:20250520T130000
DTSTAMP:20260421T113440
CREATED:20250327T181438Z
LAST-MODIFIED:20250327T181501Z
UID:10006075-1747735200-1747746000@marvinlibrary.org
SUMMARY:School Visit to MML KERR
DESCRIPTION:
URL:https://marvinlibrary.org/event-2/school-visit-to-mml/
LOCATION:Marvin Memorial Library\, 29 W. Whitney Ave.\, Shelby\, OH\, 44875
CATEGORIES:Tweens
END:VEVENT
BEGIN:VEVENT
DTSTART;TZID=America/New_York:20250520T160000
DTEND;TZID=America/New_York:20250520T170000
DTSTAMP:20260421T113440
CREATED:20250731T135325Z
LAST-MODIFIED:20250731T135325Z
UID:10006800-1747756800-1747760400@marvinlibrary.org
SUMMARY:Builders Club
DESCRIPTION:Bring the whole family and join us twice a month to test your building skills. We’ll have monthly challenges and themes.
URL:https://marvinlibrary.org/event-2/builders-club-2/2025-05-20/
LOCATION:Marvin Memorial Library\, 29 W. Whitney Ave.\, Shelby\, OH\, 44875
CATEGORIES:Family
END:VEVENT
BEGIN:VEVENT
DTSTART;TZID=America/New_York:20250520T173000
DTEND;TZID=America/New_York:20250520T190000
DTSTAMP:20260421T113440
CREATED:20240813T171339Z
LAST-MODIFIED:20250520T195218Z
UID:10005730-1747762200-1747767600@marvinlibrary.org
SUMMARY:Teach Me Tuesday MPR
DESCRIPTION:Teens in 7th – 12th grade are welcome to join us on the 3rd Tuesday of each month for Teach Me Tuesday.  In September we will be making our own pizza.
URL:https://marvinlibrary.org/event-2/teach-me-tuesday-2025-05-20-2025-05-20/
LOCATION:OH
CATEGORIES:Teens
END:VEVENT
BEGIN:VEVENT
DTSTART;TZID=America/New_York:20250520T180000
DTEND;TZID=America/New_York:20250520T190000
DTSTAMP:20260421T113440
CREATED:20250220T175439Z
LAST-MODIFIED:20250314T195501Z
UID:10007219-1747764000-1747767600@marvinlibrary.org
SUMMARY:D.I.Y. Design Night - Terrariums KERR
DESCRIPTION:
URL:https://marvinlibrary.org/event-2/d-i-y-design-night-terrariums/
LOCATION:Marvin Memorial Library\, 29 W. Whitney Ave.\, Shelby\, OH\, 44875
CATEGORIES:Adults
END:VEVENT
END:VCALENDAR