BEGIN:VCALENDAR
VERSION:2.0
PRODID:-//Marvin Memorial Library - ECPv6.15.18//NONSGML v1.0//EN
CALSCALE:GREGORIAN
METHOD:PUBLISH
X-ORIGINAL-URL:https://marvinlibrary.org
X-WR-CALDESC:Events for Marvin Memorial Library
REFRESH-INTERVAL;VALUE=DURATION:PT1H
X-Robots-Tag:noindex
X-PUBLISHED-TTL:PT1H
BEGIN:VTIMEZONE
TZID:America/New_York
BEGIN:DAYLIGHT
TZOFFSETFROM:-0500
TZOFFSETTO:-0400
TZNAME:EDT
DTSTART:20240310T070000
END:DAYLIGHT
BEGIN:STANDARD
TZOFFSETFROM:-0400
TZOFFSETTO:-0500
TZNAME:EST
DTSTART:20241103T060000
END:STANDARD
BEGIN:DAYLIGHT
TZOFFSETFROM:-0500
TZOFFSETTO:-0400
TZNAME:EDT
DTSTART:20250309T070000
END:DAYLIGHT
BEGIN:STANDARD
TZOFFSETFROM:-0400
TZOFFSETTO:-0500
TZNAME:EST
DTSTART:20251102T060000
END:STANDARD
BEGIN:DAYLIGHT
TZOFFSETFROM:-0500
TZOFFSETTO:-0400
TZNAME:EDT
DTSTART:20260308T070000
END:DAYLIGHT
BEGIN:STANDARD
TZOFFSETFROM:-0400
TZOFFSETTO:-0500
TZNAME:EST
DTSTART:20261101T060000
END:STANDARD
END:VTIMEZONE
BEGIN:VEVENT
DTSTART;TZID=America/New_York:20250414T130000
DTEND;TZID=America/New_York:20250414T140000
DTSTAMP:20260423T161602
CREATED:20241118T222714Z
LAST-MODIFIED:20241118T224622Z
UID:10007106-1744635600-1744639200@marvinlibrary.org
SUMMARY:Cookbook Club MPR
DESCRIPTION:“Off the Shelf” Cookbook Club meets on the 2nd Monday of each month at 1:00 PM.  Bring a dish of themed food and the recipe to share. Join anytime!\n2025 Themes:\nJan 13 Soup Swap\nFeb 10: Breakfast\nMar 10: International\nApr 14: Easter\nMay 13: Mexican\nSept 8: Tailgate\nOct 13: Food from a Book\nNov 10: Thanksgiving\nDec 8: Holiday Party
URL:https://marvinlibrary.org/event-2/cookbook-club-mpr/2025-04-14/
LOCATION:Marvin Memorial Library\, 29 W. Whitney Ave.\, Shelby\, OH\, 44875
CATEGORIES:Adults
END:VEVENT
BEGIN:VEVENT
DTSTART;TZID=America/New_York:20250414T153000
DTEND;TZID=America/New_York:20250414T173000
DTSTAMP:20260423T161602
CREATED:20240809T153044Z
LAST-MODIFIED:20250219T184949Z
UID:10006901-1744644600-1744651800@marvinlibrary.org
SUMMARY:Teen Studio KERR
DESCRIPTION:Teens in 7th – 12th grade are welcome to come in after school to work on homework\, play games\, get creative and crafty\, or just hang out with friends.
URL:https://marvinlibrary.org/event-2/teen-studio-2-2025-04-14/
LOCATION:Marvin Memorial Library\, 29 W. Whitney Ave.\, Shelby\, OH\, 44875
CATEGORIES:Teens
END:VEVENT
BEGIN:VEVENT
DTSTART;TZID=America/New_York:20250414T180000
DTEND;TZID=America/New_York:20250414T190000
DTSTAMP:20260423T161602
CREATED:20240809T204018Z
LAST-MODIFIED:20240809T204634Z
UID:10006940-1744653600-1744657200@marvinlibrary.org
SUMMARY:Family Story Time
DESCRIPTION:Bring all of the kids and join us for stories\, games\, crafts\, and snacks.
URL:https://marvinlibrary.org/event-2/family-story-time-37/2025-04-14/
LOCATION:Marvin Memorial Library\, 29 W. Whitney Ave.\, Shelby\, OH\, 44875
CATEGORIES:Family
END:VEVENT
BEGIN:VEVENT
DTSTART;TZID=America/New_York:20250414T180000
DTEND;TZID=America/New_York:20250414T190000
DTSTAMP:20260423T161602
CREATED:20250305T202611Z
LAST-MODIFIED:20250305T202611Z
UID:10007226-1744653600-1744657200@marvinlibrary.org
SUMMARY:Coffee Tasting with The Blueberry Patch *RR MPR
DESCRIPTION:Lisa\, from the Blueberry Patch Restaurant will be joining us to talk about and let us sample different coffee flavors. Register by calling 419-347-5576.
URL:https://marvinlibrary.org/event-2/coffee-tasting-with-the-blueberry-patch-rr-mpr/
LOCATION:Marvin Memorial Library\, 29 W. Whitney Ave.\, Shelby\, OH\, 44875
CATEGORIES:Adults
END:VEVENT
END:VCALENDAR