BEGIN:VCALENDAR
VERSION:2.0
PRODID:-//Marvin Memorial Library - ECPv6.15.18//NONSGML v1.0//EN
CALSCALE:GREGORIAN
METHOD:PUBLISH
X-WR-CALNAME:Marvin Memorial Library
X-ORIGINAL-URL:https://marvinlibrary.org
X-WR-CALDESC:Events for Marvin Memorial Library
REFRESH-INTERVAL;VALUE=DURATION:PT1H
X-Robots-Tag:noindex
X-PUBLISHED-TTL:PT1H
BEGIN:VTIMEZONE
TZID:America/New_York
BEGIN:DAYLIGHT
TZOFFSETFROM:-0500
TZOFFSETTO:-0400
TZNAME:EDT
DTSTART:20240310T070000
END:DAYLIGHT
BEGIN:STANDARD
TZOFFSETFROM:-0400
TZOFFSETTO:-0500
TZNAME:EST
DTSTART:20241103T060000
END:STANDARD
BEGIN:DAYLIGHT
TZOFFSETFROM:-0500
TZOFFSETTO:-0400
TZNAME:EDT
DTSTART:20250309T070000
END:DAYLIGHT
BEGIN:STANDARD
TZOFFSETFROM:-0400
TZOFFSETTO:-0500
TZNAME:EST
DTSTART:20251102T060000
END:STANDARD
BEGIN:DAYLIGHT
TZOFFSETFROM:-0500
TZOFFSETTO:-0400
TZNAME:EDT
DTSTART:20260308T070000
END:DAYLIGHT
BEGIN:STANDARD
TZOFFSETFROM:-0400
TZOFFSETTO:-0500
TZNAME:EST
DTSTART:20261101T060000
END:STANDARD
END:VTIMEZONE
BEGIN:VEVENT
DTSTART;TZID=America/New_York:20250410T090000
DTEND;TZID=America/New_York:20250410T163000
DTSTAMP:20260419T083116
CREATED:20250305T195320Z
LAST-MODIFIED:20250305T195320Z
UID:10007223-1744275600-1744302600@marvinlibrary.org
SUMMARY:MPR in Use
DESCRIPTION:
URL:https://marvinlibrary.org/event-2/mpr-in-use-61/
LOCATION:Marvin Memorial Library\, 29 W. Whitney Ave.\, Shelby\, OH\, 44875
CATEGORIES:Community
END:VEVENT
BEGIN:VEVENT
DTSTART;TZID=America/New_York:20250410T100000
DTEND;TZID=America/New_York:20250410T123000
DTSTAMP:20260419T083116
CREATED:20250409T181846Z
LAST-MODIFIED:20250409T181846Z
UID:10007254-1744279200-1744288200@marvinlibrary.org
SUMMARY:BAVIN in Use
DESCRIPTION:
URL:https://marvinlibrary.org/event-2/bavin-in-use-100/
LOCATION:Marvin Memorial Library\, 29 W. Whitney Ave.\, Shelby\, OH\, 44875
CATEGORIES:Community
END:VEVENT
BEGIN:VEVENT
DTSTART;TZID=America/New_York:20250410T103000
DTEND;TZID=America/New_York:20250410T113000
DTSTAMP:20260419T083116
CREATED:20240809T144538Z
LAST-MODIFIED:20240809T201751Z
UID:10005619-1744281000-1744284600@marvinlibrary.org
SUMMARY:Story Time  for Ages 2-5
DESCRIPTION:
URL:https://marvinlibrary.org/event-2/story-time-for-ages-2-5-3/2025-04-10/
LOCATION:Marvin Memorial Library\, 29 W. Whitney Ave.\, Shelby\, OH\, 44875
CATEGORIES:Children
END:VEVENT
BEGIN:VEVENT
DTSTART;TZID=America/New_York:20250410T130000
DTEND;TZID=America/New_York:20250410T140000
DTSTAMP:20260419T083116
CREATED:20241118T214427Z
LAST-MODIFIED:20250305T194710Z
UID:10007101-1744290000-1744293600@marvinlibrary.org
SUMMARY:Knotty Knitters BAVIN
DESCRIPTION:
URL:https://marvinlibrary.org/event-2/knotty-knitters-mpr-3-2025-04-10/
LOCATION:Marvin Memorial Library\, 29 W. Whitney Ave.\, Shelby\, OH\, 44875
CATEGORIES:Community
END:VEVENT
BEGIN:VEVENT
DTSTART;TZID=America/New_York:20250410T153000
DTEND;TZID=America/New_York:20250410T173000
DTSTAMP:20260419T083116
CREATED:20240809T151915Z
LAST-MODIFIED:20240809T151915Z
UID:10006855-1744299000-1744306200@marvinlibrary.org
SUMMARY:Teen Studio KERR
DESCRIPTION:Teens in 7th – 12th grade are welcome to come in after school to work on homework\, play games\, get creative and crafty\, or just hang out with friends.
URL:https://marvinlibrary.org/event-2/teen-studio-kerr-3/2025-04-10/
LOCATION:Marvin Memorial Library\, 29 W. Whitney Ave.\, Shelby\, OH\, 44875
CATEGORIES:Teens
END:VEVENT
BEGIN:VEVENT
DTSTART;TZID=America/New_York:20250410T163000
DTEND;TZID=America/New_York:20250410T183000
DTSTAMP:20260419T083116
CREATED:20250305T194437Z
LAST-MODIFIED:20250305T194437Z
UID:10007220-1744302600-1744309800@marvinlibrary.org
SUMMARY:Friends of MML Soup & Sandwich Fundraiser MPR
DESCRIPTION:Free will donations will be accepted for soup\, sandwich\, drink\, and dessert. All proceeds go toward programs and events at the library.
URL:https://marvinlibrary.org/event-2/friends-of-mml-soup-sandwich-fundraiser-mpr/
LOCATION:Marvin Memorial Library\, 29 W. Whitney Ave.\, Shelby\, OH\, 44875
CATEGORIES:Friends of the Library
END:VEVENT
BEGIN:VEVENT
DTSTART;TZID=America/New_York:20250410T163000
DTEND;TZID=America/New_York:20250410T193000
DTSTAMP:20260419T083116
CREATED:20250219T164824Z
LAST-MODIFIED:20250305T195233Z
UID:10007185-1744302600-1744313400@marvinlibrary.org
SUMMARY:*BOOK SALE* MPR
DESCRIPTION:
URL:https://marvinlibrary.org/event-2/book-sale-mpr/2025-04-10/
LOCATION:Marvin Memorial Library\, 29 W. Whitney Ave.\, Shelby\, OH\, 44875
CATEGORIES:Friends of the Library
END:VEVENT
BEGIN:VEVENT
DTSTART;TZID=America/New_York:20250410T173000
DTEND;TZID=America/New_York:20250410T183000
DTSTAMP:20260419T083116
CREATED:20250305T195035Z
LAST-MODIFIED:20250314T205255Z
UID:10007222-1744306200-1744309800@marvinlibrary.org
SUMMARY:TAC Officers
DESCRIPTION:
URL:https://marvinlibrary.org/event-2/tac-officers-bavin/
LOCATION:Marvin Memorial Library\, 29 W. Whitney Ave.\, Shelby\, OH\, 44875
CATEGORIES:Teens
END:VEVENT
BEGIN:VEVENT
DTSTART;TZID=America/New_York:20250410T180000
DTEND;TZID=America/New_York:20250410T190000
DTSTAMP:20260419T083116
CREATED:20250108T001434Z
LAST-MODIFIED:20250305T194901Z
UID:10007169-1744308000-1744311600@marvinlibrary.org
SUMMARY:The Reading Room (Main Floor)
DESCRIPTION:The Reading Room Book Club (formerly Book Vault) meets at the library on the 2nd Thurs. of even numbered months at 6:00 PM. Join any time!\n2025 Themes are:\nFeb 13: Written by an African-American Author\nApril 10: A Color in the Title\nJune 12: Published the Year You Graduated High School\nAug 14: A Beach Read\nOct 9: Haunted Ohio\nDec 11: Winter/Holidays in other Cultures or Major Weather Events
URL:https://marvinlibrary.org/event-2/the-reading-room-book-club-mpr-2025-04-10-908/
LOCATION:Marvin Memorial Library\, 29 W. Whitney Ave.\, Shelby\, OH\, 44875
CATEGORIES:Adults
END:VEVENT
BEGIN:VEVENT
DTSTART;TZID=America/New_York:20250410T180000
DTEND;TZID=America/New_York:20250410T190000
DTSTAMP:20260419T083116
CREATED:20250305T195806Z
LAST-MODIFIED:20250305T195806Z
UID:10007224-1744308000-1744311600@marvinlibrary.org
SUMMARY:Line Dancing *RR KERR
DESCRIPTION:
URL:https://marvinlibrary.org/event-2/line-dancing-rr-kerr/
LOCATION:Marvin Memorial Library\, 29 W. Whitney Ave.\, Shelby\, OH\, 44875
CATEGORIES:Adults
END:VEVENT
END:VCALENDAR