BEGIN:VCALENDAR
VERSION:2.0
PRODID:-//Marvin Memorial Library - ECPv6.15.18//NONSGML v1.0//EN
CALSCALE:GREGORIAN
METHOD:PUBLISH
X-WR-CALNAME:Marvin Memorial Library
X-ORIGINAL-URL:https://marvinlibrary.org
X-WR-CALDESC:Events for Marvin Memorial Library
REFRESH-INTERVAL;VALUE=DURATION:PT1H
X-Robots-Tag:noindex
X-PUBLISHED-TTL:PT1H
BEGIN:VTIMEZONE
TZID:America/New_York
BEGIN:DAYLIGHT
TZOFFSETFROM:-0500
TZOFFSETTO:-0400
TZNAME:EDT
DTSTART:20240310T070000
END:DAYLIGHT
BEGIN:STANDARD
TZOFFSETFROM:-0400
TZOFFSETTO:-0500
TZNAME:EST
DTSTART:20241103T060000
END:STANDARD
BEGIN:DAYLIGHT
TZOFFSETFROM:-0500
TZOFFSETTO:-0400
TZNAME:EDT
DTSTART:20250309T070000
END:DAYLIGHT
BEGIN:STANDARD
TZOFFSETFROM:-0400
TZOFFSETTO:-0500
TZNAME:EST
DTSTART:20251102T060000
END:STANDARD
BEGIN:DAYLIGHT
TZOFFSETFROM:-0500
TZOFFSETTO:-0400
TZNAME:EDT
DTSTART:20260308T070000
END:DAYLIGHT
BEGIN:STANDARD
TZOFFSETFROM:-0400
TZOFFSETTO:-0500
TZNAME:EST
DTSTART:20261101T060000
END:STANDARD
END:VTIMEZONE
BEGIN:VEVENT
DTSTART;TZID=America/New_York:20250403T103000
DTEND;TZID=America/New_York:20250403T113000
DTSTAMP:20260423T054432
CREATED:20240809T144538Z
LAST-MODIFIED:20240809T201751Z
UID:10005617-1743676200-1743679800@marvinlibrary.org
SUMMARY:Story Time  for Ages 2-5
DESCRIPTION:
URL:https://marvinlibrary.org/event-2/story-time-for-ages-2-5-3/2025-04-03/
LOCATION:Marvin Memorial Library\, 29 W. Whitney Ave.\, Shelby\, OH\, 44875
CATEGORIES:Children
END:VEVENT
BEGIN:VEVENT
DTSTART;TZID=America/New_York:20250403T110000
DTEND;TZID=America/New_York:20250403T120000
DTSTAMP:20260423T054432
CREATED:20250219T161545Z
LAST-MODIFIED:20250219T161603Z
UID:10007183-1743678000-1743681600@marvinlibrary.org
SUMMARY:Coffee with a Bereavement Counselor MPR
DESCRIPTION:The process of grief can be a confusing time; the goal of bereavement therapy is to help you cope and make sense of it all. Join us in the Multipurpose Room to chat with and learn about the role a Bereavement Counselor plays in helping families heal.
URL:https://marvinlibrary.org/event-2/coffee-with-a-bereavement-counselor/
LOCATION:Marvin Memorial Library\, 29 W. Whitney Ave.\, Shelby\, OH\, 44875
CATEGORIES:Adults
END:VEVENT
BEGIN:VEVENT
DTSTART;TZID=America/New_York:20250403T153000
DTEND;TZID=America/New_York:20250403T173000
DTSTAMP:20260423T054432
CREATED:20240809T151915Z
LAST-MODIFIED:20240809T151915Z
UID:10006854-1743694200-1743701400@marvinlibrary.org
SUMMARY:Teen Studio KERR
DESCRIPTION:Teens in 7th – 12th grade are welcome to come in after school to work on homework\, play games\, get creative and crafty\, or just hang out with friends.
URL:https://marvinlibrary.org/event-2/teen-studio-kerr-3/2025-04-03/
LOCATION:Marvin Memorial Library\, 29 W. Whitney Ave.\, Shelby\, OH\, 44875
CATEGORIES:Teens
END:VEVENT
BEGIN:VEVENT
DTSTART;TZID=America/New_York:20250403T163000
DTEND;TZID=America/New_York:20250403T183000
DTSTAMP:20260423T054432
CREATED:20250314T184838Z
LAST-MODIFIED:20250314T184838Z
UID:10007240-1743697800-1743705000@marvinlibrary.org
SUMMARY:BAVIN in Use
DESCRIPTION:
URL:https://marvinlibrary.org/event-2/bavin-in-use-96/
LOCATION:Marvin Memorial Library\, 29 W. Whitney Ave.\, Shelby\, OH\, 44875
CATEGORIES:Community
END:VEVENT
BEGIN:VEVENT
DTSTART;TZID=America/New_York:20250403T170000
DTEND;TZID=America/New_York:20250403T200000
DTSTAMP:20260423T054432
CREATED:20250317T185751Z
LAST-MODIFIED:20250317T190121Z
UID:10006063-1743699600-1743710400@marvinlibrary.org
SUMMARY:MCS Adult Education Class MPR
DESCRIPTION:The Marvin Memorial Library is pleased to offer FREE in person Adult Basic Adult Education Courses through Mansfield City Schools Adult Education Program. This free education program is graciously funded by an Ohio Department of Education Aspire grant.\n\n\nEarn a GED\,\n\n\nGain skills to advance employment\n\n\nprepare for the ASVAB\n\n\nPrepare for college entrance exams\n\n\nComplete a Career Tech Program (Madison\, Pioneer\, Ashland W. Holmes)\n\n\nComplete the adult diploma program and get a credential to work in a chosen field\nMansfield City Schools Adult Education serves Richland\, Ashland\, and Crawford Counties. Classes begin on April 1st.\nPlease register by visiting https://www.mansfieldadulteducation.com/ . For more information\, please call 419.525.6380.
URL:https://marvinlibrary.org/event-2/mcs-adult-education-classes-mpr/2025-04-03/
LOCATION:Marvin Memorial Library\, 29 W. Whitney Ave.\, Shelby\, OH\, 44875
CATEGORIES:Adults
END:VEVENT
BEGIN:VEVENT
DTSTART;TZID=America/New_York:20250403T173000
DTEND;TZID=America/New_York:20250403T183000
DTSTAMP:20260423T054432
CREATED:20250129T153632Z
LAST-MODIFIED:20250129T153632Z
UID:10007163-1743701400-1743705000@marvinlibrary.org
SUMMARY:T.A.C. KERR
DESCRIPTION:TAC meets on the 1st and 3rd Thursday of each month at 5:30.
URL:https://marvinlibrary.org/event-2/t-a-c-kerr-2/2025-04-03/
LOCATION:Marvin Memorial Library\, 29 W. Whitney Ave.\, Shelby\, OH\, 44875
CATEGORIES:Teens
END:VEVENT
END:VCALENDAR